BEGIN:VCALENDAR
VERSION:2.0
PRODID:-//872 Kiwanis Kanata Royal Canadian Air Cadet Squadron - ECPv6.15.20//NONSGML v1.0//EN
CALSCALE:GREGORIAN
METHOD:PUBLISH
X-WR-CALNAME:872 Kiwanis Kanata Royal Canadian Air Cadet Squadron
X-ORIGINAL-URL:https://872rcacs.ca
X-WR-CALDESC:Events for 872 Kiwanis Kanata Royal Canadian Air Cadet Squadron
REFRESH-INTERVAL;VALUE=DURATION:PT1H
X-Robots-Tag:noindex
X-PUBLISHED-TTL:PT1H
BEGIN:VTIMEZONE
TZID:America/Toronto
BEGIN:DAYLIGHT
TZOFFSETFROM:-0500
TZOFFSETTO:-0400
TZNAME:EDT
DTSTART:20240310T070000
END:DAYLIGHT
BEGIN:STANDARD
TZOFFSETFROM:-0400
TZOFFSETTO:-0500
TZNAME:EST
DTSTART:20241103T060000
END:STANDARD
BEGIN:DAYLIGHT
TZOFFSETFROM:-0500
TZOFFSETTO:-0400
TZNAME:EDT
DTSTART:20250309T070000
END:DAYLIGHT
BEGIN:STANDARD
TZOFFSETFROM:-0400
TZOFFSETTO:-0500
TZNAME:EST
DTSTART:20251102T060000
END:STANDARD
BEGIN:DAYLIGHT
TZOFFSETFROM:-0500
TZOFFSETTO:-0400
TZNAME:EDT
DTSTART:20260308T070000
END:DAYLIGHT
BEGIN:STANDARD
TZOFFSETFROM:-0400
TZOFFSETTO:-0500
TZNAME:EST
DTSTART:20261101T060000
END:STANDARD
BEGIN:DAYLIGHT
TZOFFSETFROM:-0500
TZOFFSETTO:-0400
TZNAME:EDT
DTSTART:20270314T070000
END:DAYLIGHT
BEGIN:STANDARD
TZOFFSETFROM:-0400
TZOFFSETTO:-0500
TZNAME:EST
DTSTART:20271107T060000
END:STANDARD
END:VTIMEZONE
BEGIN:VEVENT
DTSTART;TZID=America/Toronto:20260330T190000
DTEND;TZID=America/Toronto:20260330T210000
DTSTAMP:20260423T133732
CREATED:20260328T025709Z
LAST-MODIFIED:20260328T030730Z
UID:10001403-1774897200-1774904400@872rcacs.ca
SUMMARY:872 Marksmanship
DESCRIPTION:872 Marksmanship Event\n\nThis event is only open to current marksmanship team members.\n\n\n\n\n\n\n	Related
URL:https://872rcacs.ca/event/cadet-training-event-2-2/
LOCATION:Maurice-Lapointe Elementary Public School\, 17 Bridgestone Dr\, Kanata\, ON\, K2M 0E9\, Canada
END:VEVENT
BEGIN:VEVENT
DTSTART;TZID=America/Toronto:20250922T190000
DTEND;TZID=America/Toronto:20250922T190000
DTSTAMP:20260423T133732
CREATED:20250710T235631Z
LAST-MODIFIED:20250921T023550Z
UID:10000339-1758567600-1758567600@872rcacs.ca
SUMMARY:Parents Information Night
DESCRIPTION:  \n\n  \nThis information session provides parents and guardians with an overview of the cadet program\, an opportunity to meet our staff and volunteers\, and a chance to ask questions regarding training\, expectations and upcoming events. This is a great opportunity to get involved and stay informed about your cadet’s experience. \nPlease check back for details. \n\n\n	Related
URL:https://872rcacs.ca/event/parents-night/
LOCATION:Maurice-Lapointe Elementary Public School\, 17 Bridgestone Dr\, Kanata\, ON\, K2M 0E9\, Canada
CATEGORIES:SSC
ORGANIZER;CN="Susan Trimble%2C Vice Chairperson":MAILTO:872.chairperson@cadetsair.ca
END:VEVENT
END:VCALENDAR