BEGIN:VCALENDAR
VERSION:2.0
PRODID:-//872 Kiwanis Kanata Royal Canadian Air Cadet Squadron - ECPv6.15.20//NONSGML v1.0//EN
CALSCALE:GREGORIAN
METHOD:PUBLISH
X-ORIGINAL-URL:https://872rcacs.ca
X-WR-CALDESC:Events for 872 Kiwanis Kanata Royal Canadian Air Cadet Squadron
REFRESH-INTERVAL;VALUE=DURATION:PT1H
X-Robots-Tag:noindex
X-PUBLISHED-TTL:PT1H
BEGIN:VTIMEZONE
TZID:America/Toronto
BEGIN:DAYLIGHT
TZOFFSETFROM:-0500
TZOFFSETTO:-0400
TZNAME:EDT
DTSTART:20250309T070000
END:DAYLIGHT
BEGIN:STANDARD
TZOFFSETFROM:-0400
TZOFFSETTO:-0500
TZNAME:EST
DTSTART:20251102T060000
END:STANDARD
BEGIN:DAYLIGHT
TZOFFSETFROM:-0500
TZOFFSETTO:-0400
TZNAME:EDT
DTSTART:20260308T070000
END:DAYLIGHT
BEGIN:STANDARD
TZOFFSETFROM:-0400
TZOFFSETTO:-0500
TZNAME:EST
DTSTART:20261101T060000
END:STANDARD
BEGIN:DAYLIGHT
TZOFFSETFROM:-0500
TZOFFSETTO:-0400
TZNAME:EDT
DTSTART:20270314T070000
END:DAYLIGHT
BEGIN:STANDARD
TZOFFSETFROM:-0400
TZOFFSETTO:-0500
TZNAME:EST
DTSTART:20271107T060000
END:STANDARD
END:VTIMEZONE
BEGIN:VEVENT
DTSTART;TZID=America/Toronto:20260228T130000
DTEND;TZID=America/Toronto:20260228T200000
DTSTAMP:20260423T140250
CREATED:20260201T030855Z
LAST-MODIFIED:20260215T052546Z
UID:10001336-1772283600-1772308800@872rcacs.ca
SUMMARY:872's Winter Activity and Aviators Dinner Day
DESCRIPTION:  \n\n\n\n  \nSign up on Teams! \n872 staff have  planned a day that will begin with a morning of fun outdoor activities\, followed by an Aviator’s Dinner\, a special dinner served by officers in recognition of our cadets hard work. \n\n\n\n	Related
URL:https://872rcacs.ca/event/872-mess-dinner-day-tentative/
LOCATION:Hylands\, 2101 Alert Rd\, Gloucester\, ON K1V 1J9\, ON\, K1V 1J9\, Canada
END:VEVENT
END:VCALENDAR