BEGIN:VCALENDAR
VERSION:2.0
PRODID:-//872 Kiwanis Kanata Royal Canadian Air Cadet Squadron - ECPv6.15.20//NONSGML v1.0//EN
CALSCALE:GREGORIAN
METHOD:PUBLISH
X-WR-CALNAME:872 Kiwanis Kanata Royal Canadian Air Cadet Squadron
X-ORIGINAL-URL:https://872rcacs.ca
X-WR-CALDESC:Events for 872 Kiwanis Kanata Royal Canadian Air Cadet Squadron
REFRESH-INTERVAL;VALUE=DURATION:PT1H
X-Robots-Tag:noindex
X-PUBLISHED-TTL:PT1H
BEGIN:VTIMEZONE
TZID:America/Toronto
BEGIN:DAYLIGHT
TZOFFSETFROM:-0500
TZOFFSETTO:-0400
TZNAME:EDT
DTSTART:20240310T070000
END:DAYLIGHT
BEGIN:STANDARD
TZOFFSETFROM:-0400
TZOFFSETTO:-0500
TZNAME:EST
DTSTART:20241103T060000
END:STANDARD
BEGIN:DAYLIGHT
TZOFFSETFROM:-0500
TZOFFSETTO:-0400
TZNAME:EDT
DTSTART:20250309T070000
END:DAYLIGHT
BEGIN:STANDARD
TZOFFSETFROM:-0400
TZOFFSETTO:-0500
TZNAME:EST
DTSTART:20251102T060000
END:STANDARD
BEGIN:DAYLIGHT
TZOFFSETFROM:-0500
TZOFFSETTO:-0400
TZNAME:EDT
DTSTART:20260308T070000
END:DAYLIGHT
BEGIN:STANDARD
TZOFFSETFROM:-0400
TZOFFSETTO:-0500
TZNAME:EST
DTSTART:20261101T060000
END:STANDARD
BEGIN:DAYLIGHT
TZOFFSETFROM:-0500
TZOFFSETTO:-0400
TZNAME:EDT
DTSTART:20270314T070000
END:DAYLIGHT
BEGIN:STANDARD
TZOFFSETFROM:-0400
TZOFFSETTO:-0500
TZNAME:EST
DTSTART:20271107T060000
END:STANDARD
END:VTIMEZONE
BEGIN:VEVENT
DTSTART;TZID=America/Toronto:20260307T173000
DTEND;TZID=America/Toronto:20260307T203000
DTSTAMP:20260423T153409
CREATED:20251019T030515Z
LAST-MODIFIED:20251019T032809Z
UID:10000364-1772904600-1772915400@872rcacs.ca
SUMMARY:Trivia Night for Parents and Guardians and Community Members
DESCRIPTION:Trivia Night 2026 \nJoin the  872 Squadron Sponsoring Committee for a Night of Fun~ \nParents\, guardians\, and community members are all invited to an evening of laughs\, friendly competition\, and great company at our 872 Trivia Night! Meet new people and support our squadron in a relaxed social setting.  \nPlease note: Cadets are not permitted to attend this event. Please bring your friends\, family and join the fun! \n\nContact SSC for details and to register for this great event! \n\n\n	Related
URL:https://872rcacs.ca/event/trivia-night-for-parents-and-guardians-and-community-members/
LOCATION:Buster’s Bar and Grill\, 420 Hazeldean Rd\, Kanata\, Ontario\, K2L 4B2\, Canada
CATEGORIES:SSC
END:VEVENT
BEGIN:VEVENT
DTSTART;TZID=America/Toronto:20250813T183000
DTEND;TZID=America/Toronto:20250813T210000
DTSTAMP:20260423T153409
CREATED:20250710T155428Z
LAST-MODIFIED:20250810T055953Z
UID:10000231-1755109800-1755118800@872rcacs.ca
SUMMARY:SSC Budget Meeting
DESCRIPTION:  \nA focused session where the Sponsoring Committee reviews and approves the annual budget\, discusses funding priorities\, and plans financial support for squadron activities. \n\n\n	Related
URL:https://872rcacs.ca/event/ssc-budget-meeting/
LOCATION:Buster’s Bar and Grill\, 420 Hazeldean Rd\, Kanata\, Ontario\, K2L 4B2\, Canada
CATEGORIES:SSC
ORGANIZER;CN="Susan Trimble%2C Vice Chairperson":MAILTO:872.chairperson@cadetsair.ca
END:VEVENT
BEGIN:VEVENT
DTSTART;TZID=America/Toronto:20250322T180000
DTEND;TZID=America/Toronto:20250322T210000
DTSTAMP:20260423T153409
CREATED:20250214T025650Z
LAST-MODIFIED:20250214T025650Z
UID:10000177-1742666400-1742677200@872rcacs.ca
SUMMARY:872 Squadron Sponsoring Committee Trivia Fundraiser
DESCRIPTION:PARENTS TRIVIA NIGHT \n\nThe Popular and Funnest Night on the Squadron Calendar is  Back! \nThis year’s Parent Trivia Night will take place at Buster’s Bar & Grill\, (420 Hazeldean Rd.\, Kanata) on Saturday\, March 22. Tickets are $15 per person / $90 for a table of six. Trivia starts at 6:00 pm and goes until 9:00\, but you can choose to join us for dinner at 5:30 (not included in the ticket price). \nOrder forms are going home with cadets on February 5 and are due back by March 5. If you don’t get one\, the form is available here: Trivia Night Form 2025. Come out and join us – it’s a lot of fun! \n\n\n	Related
URL:https://872rcacs.ca/event/872-squadron-sponsoring-committee-trivia-fundraiser/
LOCATION:Buster’s Bar and Grill\, 420 Hazeldean Rd\, Kanata\, Ontario\, K2L 4B2\, Canada
ORGANIZER;CN="Susan Trimble%2C Vice Chairperson":MAILTO:872.chairperson@cadetsair.ca
END:VEVENT
END:VCALENDAR