BEGIN:VCALENDAR
VERSION:2.0
PRODID:-//872 Kiwanis Kanata Royal Canadian Air Cadet Squadron - ECPv6.15.20//NONSGML v1.0//EN
CALSCALE:GREGORIAN
METHOD:PUBLISH
X-WR-CALNAME:872 Kiwanis Kanata Royal Canadian Air Cadet Squadron
X-ORIGINAL-URL:https://872rcacs.ca
X-WR-CALDESC:Events for 872 Kiwanis Kanata Royal Canadian Air Cadet Squadron
REFRESH-INTERVAL;VALUE=DURATION:PT1H
X-Robots-Tag:noindex
X-PUBLISHED-TTL:PT1H
BEGIN:VTIMEZONE
TZID:America/Toronto
BEGIN:DAYLIGHT
TZOFFSETFROM:-0500
TZOFFSETTO:-0400
TZNAME:EDT
DTSTART:20230312T070000
END:DAYLIGHT
BEGIN:STANDARD
TZOFFSETFROM:-0400
TZOFFSETTO:-0500
TZNAME:EST
DTSTART:20231105T060000
END:STANDARD
BEGIN:DAYLIGHT
TZOFFSETFROM:-0500
TZOFFSETTO:-0400
TZNAME:EDT
DTSTART:20240310T070000
END:DAYLIGHT
BEGIN:STANDARD
TZOFFSETFROM:-0400
TZOFFSETTO:-0500
TZNAME:EST
DTSTART:20241103T060000
END:STANDARD
BEGIN:DAYLIGHT
TZOFFSETFROM:-0500
TZOFFSETTO:-0400
TZNAME:EDT
DTSTART:20250309T070000
END:DAYLIGHT
BEGIN:STANDARD
TZOFFSETFROM:-0400
TZOFFSETTO:-0500
TZNAME:EST
DTSTART:20251102T060000
END:STANDARD
END:VTIMEZONE
BEGIN:VEVENT
DTSTART;TZID=America/Toronto:20241020T093000
DTEND;TZID=America/Toronto:20241020T140000
DTSTAMP:20260423T185609
CREATED:20240928T002219Z
LAST-MODIFIED:20241015T124442Z
UID:10000040-1729416600-1729432800@872rcacs.ca
SUMMARY:Annual Ottawa Squadrons Walkathon
DESCRIPTION:Walk along fellow squadrons and raise funds to help cadets fly!  \nJoin fellow cadets from 51\, 75\, 211 and 706 squadrons for the 10K walk-a-thon taking place Sunday\, October 20 at the Terry Fox Training Facility at 2690 Riverside Dr. All proceeds help raise funds toward Air Cadet special activities\, such as power familiarization flights and so much more. \n9:30am check-in \n10:00am walk starts \nThere will be a BBQ afterwards\, all proceeds going towards our fundraiser. \nReach out to family and friends for pledges! Use the QR code or send them the url to help them pledge donations toward your goal. \nIf you have questions\, please email our chair\, Susan\, at: 872.chairperson@cadetsair.ca \nWe hope to see you there! \nSquadron Sponsoring Committee \n\n\n\n	Related
URL:https://872rcacs.ca/event/annual-ottawa-squadrons-walkathon/
LOCATION:Terry Fox Athletic Facility\, 2960 Riverside Drive\, Ottawa\, Ontario\, K1V 8N4\, Canada
ATTACH;FMTTYPE=image/jpeg:https://872rcacs.ca/wp-content/uploads/2024/09/Walk-a-thon-Flyer.jpg
ORGANIZER;CN="Susan Trimble%2C Vice Chairperson":MAILTO:872.chairperson@cadetsair.ca
END:VEVENT
BEGIN:VEVENT
DTSTART;TZID=America/Toronto:20241009T184500
DTEND;TZID=America/Toronto:20241009T200000
DTSTAMP:20260423T185609
CREATED:20240928T003422Z
LAST-MODIFIED:20240928T003422Z
UID:10000042-1728499500-1728504000@872rcacs.ca
SUMMARY:872 Sponsoring Committee Monthly Meeting
DESCRIPTION:Monthly Committee Meeting. All parents are welcome! \nRoom to be announced\, please check the white board at arrival. \n\n\n	Related
URL:https://872rcacs.ca/event/872-sponsoring-committee-monthly-meeting/
LOCATION:A.Y. Jackson High School\, 150 Abbeyhill Dr\, Kanata\, Ontario\, K2L 1H7\, Canada
ORGANIZER;CN="Susan Trimble%2C Vice Chairperson":MAILTO:872.chairperson@cadetsair.ca
END:VEVENT
END:VCALENDAR