BEGIN:VCALENDAR
VERSION:2.0
PRODID:-//872 Kiwanis Kanata Royal Canadian Air Cadet Squadron - ECPv6.15.20//NONSGML v1.0//EN
CALSCALE:GREGORIAN
METHOD:PUBLISH
X-ORIGINAL-URL:https://872rcacs.ca
X-WR-CALDESC:Events for 872 Kiwanis Kanata Royal Canadian Air Cadet Squadron
REFRESH-INTERVAL;VALUE=DURATION:PT1H
X-Robots-Tag:noindex
X-PUBLISHED-TTL:PT1H
BEGIN:VTIMEZONE
TZID:America/Toronto
BEGIN:DAYLIGHT
TZOFFSETFROM:-0500
TZOFFSETTO:-0400
TZNAME:EDT
DTSTART:20240310T070000
END:DAYLIGHT
BEGIN:STANDARD
TZOFFSETFROM:-0400
TZOFFSETTO:-0500
TZNAME:EST
DTSTART:20241103T060000
END:STANDARD
BEGIN:DAYLIGHT
TZOFFSETFROM:-0500
TZOFFSETTO:-0400
TZNAME:EDT
DTSTART:20250309T070000
END:DAYLIGHT
BEGIN:STANDARD
TZOFFSETFROM:-0400
TZOFFSETTO:-0500
TZNAME:EST
DTSTART:20251102T060000
END:STANDARD
BEGIN:DAYLIGHT
TZOFFSETFROM:-0500
TZOFFSETTO:-0400
TZNAME:EDT
DTSTART:20260308T070000
END:DAYLIGHT
BEGIN:STANDARD
TZOFFSETFROM:-0400
TZOFFSETTO:-0500
TZNAME:EST
DTSTART:20261101T060000
END:STANDARD
END:VTIMEZONE
BEGIN:VEVENT
DTSTART;TZID=America/Toronto:20251003T183000
DTEND;TZID=America/Toronto:20251003T183000
DTSTAMP:20260423T183024
CREATED:20251003T021149Z
LAST-MODIFIED:20251003T022019Z
UID:10000363-1759516200-1759516200@872rcacs.ca
SUMMARY:Supply Night
DESCRIPTION:  \n \n\nSupply is open to cadets level 2-4 who require assistance with their uniforms (e.g.\, acquiring uniform parts\, exchanging or upsizing parts\, etc.). \nPlease remember to return any unused uniform parts.  \nQuestions or comments\, please contact Supply through Teams \n  \nDetails and updates will be posted on Teams. \n\n\n\n	Related
URL:https://872rcacs.ca/event/supply-night-3/
LOCATION:DYMON Storage Kanata\, 110 Didsbury Rd.\, Kanata\, Ontario\, K2T 0C2\, Canada
END:VEVENT
END:VCALENDAR