BEGIN:VCALENDAR
VERSION:2.0
PRODID:-//872 Kiwanis Kanata Royal Canadian Air Cadet Squadron - ECPv6.15.20//NONSGML v1.0//EN
CALSCALE:GREGORIAN
METHOD:PUBLISH
X-ORIGINAL-URL:https://872rcacs.ca
X-WR-CALDESC:Events for 872 Kiwanis Kanata Royal Canadian Air Cadet Squadron
REFRESH-INTERVAL;VALUE=DURATION:PT1H
X-Robots-Tag:noindex
X-PUBLISHED-TTL:PT1H
BEGIN:VTIMEZONE
TZID:America/Toronto
BEGIN:DAYLIGHT
TZOFFSETFROM:-0500
TZOFFSETTO:-0400
TZNAME:EDT
DTSTART:20250309T070000
END:DAYLIGHT
BEGIN:STANDARD
TZOFFSETFROM:-0400
TZOFFSETTO:-0500
TZNAME:EST
DTSTART:20251102T060000
END:STANDARD
BEGIN:DAYLIGHT
TZOFFSETFROM:-0500
TZOFFSETTO:-0400
TZNAME:EDT
DTSTART:20260308T070000
END:DAYLIGHT
BEGIN:STANDARD
TZOFFSETFROM:-0400
TZOFFSETTO:-0500
TZNAME:EST
DTSTART:20261101T060000
END:STANDARD
BEGIN:DAYLIGHT
TZOFFSETFROM:-0500
TZOFFSETTO:-0400
TZNAME:EDT
DTSTART:20270314T070000
END:DAYLIGHT
BEGIN:STANDARD
TZOFFSETFROM:-0400
TZOFFSETTO:-0500
TZNAME:EST
DTSTART:20271107T060000
END:STANDARD
END:VTIMEZONE
BEGIN:VEVENT
DTSTART;VALUE=DATE:20260518
DTEND;VALUE=DATE:20260519
DTSTAMP:20260423T133323
CREATED:20250711T001541Z
LAST-MODIFIED:20250711T001541Z
UID:10000342-1779062400-1779148799@872rcacs.ca
SUMMARY:Victoria Day
DESCRIPTION:No Class
URL:https://872rcacs.ca/event/victoria-day/
LOCATION:ON
END:VEVENT
BEGIN:VEVENT
DTSTART;TZID=America/Toronto:20260519T190000
DTEND;TZID=America/Toronto:20260519T210000
DTSTAMP:20260423T133323
CREATED:20260324T035038Z
LAST-MODIFIED:20260324T041725Z
UID:10001472-1779217200-1779224400@872rcacs.ca
SUMMARY:872 Ceremonial Drill and Flag Party Practice
DESCRIPTION:  \n \n  \nAll cadets interested in joining the Drill Team are invited to attend weekly practices every Tuesday. \nDetails and updates will be posted on Teams. \n 
URL:https://872rcacs.ca/event/872-ceremonial-drill-and-flag-party-practice-7/2026-05-19/
LOCATION:Maplewood Secondary School\, 700 Cope Dr\, Ottawa\, Ontario\, K2S 2P8
CATEGORIES:DRILL
END:VEVENT
BEGIN:VEVENT
DTSTART;TZID=America/Toronto:20260520T183000
DTEND;TZID=America/Toronto:20260520T211500
DTSTAMP:20260423T133323
CREATED:20260125T001236Z
LAST-MODIFIED:20260125T010433Z
UID:10000910-1779301800-1779311700@872rcacs.ca
SUMMARY:872 Training Night
DESCRIPTION:  \nRegular training night for all cadets. \nDetails and updates will be posted on Teams. \nOrder of Dress: C5
URL:https://872rcacs.ca/event/872-training-night-36/2026-05-20/
LOCATION:Johnny Leroux (Stittsville) Arena\, 10 Warner-Colpitts Lane\, Stittsville\, Ontario\, K2H 6N4\, Canada
CATEGORIES:TRAINING NIGHT
END:VEVENT
BEGIN:VEVENT
DTSTART;TZID=America/Toronto:20260521T190000
DTEND;TZID=America/Toronto:20260521T210000
DTSTAMP:20260423T133323
CREATED:20260324T040404Z
LAST-MODIFIED:20260324T041850Z
UID:10001528-1779390000-1779397200@872rcacs.ca
SUMMARY:872 Band Practice
DESCRIPTION:  \n\n  \nThe 872 Squadron Band is accepting new members! Our band includes both a Brass & Reed and a Pipe & Drum Band\, all cadets are invited to join. \nInterested cadets are encouraged to attend weekly practices and bring their instruments. \nCheck Teams for news and updates from the Drum Major and Band Officers.
URL:https://872rcacs.ca/event/24261/2026-05-21/
LOCATION:Maplewood Secondary School\, 700 Cope Dr\, Ottawa\, Ontario\, K2S 2P8
END:VEVENT
BEGIN:VEVENT
DTSTART;VALUE=DATE:20260524
DTEND;VALUE=DATE:20260525
DTSTAMP:20260423T133323
CREATED:20260125T004906Z
LAST-MODIFIED:20260125T005515Z
UID:10000967-1779580800-1779667199@872rcacs.ca
SUMMARY:872 Community Engagement Day
DESCRIPTION:  \n  \nThe 872 Kiwanis Kanata Royal Canadian Air Cadet Squadron will be holding two community engagement days on the weekend of May 23 and 24th.  \nMore details to follow. 
URL:https://872rcacs.ca/event/872-community-engagement-event/2026-05-24/
LOCATION:ON
CATEGORIES:SSC
END:VEVENT
END:VCALENDAR