BEGIN:VCALENDAR
VERSION:2.0
PRODID:-//872 Kiwanis Kanata Royal Canadian Air Cadet Squadron - ECPv6.15.20//NONSGML v1.0//EN
CALSCALE:GREGORIAN
METHOD:PUBLISH
X-ORIGINAL-URL:https://872rcacs.ca
X-WR-CALDESC:Events for 872 Kiwanis Kanata Royal Canadian Air Cadet Squadron
REFRESH-INTERVAL;VALUE=DURATION:PT1H
X-Robots-Tag:noindex
X-PUBLISHED-TTL:PT1H
BEGIN:VTIMEZONE
TZID:America/Toronto
BEGIN:DAYLIGHT
TZOFFSETFROM:-0500
TZOFFSETTO:-0400
TZNAME:EDT
DTSTART:20250309T070000
END:DAYLIGHT
BEGIN:STANDARD
TZOFFSETFROM:-0400
TZOFFSETTO:-0500
TZNAME:EST
DTSTART:20251102T060000
END:STANDARD
BEGIN:DAYLIGHT
TZOFFSETFROM:-0500
TZOFFSETTO:-0400
TZNAME:EDT
DTSTART:20260308T070000
END:DAYLIGHT
BEGIN:STANDARD
TZOFFSETFROM:-0400
TZOFFSETTO:-0500
TZNAME:EST
DTSTART:20261101T060000
END:STANDARD
BEGIN:DAYLIGHT
TZOFFSETFROM:-0500
TZOFFSETTO:-0400
TZNAME:EDT
DTSTART:20270314T070000
END:DAYLIGHT
BEGIN:STANDARD
TZOFFSETFROM:-0400
TZOFFSETTO:-0500
TZNAME:EST
DTSTART:20271107T060000
END:STANDARD
END:VTIMEZONE
BEGIN:VEVENT
DTSTART;TZID=America/Toronto:20260505T190000
DTEND;TZID=America/Toronto:20260505T210000
DTSTAMP:20260423T161921
CREATED:20260324T035038Z
LAST-MODIFIED:20260324T041725Z
UID:10001470-1778007600-1778014800@872rcacs.ca
SUMMARY:872 Ceremonial Drill and Flag Party Practice
DESCRIPTION:  \n \n  \nAll cadets interested in joining the Drill Team are invited to attend weekly practices every Tuesday. \nDetails and updates will be posted on Teams. \n 
URL:https://872rcacs.ca/event/872-ceremonial-drill-and-flag-party-practice-7/2026-05-05/
LOCATION:Maplewood Secondary School\, 700 Cope Dr\, Ottawa\, Ontario\, K2S 2P8
CATEGORIES:DRILL
END:VEVENT
BEGIN:VEVENT
DTSTART;TZID=America/Toronto:20260506T183000
DTEND;TZID=America/Toronto:20260506T211500
DTSTAMP:20260423T161921
CREATED:20250710T195243Z
LAST-MODIFIED:20260125T002007Z
UID:10000271-1778092200-1778102100@872rcacs.ca
SUMMARY:872 Training Night - CO's Parade
DESCRIPTION:  \nCO’s Parade for all cadets \nDetails and updates will be posted on Teams \n\n\n\n\n\nOrder of Dress: C3
URL:https://872rcacs.ca/event/872-training-night-cos-parade-16/
LOCATION:Johnny Leroux (Stittsville) Arena\, 10 Warner-Colpitts Lane\, Stittsville\, Ontario\, K2H 6N4\, Canada
END:VEVENT
BEGIN:VEVENT
DTSTART;TZID=America/Toronto:20260507T190000
DTEND;TZID=America/Toronto:20260507T210000
DTSTAMP:20260423T161921
CREATED:20260324T041318Z
LAST-MODIFIED:20260407T221146Z
UID:10001583-1778180400-1778187600@872rcacs.ca
SUMMARY:872 Band Practice
DESCRIPTION:  \nThe 872 Squadron Band Practice \nBrass & Reed Section: Large room \nPipe & Drum Section: Purple Room \nCheck Teams for news and updates from the Drum Major and Band Officers.
URL:https://872rcacs.ca/event/872-band-practice-29/2026-05-07/
LOCATION:Space and TIme Studios Inc.\, 5977 Hazeldean Rd (Suite 201)\, Stittsville\, ON\, K2S 1R4\, Canada
CATEGORIES:BAND
END:VEVENT
BEGIN:VEVENT
DTSTART;VALUE=DATE:20260509
DTEND;VALUE=DATE:20260510
DTSTAMP:20260423T161921
CREATED:20260125T003950Z
LAST-MODIFIED:20260125T003950Z
UID:10000965-1778284800-1778371199@872rcacs.ca
SUMMARY:872 Spring Cleanup
DESCRIPTION:  \nSpring Cleanup is a volunteer opportunity for cadets to help improve our community this spring. This event is sponsored by the Rotary Club. More details to follow. \n  \n  \n 
URL:https://872rcacs.ca/event/872-spring-cleanup/
LOCATION:ON
END:VEVENT
END:VCALENDAR