BEGIN:VCALENDAR
VERSION:2.0
PRODID:-//872 Kiwanis Kanata Royal Canadian Air Cadet Squadron - ECPv6.15.20//NONSGML v1.0//EN
CALSCALE:GREGORIAN
METHOD:PUBLISH
X-ORIGINAL-URL:https://872rcacs.ca
X-WR-CALDESC:Events for 872 Kiwanis Kanata Royal Canadian Air Cadet Squadron
REFRESH-INTERVAL;VALUE=DURATION:PT1H
X-Robots-Tag:noindex
X-PUBLISHED-TTL:PT1H
BEGIN:VTIMEZONE
TZID:America/Toronto
BEGIN:DAYLIGHT
TZOFFSETFROM:-0500
TZOFFSETTO:-0400
TZNAME:EDT
DTSTART:20250309T070000
END:DAYLIGHT
BEGIN:STANDARD
TZOFFSETFROM:-0400
TZOFFSETTO:-0500
TZNAME:EST
DTSTART:20251102T060000
END:STANDARD
BEGIN:DAYLIGHT
TZOFFSETFROM:-0500
TZOFFSETTO:-0400
TZNAME:EDT
DTSTART:20260308T070000
END:DAYLIGHT
BEGIN:STANDARD
TZOFFSETFROM:-0400
TZOFFSETTO:-0500
TZNAME:EST
DTSTART:20261101T060000
END:STANDARD
BEGIN:DAYLIGHT
TZOFFSETFROM:-0500
TZOFFSETTO:-0400
TZNAME:EDT
DTSTART:20270314T070000
END:DAYLIGHT
BEGIN:STANDARD
TZOFFSETFROM:-0400
TZOFFSETTO:-0500
TZNAME:EST
DTSTART:20271107T060000
END:STANDARD
END:VTIMEZONE
BEGIN:VEVENT
DTSTART;TZID=America/Toronto:20260421T190000
DTEND;TZID=America/Toronto:20260421T210000
DTSTAMP:20260423T133745
CREATED:20260324T035038Z
LAST-MODIFIED:20260324T041725Z
UID:10001468-1776798000-1776805200@872rcacs.ca
SUMMARY:872 Ceremonial Drill and Flag Party Practice
DESCRIPTION:  \n \n  \nAll cadets interested in joining the Drill Team are invited to attend weekly practices every Tuesday. \nDetails and updates will be posted on Teams. \n 
URL:https://872rcacs.ca/event/872-ceremonial-drill-and-flag-party-practice-7/2026-04-21/
LOCATION:Maplewood Secondary School\, 700 Cope Dr\, Ottawa\, Ontario\, K2S 2P8
CATEGORIES:DRILL
END:VEVENT
BEGIN:VEVENT
DTSTART;TZID=America/Toronto:20260422T183000
DTEND;TZID=America/Toronto:20260422T211500
DTSTAMP:20260423T133745
CREATED:20260125T001236Z
LAST-MODIFIED:20260125T010433Z
UID:10000907-1776882600-1776892500@872rcacs.ca
SUMMARY:872 Training Night
DESCRIPTION:  \nRegular training night for all cadets. \nDetails and updates will be posted on Teams. \nOrder of Dress: C5
URL:https://872rcacs.ca/event/872-training-night-36/2026-04-22/
LOCATION:Johnny Leroux (Stittsville) Arena\, 10 Warner-Colpitts Lane\, Stittsville\, Ontario\, K2H 6N4\, Canada
CATEGORIES:TRAINING NIGHT
END:VEVENT
BEGIN:VEVENT
DTSTART;TZID=America/Toronto:20260423T190000
DTEND;TZID=America/Toronto:20260423T210000
DTSTAMP:20260423T133745
CREATED:20260324T041318Z
LAST-MODIFIED:20260407T221146Z
UID:10001581-1776970800-1776978000@872rcacs.ca
SUMMARY:872 Band Practice
DESCRIPTION:  \nThe 872 Squadron Band Practice \nBrass & Reed Section: Large room \nPipe & Drum Section: Purple Room \nCheck Teams for news and updates from the Drum Major and Band Officers.
URL:https://872rcacs.ca/event/872-band-practice-29/2026-04-23/
LOCATION:Space and TIme Studios Inc.\, 5977 Hazeldean Rd (Suite 201)\, Stittsville\, ON\, K2S 1R4\, Canada
CATEGORIES:BAND
END:VEVENT
END:VCALENDAR