BEGIN:VCALENDAR
VERSION:2.0
PRODID:-//872 Kiwanis Kanata Royal Canadian Air Cadet Squadron - ECPv6.15.20//NONSGML v1.0//EN
CALSCALE:GREGORIAN
METHOD:PUBLISH
X-ORIGINAL-URL:https://872rcacs.ca
X-WR-CALDESC:Events for 872 Kiwanis Kanata Royal Canadian Air Cadet Squadron
REFRESH-INTERVAL;VALUE=DURATION:PT1H
X-Robots-Tag:noindex
X-PUBLISHED-TTL:PT1H
BEGIN:VTIMEZONE
TZID:America/Toronto
BEGIN:DAYLIGHT
TZOFFSETFROM:-0500
TZOFFSETTO:-0400
TZNAME:EDT
DTSTART:20250309T070000
END:DAYLIGHT
BEGIN:STANDARD
TZOFFSETFROM:-0400
TZOFFSETTO:-0500
TZNAME:EST
DTSTART:20251102T060000
END:STANDARD
BEGIN:DAYLIGHT
TZOFFSETFROM:-0500
TZOFFSETTO:-0400
TZNAME:EDT
DTSTART:20260308T070000
END:DAYLIGHT
BEGIN:STANDARD
TZOFFSETFROM:-0400
TZOFFSETTO:-0500
TZNAME:EST
DTSTART:20261101T060000
END:STANDARD
BEGIN:DAYLIGHT
TZOFFSETFROM:-0500
TZOFFSETTO:-0400
TZNAME:EDT
DTSTART:20270314T070000
END:DAYLIGHT
BEGIN:STANDARD
TZOFFSETFROM:-0400
TZOFFSETTO:-0500
TZNAME:EST
DTSTART:20271107T060000
END:STANDARD
END:VTIMEZONE
BEGIN:VEVENT
DTSTART;TZID=America/Toronto:20260303T190000
DTEND;TZID=America/Toronto:20260303T210000
DTSTAMP:20260423T134904
CREATED:20260125T010916Z
LAST-MODIFIED:20260318T180138Z
UID:10000679-1772564400-1772571600@872rcacs.ca
SUMMARY:872 Ceremonial Drill and Flag Party Practice
DESCRIPTION:  \nAll cadets interested in joining the Drill Team are invited to attend weekly practices every Tuesday. \nDetails and updates will be posted on Teams. \n 
URL:https://872rcacs.ca/event/872-ceremonial-drill-and-flag-party-practice-10-2-2/2026-03-03/
LOCATION:Tony Graham Recreational Complex (Upper Hall A)\, 100 Charlie Rogers Place\, Kanata\, Ontario\, K2V1A2\, Canada
CATEGORIES:DRILL
END:VEVENT
BEGIN:VEVENT
DTSTART;TZID=America/Toronto:20260304T183000
DTEND;TZID=America/Toronto:20260304T211500
DTSTAMP:20260423T134904
CREATED:20250710T195116Z
LAST-MODIFIED:20260104T042817Z
UID:10000269-1772649000-1772658900@872rcacs.ca
SUMMARY:872 Training Night - CO's Parade
DESCRIPTION:  \nCO’s Parade for all cadets \nDetails and updates will be posted on Teams \n  \nOrder of Dress: C3
URL:https://872rcacs.ca/event/872-training-night-cos-parade-14/
LOCATION:A.Y. Jackson High School\, 150 Abbeyhill Dr\, Kanata\, Ontario\, K2L 1H7\, Canada
END:VEVENT
BEGIN:VEVENT
DTSTART;TZID=America/Toronto:20260305T190000
DTEND;TZID=America/Toronto:20260305T210000
DTSTAMP:20260423T134904
CREATED:20260125T010631Z
LAST-MODIFIED:20260318T174939Z
UID:10000780-1772737200-1772744400@872rcacs.ca
SUMMARY:872 Band Practice
DESCRIPTION:  \nThe 872 Squadron Band is accepting new members! Our band includes both a Brass & Reed and a Pipe & Drum Band\, all cadets are invited to join. \nInterested cadets are encouraged to attend weekly practices and bring their instruments.  \nCheck Teams for news and updates from the Drum Major and Band Officers. \n 
URL:https://872rcacs.ca/event/872-band-practice-27-2/2026-03-05/
LOCATION:Glen Cairn Community Centre (Upper Hall)\, 190 Morrena Rd.\, Kanata\, Ontario\, K2L 1E1\, Canada
CATEGORIES:BAND
END:VEVENT
BEGIN:VEVENT
DTSTART;TZID=America/Toronto:20260307T173000
DTEND;TZID=America/Toronto:20260307T203000
DTSTAMP:20260423T134904
CREATED:20251019T030515Z
LAST-MODIFIED:20251019T032809Z
UID:10000364-1772904600-1772915400@872rcacs.ca
SUMMARY:Trivia Night for Parents and Guardians and Community Members
DESCRIPTION:Trivia Night 2026 \nJoin the  872 Squadron Sponsoring Committee for a Night of Fun~ \nParents\, guardians\, and community members are all invited to an evening of laughs\, friendly competition\, and great company at our 872 Trivia Night! Meet new people and support our squadron in a relaxed social setting.  \nPlease note: Cadets are not permitted to attend this event. Please bring your friends\, family and join the fun! \n\nContact SSC for details and to register for this great event!
URL:https://872rcacs.ca/event/trivia-night-for-parents-and-guardians-and-community-members/
LOCATION:Buster’s Bar and Grill\, 420 Hazeldean Rd\, Kanata\, Ontario\, K2L 4B2\, Canada
CATEGORIES:SSC
END:VEVENT
END:VCALENDAR