BEGIN:VCALENDAR
VERSION:2.0
PRODID:-//872 Kiwanis Kanata Royal Canadian Air Cadet Squadron - ECPv6.15.20//NONSGML v1.0//EN
CALSCALE:GREGORIAN
METHOD:PUBLISH
X-WR-CALNAME:872 Kiwanis Kanata Royal Canadian Air Cadet Squadron
X-ORIGINAL-URL:https://872rcacs.ca
X-WR-CALDESC:Events for 872 Kiwanis Kanata Royal Canadian Air Cadet Squadron
REFRESH-INTERVAL;VALUE=DURATION:PT1H
X-Robots-Tag:noindex
X-PUBLISHED-TTL:PT1H
BEGIN:VTIMEZONE
TZID:America/Toronto
BEGIN:DAYLIGHT
TZOFFSETFROM:-0500
TZOFFSETTO:-0400
TZNAME:EDT
DTSTART:20250309T070000
END:DAYLIGHT
BEGIN:STANDARD
TZOFFSETFROM:-0400
TZOFFSETTO:-0500
TZNAME:EST
DTSTART:20251102T060000
END:STANDARD
BEGIN:DAYLIGHT
TZOFFSETFROM:-0500
TZOFFSETTO:-0400
TZNAME:EDT
DTSTART:20260308T070000
END:DAYLIGHT
BEGIN:STANDARD
TZOFFSETFROM:-0400
TZOFFSETTO:-0500
TZNAME:EST
DTSTART:20261101T060000
END:STANDARD
BEGIN:DAYLIGHT
TZOFFSETFROM:-0500
TZOFFSETTO:-0400
TZNAME:EDT
DTSTART:20270314T070000
END:DAYLIGHT
BEGIN:STANDARD
TZOFFSETFROM:-0400
TZOFFSETTO:-0500
TZNAME:EST
DTSTART:20271107T060000
END:STANDARD
END:VTIMEZONE
BEGIN:VEVENT
DTSTART;TZID=America/Toronto:20260127T080000
DTEND;TZID=America/Toronto:20260127T170000
DTSTAMP:20260423T161719
CREATED:20260125T010916Z
LAST-MODIFIED:20260318T180138Z
UID:10001400-1769500800-1769533200@872rcacs.ca
SUMMARY:872 Ceremonial Drill and Flag Party Practice
DESCRIPTION:  \nAll cadets interested in joining the Drill Team are invited to attend weekly practices every Tuesday. \nDetails and updates will be posted on Teams. \n 
URL:https://872rcacs.ca/event/872-ceremonial-drill-and-flag-party-practice-10-2-2/2026-01-27/1/
LOCATION:Tony Graham Recreational Complex (Upper Hall A)\, 100 Charlie Rogers Place\, Kanata\, Ontario\, K2V1A2\, Canada
CATEGORIES:DRILL
END:VEVENT
BEGIN:VEVENT
DTSTART;TZID=America/Toronto:20260127T190000
DTEND;TZID=America/Toronto:20260127T210000
DTSTAMP:20260423T161719
CREATED:20260125T010916Z
LAST-MODIFIED:20260318T180138Z
UID:10000674-1769540400-1769547600@872rcacs.ca
SUMMARY:872 Ceremonial Drill and Flag Party Practice
DESCRIPTION:  \nAll cadets interested in joining the Drill Team are invited to attend weekly practices every Tuesday. \nDetails and updates will be posted on Teams. \n 
URL:https://872rcacs.ca/event/872-ceremonial-drill-and-flag-party-practice-10-2-2/2026-01-27/2/
LOCATION:Tony Graham Recreational Complex (Upper Hall A)\, 100 Charlie Rogers Place\, Kanata\, Ontario\, K2V1A2\, Canada
CATEGORIES:DRILL
END:VEVENT
BEGIN:VEVENT
DTSTART;TZID=America/Toronto:20260128T183000
DTEND;TZID=America/Toronto:20260128T210000
DTSTAMP:20260423T161719
CREATED:20260124T183547Z
LAST-MODIFIED:20260124T183547Z
UID:10000848-1769625000-1769634000@872rcacs.ca
SUMMARY:872 Food Drive
DESCRIPTION:  \nPlease drop off non-perishable food items on Wednesday\, January 28th at AY Jackson Secondary School. Your donation will make a meaningful difference in our community. Thank you for your support!
URL:https://872rcacs.ca/event/872-food-drive/
LOCATION:A.Y. Jackson High School\, 150 Abbeyhill Dr\, Kanata\, Ontario\, K2L 1H7\, Canada
CATEGORIES:SSC
END:VEVENT
BEGIN:VEVENT
DTSTART;TZID=America/Toronto:20260128T183000
DTEND;TZID=America/Toronto:20260128T211500
DTSTAMP:20260423T161719
CREATED:20250123T223641Z
LAST-MODIFIED:20250804T020950Z
UID:10000123-1769625000-1769634900@872rcacs.ca
SUMMARY:872 Training Night
DESCRIPTION:  \nRegular training night for all cadets. \nDetails and updates will be posted on Teams. \n  \nOrder of Dress: C5 \n  \n\n\n\n\nOrder of Dress \n\n\nComposition \n\n\nAuthorized Clothing Accoutrements and Accessories \n\n\n\n\n\n\n\nC5 \n\n\n\nBeret / turban with Air Cadet headdress insignia\, toque or wide-brimmed tan summer hat.\nField shirt.\nRank slip-ons.\nEnvironmental (blue) / squadron / CTC t-shirt.\nField pants and belt.\nSocks.\nMulti-Purpose Boots (alternative footwear may be authorized when necessary based on the activity).\n\n\n\n\nAppointment or rank brassard.\nNametape optional.\nLanyard. May be worn to indicate nominations to particular positions at the corps / CTC.\n\nNote: \n\nMay be worn under the all-season jacket.\nShirt may be worn with sleeves extended or rolled above the elbows.\n\n\n\n\n\n  \n\n\n\n 
URL:https://872rcacs.ca/event/872-training-night-fun-night/
LOCATION:A.Y. Jackson High School\, 150 Abbeyhill Dr\, Kanata\, Ontario\, K2L 1H7\, Canada
CATEGORIES:TRAINING NIGHT
END:VEVENT
BEGIN:VEVENT
DTSTART;TZID=America/Toronto:20260129T190000
DTEND;TZID=America/Toronto:20260129T210000
DTSTAMP:20260423T161719
CREATED:20260125T010631Z
LAST-MODIFIED:20260318T174939Z
UID:10000775-1769713200-1769720400@872rcacs.ca
SUMMARY:872 Band Practice
DESCRIPTION:  \nThe 872 Squadron Band is accepting new members! Our band includes both a Brass & Reed and a Pipe & Drum Band\, all cadets are invited to join. \nInterested cadets are encouraged to attend weekly practices and bring their instruments.  \nCheck Teams for news and updates from the Drum Major and Band Officers. \n 
URL:https://872rcacs.ca/event/872-band-practice-27-2/2026-01-29/
LOCATION:Glen Cairn Community Centre (Upper Hall)\, 190 Morrena Rd.\, Kanata\, Ontario\, K2L 1E1\, Canada
CATEGORIES:BAND
END:VEVENT
END:VCALENDAR