BEGIN:VCALENDAR
VERSION:2.0
PRODID:-//872 Kiwanis Kanata Royal Canadian Air Cadet Squadron - ECPv6.15.20//NONSGML v1.0//EN
CALSCALE:GREGORIAN
METHOD:PUBLISH
X-ORIGINAL-URL:https://872rcacs.ca
X-WR-CALDESC:Events for 872 Kiwanis Kanata Royal Canadian Air Cadet Squadron
REFRESH-INTERVAL;VALUE=DURATION:PT1H
X-Robots-Tag:noindex
X-PUBLISHED-TTL:PT1H
BEGIN:VTIMEZONE
TZID:America/Toronto
BEGIN:DAYLIGHT
TZOFFSETFROM:-0500
TZOFFSETTO:-0400
TZNAME:EDT
DTSTART:20240310T070000
END:DAYLIGHT
BEGIN:STANDARD
TZOFFSETFROM:-0400
TZOFFSETTO:-0500
TZNAME:EST
DTSTART:20241103T060000
END:STANDARD
BEGIN:DAYLIGHT
TZOFFSETFROM:-0500
TZOFFSETTO:-0400
TZNAME:EDT
DTSTART:20250309T070000
END:DAYLIGHT
BEGIN:STANDARD
TZOFFSETFROM:-0400
TZOFFSETTO:-0500
TZNAME:EST
DTSTART:20251102T060000
END:STANDARD
BEGIN:DAYLIGHT
TZOFFSETFROM:-0500
TZOFFSETTO:-0400
TZNAME:EDT
DTSTART:20260308T070000
END:DAYLIGHT
BEGIN:STANDARD
TZOFFSETFROM:-0400
TZOFFSETTO:-0500
TZNAME:EST
DTSTART:20261101T060000
END:STANDARD
END:VTIMEZONE
BEGIN:VEVENT
DTSTART;TZID=America/Toronto:20251104T190000
DTEND;TZID=America/Toronto:20251104T210000
DTSTAMP:20260423T203541
CREATED:20260104T060859Z
LAST-MODIFIED:20260104T060918Z
UID:10000664-1762282800-1762290000@872rcacs.ca
SUMMARY:872 Ceremonial Drill and Flag Party Practice
DESCRIPTION:  \nAll cadets interested in joining the Drill Team are invited to attend weekly practices every Tuesday. \nDetails and updates will be posted on Teams. \n 
URL:https://872rcacs.ca/event/872-ceremonial-drill-and-flag-party-practice-10/2025-11-04/
LOCATION:Tony Graham Recreational Complex (Upper Hall A)\, 100 Charlie Rogers Place\, Kanata\, Ontario\, K2V1A2\, Canada
CATEGORIES:DRILL
END:VEVENT
BEGIN:VEVENT
DTSTART;TZID=America/Toronto:20251104T190000
DTEND;TZID=America/Toronto:20251104T210000
DTSTAMP:20260423T203541
CREATED:20260104T062057Z
LAST-MODIFIED:20260104T062102Z
UID:10000750-1762282800-1762290000@872rcacs.ca
SUMMARY:872 Ceremonial Drill and Flag Party Practice
DESCRIPTION:  \nAll cadets interested in joining the Drill Team are invited to attend weekly practices every Tuesday. \nDetails and updates will be posted on Teams. \n 
URL:https://872rcacs.ca/event/872-ceremonial-drill-and-flag-party-practice-10-2/2025-11-04/
LOCATION:Tony Graham Recreational Complex (Upper Hall A)\, 100 Charlie Rogers Place\, Kanata\, Ontario\, K2V1A2\, Canada
CATEGORIES:DRILL
END:VEVENT
BEGIN:VEVENT
DTSTART;TZID=America/Toronto:20251105T183000
DTEND;TZID=America/Toronto:20251105T211500
DTSTAMP:20260423T203541
CREATED:20250710T194739Z
LAST-MODIFIED:20250809T063235Z
UID:10000265-1762367400-1762377300@872rcacs.ca
SUMMARY:872 Training Night - CO's Parade
DESCRIPTION:  \nCO’s Parade for all cadets. \n  \nDetails and updates will be posted on Teams. \n  \nAttire: \nNew recruits: Blue Squadron T-Shirt \nReturning Cadets: Order of Dress C3 \n 
URL:https://872rcacs.ca/event/872-training-night-cos-parade-10/
LOCATION:A.Y. Jackson High School\, 150 Abbeyhill Dr\, Kanata\, Ontario\, K2L 1H7\, Canada
CATEGORIES:TRAINING NIGHT
END:VEVENT
BEGIN:VEVENT
DTSTART;TZID=America/Toronto:20251106T190000
DTEND;TZID=America/Toronto:20251106T210000
DTSTAMP:20260423T203541
CREATED:20260104T063114Z
LAST-MODIFIED:20260104T063114Z
UID:10000765-1762455600-1762462800@872rcacs.ca
SUMMARY:872 Band Practice
DESCRIPTION:  \nThe 872 Squadron Band is accepting new members! Our band includes both a Brass & Reed and a Pipe & Drum Band\, all cadets are invited to join. \nInterested cadets are encouraged to attend weekly practices and bring their instruments.  \nCheck Teams for news and updates from the Drum Major and Band Officers. \n 
URL:https://872rcacs.ca/event/872-band-practice-27/2025-11-06/
LOCATION:Glen Cairn Community Centre (Upper Hall)\, 190 Morrena Rd.\, Kanata\, Ontario\, K2L 1E1\, Canada
CATEGORIES:BAND
END:VEVENT
END:VCALENDAR