BEGIN:VCALENDAR
VERSION:2.0
PRODID:-//872 Kiwanis Kanata Royal Canadian Air Cadet Squadron - ECPv6.15.20//NONSGML v1.0//EN
CALSCALE:GREGORIAN
METHOD:PUBLISH
X-ORIGINAL-URL:https://872rcacs.ca
X-WR-CALDESC:Events for 872 Kiwanis Kanata Royal Canadian Air Cadet Squadron
REFRESH-INTERVAL;VALUE=DURATION:PT1H
X-Robots-Tag:noindex
X-PUBLISHED-TTL:PT1H
BEGIN:VTIMEZONE
TZID:America/Toronto
BEGIN:DAYLIGHT
TZOFFSETFROM:-0500
TZOFFSETTO:-0400
TZNAME:EDT
DTSTART:20240310T070000
END:DAYLIGHT
BEGIN:STANDARD
TZOFFSETFROM:-0400
TZOFFSETTO:-0500
TZNAME:EST
DTSTART:20241103T060000
END:STANDARD
BEGIN:DAYLIGHT
TZOFFSETFROM:-0500
TZOFFSETTO:-0400
TZNAME:EDT
DTSTART:20250309T070000
END:DAYLIGHT
BEGIN:STANDARD
TZOFFSETFROM:-0400
TZOFFSETTO:-0500
TZNAME:EST
DTSTART:20251102T060000
END:STANDARD
BEGIN:DAYLIGHT
TZOFFSETFROM:-0500
TZOFFSETTO:-0400
TZNAME:EDT
DTSTART:20260308T070000
END:DAYLIGHT
BEGIN:STANDARD
TZOFFSETFROM:-0400
TZOFFSETTO:-0500
TZNAME:EST
DTSTART:20261101T060000
END:STANDARD
END:VTIMEZONE
BEGIN:VEVENT
DTSTART;TZID=America/Toronto:20250903T183000
DTEND;TZID=America/Toronto:20250903T203000
DTSTAMP:20260424T085631
CREATED:20250710T170249Z
LAST-MODIFIED:20250827T191141Z
UID:10000232-1756924200-1756931400@872rcacs.ca
SUMMARY:Level 4/5 Registration Night
DESCRIPTION:  \nPlease ensure you bring all required documentation and are accompanied by a parent or legal guardian. \nDetails and updates will be posted on Teams.
URL:https://872rcacs.ca/event/level-4-5-registration-night-2/
LOCATION:Glen Cairn Community Centre (Upper Hall)\, 190 Morrena Rd.\, Kanata\, Ontario\, K2L 1E1\, Canada
CATEGORIES:Registration
END:VEVENT
BEGIN:VEVENT
DTSTART;TZID=America/Toronto:20250906T083000
DTEND;TZID=America/Toronto:20250907T170000
DTSTAMP:20260424T085631
CREATED:20250710T153931Z
LAST-MODIFIED:20250814T015109Z
UID:10000230-1757147400-1757264400@872rcacs.ca
SUMMARY:872 Seniors Weekend
DESCRIPTION:  \n\nSeniors Weekend is a dedicated training and planning event for senior-level cadets. It provides an opportunity to come together for advanced instruction\, leadership development\, and coordination of activities for the upcoming training year. \nAll senior/ALP cadets are expected to participate. \n\n\n\nDetails and updates will be posted on Teams.
URL:https://872rcacs.ca/event/seniors-weekend/
LOCATION:ON
END:VEVENT
BEGIN:VEVENT
DTSTART;VALUE=DATE:20250907
DTEND;VALUE=DATE:20250908
DTSTAMP:20260424T085631
CREATED:20250802T034145Z
LAST-MODIFIED:20250814T024444Z
UID:10000348-1757203200-1757289599@872rcacs.ca
SUMMARY:Canadian Fallen Firefighters Memorial Ceremony
DESCRIPTION:Cadets are invited to participate in the Fallen Firefighter Ceremony and help honour our fallen heroes. Located at the intersection of Lett St. and Wellington St.\, LeBreton Flats. \nDetails and updates will be posted on Teams.
URL:https://872rcacs.ca/event/canadian-fallen-firefighters-memorial-ceremony/
LOCATION:ON
END:VEVENT
END:VCALENDAR