BEGIN:VCALENDAR
VERSION:2.0
PRODID:-//872 Kiwanis Kanata Royal Canadian Air Cadet Squadron - ECPv6.15.20//NONSGML v1.0//EN
CALSCALE:GREGORIAN
METHOD:PUBLISH
X-ORIGINAL-URL:https://872rcacs.ca
X-WR-CALDESC:Events for 872 Kiwanis Kanata Royal Canadian Air Cadet Squadron
REFRESH-INTERVAL;VALUE=DURATION:PT1H
X-Robots-Tag:noindex
X-PUBLISHED-TTL:PT1H
BEGIN:VTIMEZONE
TZID:America/Toronto
BEGIN:DAYLIGHT
TZOFFSETFROM:-0500
TZOFFSETTO:-0400
TZNAME:EDT
DTSTART:20240310T070000
END:DAYLIGHT
BEGIN:STANDARD
TZOFFSETFROM:-0400
TZOFFSETTO:-0500
TZNAME:EST
DTSTART:20241103T060000
END:STANDARD
BEGIN:DAYLIGHT
TZOFFSETFROM:-0500
TZOFFSETTO:-0400
TZNAME:EDT
DTSTART:20250309T070000
END:DAYLIGHT
BEGIN:STANDARD
TZOFFSETFROM:-0400
TZOFFSETTO:-0500
TZNAME:EST
DTSTART:20251102T060000
END:STANDARD
BEGIN:DAYLIGHT
TZOFFSETFROM:-0500
TZOFFSETTO:-0400
TZNAME:EDT
DTSTART:20260308T070000
END:DAYLIGHT
BEGIN:STANDARD
TZOFFSETFROM:-0400
TZOFFSETTO:-0500
TZNAME:EST
DTSTART:20261101T060000
END:STANDARD
END:VTIMEZONE
BEGIN:VEVENT
DTSTART;TZID=America/Toronto:20250224T183000
DTEND;TZID=America/Toronto:20250224T213000
DTSTAMP:20260425T104754
CREATED:20250214T021127Z
LAST-MODIFIED:20250214T021127Z
UID:10000153-1740421800-1740432600@872rcacs.ca
SUMMARY:872 Marksmanship Practice
DESCRIPTION:Marksmanship Practice at the Kanata Legion
URL:https://872rcacs.ca/event/872-marksmanship-practice-8/
LOCATION:Royal Canadian Legion Branch 638\, 70 Hines Rd\, Kanata\, Ontario\, K2K 2M5\, Canada
END:VEVENT
BEGIN:VEVENT
DTSTART;TZID=America/Toronto:20250225T190000
DTEND;TZID=America/Toronto:20250225T210000
DTSTAMP:20260425T104754
CREATED:20241219T195745Z
LAST-MODIFIED:20241219T195745Z
UID:10000112-1740510000-1740517200@872rcacs.ca
SUMMARY:872 Ceremonial Drill Team and Flag Party Practice
DESCRIPTION:Open to all levels\, drill practice is held every Tuesday* evening from 19h00 to 21h00 in the Glen Cairn Public School gymnasium. \n*check calendar and Teams before every week for updates on venue changes or cancellations.
URL:https://872rcacs.ca/event/872-ceremonial-drill-team-and-flag-party-practice-6/
LOCATION:Glen Cairn Public School Gymnasium\, 182 Morrena Rd\, Kanata\, Ontario\, K2L 1E1\, Canada
END:VEVENT
BEGIN:VEVENT
DTSTART;TZID=America/Toronto:20250226T183000
DTEND;TZID=America/Toronto:20250226T211500
DTSTAMP:20260425T104754
CREATED:20250123T225151Z
LAST-MODIFIED:20250123T225151Z
UID:10000127-1740594600-1740604500@872rcacs.ca
SUMMARY:872 Training Night
DESCRIPTION:Special activities night. Details to follow.
URL:https://872rcacs.ca/event/872-training-night-14/
LOCATION:A.Y. Jackson High School\, 150 Abbeyhill Dr\, Kanata\, Ontario\, K2L 1H7\, Canada
END:VEVENT
BEGIN:VEVENT
DTSTART;TZID=America/Toronto:20250227T190000
DTEND;TZID=America/Toronto:20250227T210000
DTSTAMP:20260425T104754
CREATED:20250214T015115Z
LAST-MODIFIED:20250214T015115Z
UID:10000146-1740682800-1740690000@872rcacs.ca
SUMMARY:872 Band Practice
DESCRIPTION:Regular band practice for all instruments. Check Teams for news and updates from the Drum Major and Band O.
URL:https://872rcacs.ca/event/872-band-practice-19/
LOCATION:Glen Cairn Community Centre (Upper Hall)\, 190 Morrena Rd.\, Kanata\, Ontario\, K2L 1E1\, Canada
END:VEVENT
BEGIN:VEVENT
DTSTART;TZID=America/Toronto:20250228T183000
DTEND;TZID=America/Toronto:20250228T200000
DTSTAMP:20260425T104754
CREATED:20250214T022924Z
LAST-MODIFIED:20250214T022924Z
UID:10000162-1740767400-1740772800@872rcacs.ca
SUMMARY:872 Supply Night
DESCRIPTION:Details to be communicated on announcements and Teams.
URL:https://872rcacs.ca/event/872-supply-night-19/
LOCATION:DYMON Storage Kanata\, 110 Didsbury Rd.\, Kanata\, Ontario\, K2T 0C2\, Canada
ORGANIZER;CN="2Lt GINN":MAILTO:supply 872rcacs.ca
END:VEVENT
BEGIN:VEVENT
DTSTART;TZID=America/Toronto:20250301T084500
DTEND;TZID=America/Toronto:20250301T120000
DTSTAMP:20260425T104754
CREATED:20250214T021939Z
LAST-MODIFIED:20250214T022348Z
UID:10000159-1740818700-1740830400@872rcacs.ca
SUMMARY:872 Marksmanship Practice
DESCRIPTION:Marksmanship Practice at 5 Brouillette (Connaught Ranges)
URL:https://872rcacs.ca/event/872-marksmanship-practice-14/
LOCATION:Connaught Cadet Training Centre\, 1 Lewis Gun Rd\, Nepean\, Ontario\, K2K 3K3\, Canada
END:VEVENT
BEGIN:VEVENT
DTSTART;TZID=America/Toronto:20250302T123000
DTEND;TZID=America/Toronto:20250302T171500
DTSTAMP:20260425T104754
CREATED:20250214T025447Z
LAST-MODIFIED:20250214T025447Z
UID:10000176-1740918600-1740935700@872rcacs.ca
SUMMARY:872 Winter Activity Day
DESCRIPTION:Squadron Winter Activity Day – Sunday March 2nd \n872 Squadron is holding a Winter Activity Day at the YMCA Outdoor Education and Leadership Camp in Dunrobin on Sunday March 2nd between 12:30pm and 5:15pm. It will include a mix of indoor and outdoor activities. \nCadets should: \n\nEat lunch before arriving\,\nWear comfortable\, weather appropriate clothing\, including waterproof boots\,\nBring a refillable water bottle.\n\nForms to sign and for parents to sign permission will be posted on Teams.
URL:https://872rcacs.ca/event/872-winter-activity-day/
LOCATION:YMCA Outdoor Centre\, Dunrobin\, 1620 Sixth Line Rd RR #1\, Dunrobin\, Ontario\, K0A 1T0\, Canada
END:VEVENT
END:VCALENDAR