BEGIN:VCALENDAR
VERSION:2.0
PRODID:-//872 Kiwanis Kanata Royal Canadian Air Cadet Squadron - ECPv6.15.20//NONSGML v1.0//EN
CALSCALE:GREGORIAN
METHOD:PUBLISH
X-ORIGINAL-URL:https://872rcacs.ca
X-WR-CALDESC:Events for 872 Kiwanis Kanata Royal Canadian Air Cadet Squadron
REFRESH-INTERVAL;VALUE=DURATION:PT1H
X-Robots-Tag:noindex
X-PUBLISHED-TTL:PT1H
BEGIN:VTIMEZONE
TZID:America/Toronto
BEGIN:DAYLIGHT
TZOFFSETFROM:-0500
TZOFFSETTO:-0400
TZNAME:EDT
DTSTART:20240310T070000
END:DAYLIGHT
BEGIN:STANDARD
TZOFFSETFROM:-0400
TZOFFSETTO:-0500
TZNAME:EST
DTSTART:20241103T060000
END:STANDARD
BEGIN:DAYLIGHT
TZOFFSETFROM:-0500
TZOFFSETTO:-0400
TZNAME:EDT
DTSTART:20250309T070000
END:DAYLIGHT
BEGIN:STANDARD
TZOFFSETFROM:-0400
TZOFFSETTO:-0500
TZNAME:EST
DTSTART:20251102T060000
END:STANDARD
BEGIN:DAYLIGHT
TZOFFSETFROM:-0500
TZOFFSETTO:-0400
TZNAME:EDT
DTSTART:20260308T070000
END:DAYLIGHT
BEGIN:STANDARD
TZOFFSETFROM:-0400
TZOFFSETTO:-0500
TZNAME:EST
DTSTART:20261101T060000
END:STANDARD
END:VTIMEZONE
BEGIN:VEVENT
DTSTART;TZID=America/Toronto:20250210T183000
DTEND;TZID=America/Toronto:20250210T213000
DTSTAMP:20260425T133711
CREATED:20250214T020747Z
LAST-MODIFIED:20250214T020747Z
UID:10000150-1739212200-1739223000@872rcacs.ca
SUMMARY:872 Marksmanship Practice
DESCRIPTION:Marksmanship Practice at the Kanata Legion
URL:https://872rcacs.ca/event/872-marksmanship-practice-6/
LOCATION:Royal Canadian Legion Branch 638\, 70 Hines Rd\, Kanata\, Ontario\, K2K 2M5\, Canada
END:VEVENT
BEGIN:VEVENT
DTSTART;TZID=America/Toronto:20250211T190000
DTEND;TZID=America/Toronto:20250211T210000
DTSTAMP:20260425T133711
CREATED:20241023T235618Z
LAST-MODIFIED:20241023T235618Z
UID:10000078-1739300400-1739307600@872rcacs.ca
SUMMARY:872 Ceremonial Drill and Colour Party Practice *CHANGE IN VENUE
DESCRIPTION:*PLEASE NOTE THE CHANGE IN VENUE FOR THIS EVENING EVENT* \nOpen to all levels\, drill practice is held every Tuesday* evening from 19h00 to 21h00 in the Glen Cairn Gymnasium. \n*check calendar and Teams before every week for updates on venue changes and cancellations.* \n\n\nThe Royal Canadian Air Force attended the Battle of Britain Ceremony to pay tribute to all the heroes who fought during the Second World War at Beechwood Cemetery in Ottawa\, Ontario on September 15\, 2024.Photo Credit: Corporal Bélynda Casse Royal Canadian Air Force Public Affairs\n 
URL:https://872rcacs.ca/event/872-ceremonial-drill-and-colour-party-practice-change-in-venue/
LOCATION:Tony Graham Recreational Complex (Upper Hall A)\, 100 Charlie Rogers Place\, Kanata\, Ontario\, K2V1A2\, Canada
END:VEVENT
BEGIN:VEVENT
DTSTART;TZID=America/Toronto:20250212T183000
DTEND;TZID=America/Toronto:20250212T211500
DTSTAMP:20260425T133711
CREATED:20250123T224245Z
LAST-MODIFIED:20250123T224245Z
UID:10000125-1739385000-1739394900@872rcacs.ca
SUMMARY:872 Training Night
DESCRIPTION:Order of Dress: C5 \n\n\n\n\nOrder of Dress \n\n\nComposition \n\n\nAuthorized Clothing Accoutrements and Accessories \n\n\n\n\n\n\n\nC5 \n\n\n\nBeret / turban with Air Cadet headdress insignia\, toque or wide-brimmed tan summer hat.\nField shirt.\nRank slip-ons.\nEnvironmental (blue) / squadron / CTC t-shirt.\nField pants and belt.\nSocks.\nMulti-Purpose Boots (alternative footwear may be authorized when necessary based on the activity).\n\n\n\n\nAppointment or rank brassard.\nNametape optional.\nLanyard. May be worn to indicate nominations to particular positions at the corps / CTC.\n\nNote: \n\nMay be worn under the all-season jacket.\nShirt may be worn with sleeves extended or rolled above the elbows.
URL:https://872rcacs.ca/event/872-training-night-12/
LOCATION:A.Y. Jackson High School\, 150 Abbeyhill Dr\, Kanata\, Ontario\, K2L 1H7\, Canada
END:VEVENT
BEGIN:VEVENT
DTSTART;TZID=America/Toronto:20250213T190000
DTEND;TZID=America/Toronto:20250213T210000
DTSTAMP:20260425T133711
CREATED:20250214T014934Z
LAST-MODIFIED:20250214T014934Z
UID:10000144-1739473200-1739480400@872rcacs.ca
SUMMARY:CXLD - 872 Band Practice
DESCRIPTION:Regular band practice for all instruments. Check Teams for news and updates from the Drum Major and Band O.
URL:https://872rcacs.ca/event/cxld-872-band-practice/
LOCATION:Glen Cairn Community Centre (Upper Hall)\, 190 Morrena Rd.\, Kanata\, Ontario\, K2L 1E1\, Canada
END:VEVENT
BEGIN:VEVENT
DTSTART;TZID=America/Toronto:20250214T183000
DTEND;TZID=America/Toronto:20250214T200000
DTSTAMP:20260425T133711
CREATED:20250214T020419Z
LAST-MODIFIED:20250214T020419Z
UID:10000149-1739557800-1739563200@872rcacs.ca
SUMMARY:872 Supply Night
DESCRIPTION:Supply Night this week invites Hercules and Iroquois flights for their DEU (blue uniform) issue. Please come to Dymon Storage Kanata between 630pm and 8pm. \nAnyone whose name was on the Special Order Announcement on Teams needs to come to supply to pick up their items. No appointment necessary\, come any time between 630pm and 8pm on Friday.
URL:https://872rcacs.ca/event/872-supply-night-17/
LOCATION:DYMON Storage Kanata\, 110 Didsbury Rd.\, Kanata\, Ontario\, K2T 0C2\, Canada
ORGANIZER;CN="2Lt GINN":MAILTO:supply 872rcacs.ca
END:VEVENT
BEGIN:VEVENT
DTSTART;TZID=America/Toronto:20250215T084500
DTEND;TZID=America/Toronto:20250215T120000
DTSTAMP:20260425T133711
CREATED:20250214T021531Z
LAST-MODIFIED:20250214T021531Z
UID:10000156-1739609100-1739620800@872rcacs.ca
SUMMARY:872 Marksmanship Practice
DESCRIPTION:Marksmanship Practice at 5 Brouillette (Connaught Ranges)
URL:https://872rcacs.ca/event/872-marksmanship-practice-11/
LOCATION:Connaught Cadet Training Centre\, 1 Lewis Gun Rd\, Nepean\, Ontario\, K2K 3K3\, Canada
END:VEVENT
END:VCALENDAR