BEGIN:VCALENDAR
VERSION:2.0
PRODID:-//872 Kiwanis Kanata Royal Canadian Air Cadet Squadron - ECPv6.15.20//NONSGML v1.0//EN
CALSCALE:GREGORIAN
METHOD:PUBLISH
X-WR-CALNAME:872 Kiwanis Kanata Royal Canadian Air Cadet Squadron
X-ORIGINAL-URL:https://872rcacs.ca
X-WR-CALDESC:Events for 872 Kiwanis Kanata Royal Canadian Air Cadet Squadron
REFRESH-INTERVAL;VALUE=DURATION:PT1H
X-Robots-Tag:noindex
X-PUBLISHED-TTL:PT1H
BEGIN:VTIMEZONE
TZID:America/Toronto
BEGIN:DAYLIGHT
TZOFFSETFROM:-0500
TZOFFSETTO:-0400
TZNAME:EDT
DTSTART:20230312T070000
END:DAYLIGHT
BEGIN:STANDARD
TZOFFSETFROM:-0400
TZOFFSETTO:-0500
TZNAME:EST
DTSTART:20231105T060000
END:STANDARD
BEGIN:DAYLIGHT
TZOFFSETFROM:-0500
TZOFFSETTO:-0400
TZNAME:EDT
DTSTART:20240310T070000
END:DAYLIGHT
BEGIN:STANDARD
TZOFFSETFROM:-0400
TZOFFSETTO:-0500
TZNAME:EST
DTSTART:20241103T060000
END:STANDARD
BEGIN:DAYLIGHT
TZOFFSETFROM:-0500
TZOFFSETTO:-0400
TZNAME:EDT
DTSTART:20250309T070000
END:DAYLIGHT
BEGIN:STANDARD
TZOFFSETFROM:-0400
TZOFFSETTO:-0500
TZNAME:EST
DTSTART:20251102T060000
END:STANDARD
END:VTIMEZONE
BEGIN:VEVENT
DTSTART;TZID=America/Toronto:20240918T183000
DTEND;TZID=America/Toronto:20240918T213000
DTSTAMP:20260425T195024
CREATED:20240829T020957Z
LAST-MODIFIED:20240829T023734Z
UID:10000009-1726684200-1726695000@872rcacs.ca
SUMMARY:Training Night
DESCRIPTION:First training night for all levels.
URL:https://872rcacs.ca/event/training-night/
LOCATION:A.Y. Jackson High School\, 150 Abbeyhill Dr\, Kanata\, Ontario\, K2L 1H7\, Canada
END:VEVENT
BEGIN:VEVENT
DTSTART;TZID=America/Toronto:20240918T183000
DTEND;TZID=America/Toronto:20240918T203000
DTSTAMP:20260425T195024
CREATED:20240829T020703Z
LAST-MODIFIED:20250831T162745Z
UID:10000008-1726684200-1726691400@872rcacs.ca
SUMMARY:New Recruit Registration Night (By Invitation Only)
DESCRIPTION:Due to capacity limitations\, registration is NOT OPEN for general drop in this year. Families who completed the registration forms online and who have received a confirmation invitation email to attend on Wednesday September 17\, please bring all required documentation outlined in the email. A parent or legal guardian must accompany their cadet. \nAnyone who has not received a confirmation email\, your application is being held on a wait list and you will be contacted when the squadron has availability. \nAll returning cadets (level 2 and up) are expected to attend the first training night. Order of dress is C5. \n  \n  \n 
URL:https://872rcacs.ca/event/open-registration-night/
LOCATION:A.Y. Jackson High School\, 150 Abbeyhill Dr\, Kanata\, Ontario\, K2L 1H7\, Canada
END:VEVENT
BEGIN:VEVENT
DTSTART;TZID=America/Toronto:20240913T183000
DTEND;TZID=America/Toronto:20240913T203000
DTSTAMP:20260425T195024
CREATED:20240903T125035Z
LAST-MODIFIED:20240903T125035Z
UID:10000011-1726252200-1726259400@872rcacs.ca
SUMMARY:Supply Night
DESCRIPTION:The week of September 13 is open to level 2 and 3 cadets. Any upgrades in size require exchange of your old uniform items. If you have questions\, please email Supply.
URL:https://872rcacs.ca/event/supply-night-2/
LOCATION:DYMON Storage Kanata\, 110 Didsbury Rd.\, Kanata\, Ontario\, K2T 0C2\, Canada
ORGANIZER;CN="2Lt GINN":MAILTO:supply 872rcacs.ca
END:VEVENT
BEGIN:VEVENT
DTSTART;TZID=America/Toronto:20240911T183000
DTEND;TZID=America/Toronto:20240911T213000
DTSTAMP:20260425T195024
CREATED:20240829T020103Z
LAST-MODIFIED:20240829T023700Z
UID:10000007-1726079400-1726090200@872rcacs.ca
SUMMARY:Level 2/3 Registration Night
DESCRIPTION:Level 2/3 registration night. Please bring all required information. A parent or legal guardian must accompany their cadet.
URL:https://872rcacs.ca/event/level-2-3-registration-night/
LOCATION:John G. Mlacak Community Centre\, 2500 Campeau Dr\, Kanata\, Ontario\, K2K 2W3\, Canada
END:VEVENT
BEGIN:VEVENT
DTSTART;TZID=America/Toronto:20240906T183000
DTEND;TZID=America/Toronto:20240906T203000
DTSTAMP:20260425T195024
CREATED:20240903T124414Z
LAST-MODIFIED:20240903T124608Z
UID:10000010-1725647400-1725654600@872rcacs.ca
SUMMARY:Supply Night
DESCRIPTION:The week of September 6 will be open to level 4 and 5 cadets. If you require new sizes\, exchange of your old uniform items are required. Please email Supply with any questions.
URL:https://872rcacs.ca/event/supply-night/
LOCATION:DYMON Storage Kanata\, 110 Didsbury Rd.\, Kanata\, Ontario\, K2T 0C2\, Canada
ORGANIZER;CN="2Lt GINN":MAILTO:supply 872rcacs.ca
END:VEVENT
BEGIN:VEVENT
DTSTART;TZID=America/Toronto:20240904T183000
DTEND;TZID=America/Toronto:20240904T210000
DTSTAMP:20260425T195024
CREATED:20240829T015516Z
LAST-MODIFIED:20240829T023807Z
UID:10000006-1725474600-1725483600@872rcacs.ca
SUMMARY:Level 4/5 Registration Night
DESCRIPTION:Level 4/5 registration. Please bring all required documentation and a parent or legal guardian.
URL:https://872rcacs.ca/event/level-4-5-registration-night/
LOCATION:John G. Mlacak Community Centre\, 2500 Campeau Dr\, Kanata\, Ontario\, K2K 2W3\, Canada
END:VEVENT
END:VCALENDAR