BEGIN:VCALENDAR
VERSION:2.0
PRODID:-//872 Kiwanis Kanata Royal Canadian Air Cadet Squadron - ECPv6.15.20//NONSGML v1.0//EN
CALSCALE:GREGORIAN
METHOD:PUBLISH
X-WR-CALNAME:872 Kiwanis Kanata Royal Canadian Air Cadet Squadron
X-ORIGINAL-URL:https://872rcacs.ca
X-WR-CALDESC:Events for 872 Kiwanis Kanata Royal Canadian Air Cadet Squadron
REFRESH-INTERVAL;VALUE=DURATION:PT1H
X-Robots-Tag:noindex
X-PUBLISHED-TTL:PT1H
BEGIN:VTIMEZONE
TZID:America/Toronto
BEGIN:DAYLIGHT
TZOFFSETFROM:-0500
TZOFFSETTO:-0400
TZNAME:EDT
DTSTART:20240310T070000
END:DAYLIGHT
BEGIN:STANDARD
TZOFFSETFROM:-0400
TZOFFSETTO:-0500
TZNAME:EST
DTSTART:20241103T060000
END:STANDARD
BEGIN:DAYLIGHT
TZOFFSETFROM:-0500
TZOFFSETTO:-0400
TZNAME:EDT
DTSTART:20250309T070000
END:DAYLIGHT
BEGIN:STANDARD
TZOFFSETFROM:-0400
TZOFFSETTO:-0500
TZNAME:EST
DTSTART:20251102T060000
END:STANDARD
BEGIN:DAYLIGHT
TZOFFSETFROM:-0500
TZOFFSETTO:-0400
TZNAME:EDT
DTSTART:20260308T070000
END:DAYLIGHT
BEGIN:STANDARD
TZOFFSETFROM:-0400
TZOFFSETTO:-0500
TZNAME:EST
DTSTART:20261101T060000
END:STANDARD
BEGIN:DAYLIGHT
TZOFFSETFROM:-0500
TZOFFSETTO:-0400
TZNAME:EDT
DTSTART:20270314T070000
END:DAYLIGHT
BEGIN:STANDARD
TZOFFSETFROM:-0400
TZOFFSETTO:-0500
TZNAME:EST
DTSTART:20271107T060000
END:STANDARD
END:VTIMEZONE
BEGIN:VEVENT
DTSTART;TZID=America/Toronto:20260114T183000
DTEND;TZID=America/Toronto:20260114T211500
DTSTAMP:20260423T180616
CREATED:20250710T192732Z
LAST-MODIFIED:20250804T015444Z
UID:10000253-1768415400-1768425300@872rcacs.ca
SUMMARY:872 Training Night
DESCRIPTION:  \nRegular training night for all cadets. \nDetails and updates will be posted on Teams. \n  \nOrder of Dress: C5 \n  \n\n\n\n\nOrder of Dress \n\n\nComposition \n\n\nAuthorized Clothing Accoutrements and Accessories \n\n\n\n\n\n\n\nC5 \n\n\n\nBeret / turban with Air Cadet headdress insignia\, toque or wide-brimmed tan summer hat.\nField shirt.\nRank slip-ons.\nEnvironmental (blue) / squadron / CTC t-shirt.\nField pants and belt.\nSocks.\nMulti-Purpose Boots (alternative footwear may be authorized when necessary based on the activity).\n\n\n\n\nAppointment or rank brassard.\nNametape optional.\nLanyard. May be worn to indicate nominations to particular positions at the corps / CTC.\n\nNote: \n\nMay be worn under the all-season jacket.\nShirt may be worn with sleeves extended or rolled above the elbows.
URL:https://872rcacs.ca/event/872-training-night-28/
LOCATION:A.Y. Jackson High School\, 150 Abbeyhill Dr\, Kanata\, Ontario\, K2L 1H7\, Canada
CATEGORIES:TRAINING NIGHT
END:VEVENT
BEGIN:VEVENT
DTSTART;TZID=America/Toronto:20260113T190000
DTEND;TZID=America/Toronto:20260113T210000
DTSTAMP:20260423T180616
CREATED:20260104T062057Z
LAST-MODIFIED:20260104T062102Z
UID:10000672-1768330800-1768338000@872rcacs.ca
SUMMARY:872 Ceremonial Drill and Flag Party Practice
DESCRIPTION:  \nAll cadets interested in joining the Drill Team are invited to attend weekly practices every Tuesday. \nDetails and updates will be posted on Teams. \n 
URL:https://872rcacs.ca/event/872-ceremonial-drill-and-flag-party-practice-10-2/2026-01-13/
LOCATION:Tony Graham Recreational Complex (Upper Hall A)\, 100 Charlie Rogers Place\, Kanata\, Ontario\, K2V1A2\, Canada
CATEGORIES:DRILL
END:VEVENT
BEGIN:VEVENT
DTSTART;TZID=America/Toronto:20260108T190000
DTEND;TZID=America/Toronto:20260108T210000
DTSTAMP:20260423T180616
CREATED:20260104T063114Z
LAST-MODIFIED:20260104T063114Z
UID:10000772-1767898800-1767906000@872rcacs.ca
SUMMARY:872 Band Practice
DESCRIPTION:  \nThe 872 Squadron Band is accepting new members! Our band includes both a Brass & Reed and a Pipe & Drum Band\, all cadets are invited to join. \nInterested cadets are encouraged to attend weekly practices and bring their instruments.  \nCheck Teams for news and updates from the Drum Major and Band Officers. \n 
URL:https://872rcacs.ca/event/872-band-practice-27/2026-01-08/
LOCATION:Glen Cairn Community Centre (Upper Hall)\, 190 Morrena Rd.\, Kanata\, Ontario\, K2L 1E1\, Canada
CATEGORIES:BAND
END:VEVENT
BEGIN:VEVENT
DTSTART;TZID=America/Toronto:20260107T183000
DTEND;TZID=America/Toronto:20260107T211500
DTSTAMP:20260423T180617
CREATED:20250710T194925Z
LAST-MODIFIED:20260104T043904Z
UID:10000267-1767810600-1767820500@872rcacs.ca
SUMMARY:872 Training Night - CO's Parade
DESCRIPTION:  \n\n  \nCO’s Parade for all cadets \nDetails and updates will be posted on Teams \n  \nOrder of Dress: C3
URL:https://872rcacs.ca/event/872-training-night-cos-parade-12/
LOCATION:A.Y. Jackson High School\, 150 Abbeyhill Dr\, Kanata\, Ontario\, K2L 1H7\, Canada
CATEGORIES:TRAINING NIGHT
END:VEVENT
BEGIN:VEVENT
DTSTART;TZID=America/Toronto:20260106T190000
DTEND;TZID=America/Toronto:20260106T210000
DTSTAMP:20260423T180617
CREATED:20260104T073407Z
LAST-MODIFIED:20260104T080729Z
UID:10000846-1767726000-1767733200@872rcacs.ca
SUMMARY:872 Band Practice
DESCRIPTION:Reminder: Additional band practice scheduled for Tuesday Jan. 6\, 2026\nCheck Teams for news and updates from the Drum Major and Band Officers.
URL:https://872rcacs.ca/event/872-band-practice-28/
LOCATION:Tony Graham Recreational Complex (Upper Hall A)\, 100 Charlie Rogers Place\, Kanata\, Ontario\, K2V1A2\, Canada
CATEGORIES:BAND
END:VEVENT
BEGIN:VEVENT
DTSTART;TZID=America/Toronto:20260106T190000
DTEND;TZID=America/Toronto:20260106T210000
DTSTAMP:20260423T180617
CREATED:20260104T062057Z
LAST-MODIFIED:20260104T062102Z
UID:10000757-1767726000-1767733200@872rcacs.ca
SUMMARY:872 Ceremonial Drill and Flag Party Practice
DESCRIPTION:  \nAll cadets interested in joining the Drill Team are invited to attend weekly practices every Tuesday. \nDetails and updates will be posted on Teams. \n 
URL:https://872rcacs.ca/event/872-ceremonial-drill-and-flag-party-practice-10-2/2026-01-06/
LOCATION:Tony Graham Recreational Complex (Upper Hall A)\, 100 Charlie Rogers Place\, Kanata\, Ontario\, K2V1A2\, Canada
CATEGORIES:DRILL
END:VEVENT
BEGIN:VEVENT
DTSTART;VALUE=DATE:20251222
DTEND;VALUE=DATE:20260104
DTSTAMP:20260423T180617
CREATED:20250710T224002Z
LAST-MODIFIED:20250710T224002Z
UID:10000306-1766361600-1767484799@872rcacs.ca
SUMMARY:Winter Break - No Events
DESCRIPTION:872 Squadron will stand down between December 23 to January 4\, inclusively. There is no training or special activities planned over this period. \nWe wish all cadets and their families a safe\, joyful and peaceful winter break. We look froward to welcoming cadets back in January for another great year of activities and events in 2025!
URL:https://872rcacs.ca/event/winter-break-no-events-2/
END:VEVENT
BEGIN:VEVENT
DTSTART;TZID=America/Toronto:20251218T190000
DTEND;TZID=America/Toronto:20251218T210000
DTSTAMP:20260423T180617
CREATED:20260104T063114Z
LAST-MODIFIED:20260104T063114Z
UID:10000771-1766084400-1766091600@872rcacs.ca
SUMMARY:872 Band Practice
DESCRIPTION:  \nThe 872 Squadron Band is accepting new members! Our band includes both a Brass & Reed and a Pipe & Drum Band\, all cadets are invited to join. \nInterested cadets are encouraged to attend weekly practices and bring their instruments.  \nCheck Teams for news and updates from the Drum Major and Band Officers. \n 
URL:https://872rcacs.ca/event/872-band-practice-27/2025-12-18/
LOCATION:Glen Cairn Community Centre (Upper Hall)\, 190 Morrena Rd.\, Kanata\, Ontario\, K2L 1E1\, Canada
CATEGORIES:BAND
END:VEVENT
BEGIN:VEVENT
DTSTART;TZID=America/Toronto:20251217T183000
DTEND;TZID=America/Toronto:20251217T211500
DTSTAMP:20260423T180617
CREATED:20250809T231058Z
LAST-MODIFIED:20250809T231152Z
UID:10000358-1765996200-1766006100@872rcacs.ca
SUMMARY:872 Training Night
DESCRIPTION:  \nRegular training night for all cadets. \nDetails and updates will be posted on Teams. \n  \nOrder of Dress: C5 \n  \n\n\n\n\nOrder of Dress \n\n\nComposition \n\n\nAuthorized Clothing Accoutrements and Accessories \n\n\n\n\n\n\n\nC5 \n\n\n\nBeret / turban with Air Cadet headdress insignia\, toque or wide-brimmed tan summer hat.\nField shirt.\nRank slip-ons.\nEnvironmental (blue) / squadron / CTC t-shirt.\nField pants and belt.\nSocks.\nMulti-Purpose Boots (alternative footwear may be authorized when necessary based on the activity).\n\n\n\n\nAppointment or rank brassard.\nNametape optional.\nLanyard. May be worn to indicate nominations to particular positions at the corps / CTC.\n\nNote: \n\nMay be worn under the all-season jacket.\nShirt may be worn with sleeves extended or rolled above the elbows.
URL:https://872rcacs.ca/event/872-training-night-43/
LOCATION:A.Y. Jackson High School\, 150 Abbeyhill Dr\, Kanata\, Ontario\, K2L 1H7\, Canada
CATEGORIES:TRAINING NIGHT
END:VEVENT
BEGIN:VEVENT
DTSTART;TZID=America/Toronto:20251216T190000
DTEND;TZID=America/Toronto:20251216T210000
DTSTAMP:20260423T180617
CREATED:20260104T062057Z
LAST-MODIFIED:20260104T062102Z
UID:10000756-1765911600-1765918800@872rcacs.ca
SUMMARY:872 Ceremonial Drill and Flag Party Practice
DESCRIPTION:  \nAll cadets interested in joining the Drill Team are invited to attend weekly practices every Tuesday. \nDetails and updates will be posted on Teams. \n 
URL:https://872rcacs.ca/event/872-ceremonial-drill-and-flag-party-practice-10-2/2025-12-16/
LOCATION:Tony Graham Recreational Complex (Upper Hall A)\, 100 Charlie Rogers Place\, Kanata\, Ontario\, K2V1A2\, Canada
CATEGORIES:DRILL
END:VEVENT
BEGIN:VEVENT
DTSTART;TZID=America/Toronto:20251216T190000
DTEND;TZID=America/Toronto:20251216T210000
DTSTAMP:20260423T180617
CREATED:20260104T060859Z
LAST-MODIFIED:20260104T060918Z
UID:10000670-1765911600-1765918800@872rcacs.ca
SUMMARY:872 Ceremonial Drill and Flag Party Practice
DESCRIPTION:  \nAll cadets interested in joining the Drill Team are invited to attend weekly practices every Tuesday. \nDetails and updates will be posted on Teams. \n 
URL:https://872rcacs.ca/event/872-ceremonial-drill-and-flag-party-practice-10/2025-12-16/
LOCATION:Tony Graham Recreational Complex (Upper Hall A)\, 100 Charlie Rogers Place\, Kanata\, Ontario\, K2V1A2\, Canada
CATEGORIES:DRILL
END:VEVENT
BEGIN:VEVENT
DTSTART;TZID=America/Toronto:20251211T190000
DTEND;TZID=America/Toronto:20251211T210000
DTSTAMP:20260423T180617
CREATED:20260104T063114Z
LAST-MODIFIED:20260104T063114Z
UID:10000770-1765479600-1765486800@872rcacs.ca
SUMMARY:872 Band Practice
DESCRIPTION:  \nThe 872 Squadron Band is accepting new members! Our band includes both a Brass & Reed and a Pipe & Drum Band\, all cadets are invited to join. \nInterested cadets are encouraged to attend weekly practices and bring their instruments.  \nCheck Teams for news and updates from the Drum Major and Band Officers. \n 
URL:https://872rcacs.ca/event/872-band-practice-27/2025-12-11/
LOCATION:Glen Cairn Community Centre (Upper Hall)\, 190 Morrena Rd.\, Kanata\, Ontario\, K2L 1E1\, Canada
CATEGORIES:BAND
END:VEVENT
BEGIN:VEVENT
DTSTART;TZID=America/Toronto:20251210T190000
DTEND;TZID=America/Toronto:20251210T210000
DTSTAMP:20260423T180617
CREATED:20250710T183817Z
LAST-MODIFIED:20250804T231845Z
UID:10000240-1765393200-1765400400@872rcacs.ca
SUMMARY:SSC Meeting
DESCRIPTION:  \nJoin us at the Squadron Sponsoring Committee (SSC) meetings! These gatherings are an excellent way to connect with the cadet community\, hear important updates\, learn about financial planning\, and find out about upcoming events. Whether you simply want to listen in or discover how you can contribute to the program’s success\, this is a great way to stay informed and involved! \n  \nPlease check the whiteboard at the SCC table upon arrival for the meeting location.
URL:https://872rcacs.ca/event/ssc-meeting-3/
LOCATION:A.Y. Jackson High School\, 150 Abbeyhill Dr\, Kanata\, Ontario\, K2L 1H7\, Canada
CATEGORIES:SSC
ORGANIZER;CN="Susan Trimble%2C Vice Chairperson":MAILTO:872.chairperson@cadetsair.ca
END:VEVENT
BEGIN:VEVENT
DTSTART;TZID=America/Toronto:20251210T183000
DTEND;TZID=America/Toronto:20251210T211500
DTSTAMP:20260423T180617
CREATED:20250710T192654Z
LAST-MODIFIED:20250804T014701Z
UID:10000252-1765391400-1765401300@872rcacs.ca
SUMMARY:872 Training Night
DESCRIPTION:  \nRegular training night for all cadets. \nDetails and updates will be posted on Teams. \n  \nOrder of Dress: C5 \n  \n\n\n\n\nOrder of Dress \n\n\nComposition \n\n\nAuthorized Clothing Accoutrements and Accessories \n\n\n\n\n\n\n\nC5 \n\n\n\nBeret / turban with Air Cadet headdress insignia\, toque or wide-brimmed tan summer hat.\nField shirt.\nRank slip-ons.\nEnvironmental (blue) / squadron / CTC t-shirt.\nField pants and belt.\nSocks.\nMulti-Purpose Boots (alternative footwear may be authorized when necessary based on the activity).\n\n\n\n\nAppointment or rank brassard.\nNametape optional.\nLanyard. May be worn to indicate nominations to particular positions at the corps / CTC.\n\nNote: \n\nMay be worn under the all-season jacket.\nShirt may be worn with sleeves extended or rolled above the elbows.
URL:https://872rcacs.ca/event/872-training-night-27/
LOCATION:A.Y. Jackson High School\, 150 Abbeyhill Dr\, Kanata\, Ontario\, K2L 1H7\, Canada
CATEGORIES:TRAINING NIGHT
END:VEVENT
BEGIN:VEVENT
DTSTART;TZID=America/Toronto:20251209T190000
DTEND;TZID=America/Toronto:20251209T210000
DTSTAMP:20260423T180617
CREATED:20260104T062057Z
LAST-MODIFIED:20260104T062102Z
UID:10000755-1765306800-1765314000@872rcacs.ca
SUMMARY:872 Ceremonial Drill and Flag Party Practice
DESCRIPTION:  \nAll cadets interested in joining the Drill Team are invited to attend weekly practices every Tuesday. \nDetails and updates will be posted on Teams. \n 
URL:https://872rcacs.ca/event/872-ceremonial-drill-and-flag-party-practice-10-2/2025-12-09/
LOCATION:Tony Graham Recreational Complex (Upper Hall A)\, 100 Charlie Rogers Place\, Kanata\, Ontario\, K2V1A2\, Canada
CATEGORIES:DRILL
END:VEVENT
BEGIN:VEVENT
DTSTART;TZID=America/Toronto:20251209T190000
DTEND;TZID=America/Toronto:20251209T210000
DTSTAMP:20260423T180617
CREATED:20260104T060859Z
LAST-MODIFIED:20260104T060918Z
UID:10000669-1765306800-1765314000@872rcacs.ca
SUMMARY:872 Ceremonial Drill and Flag Party Practice
DESCRIPTION:  \nAll cadets interested in joining the Drill Team are invited to attend weekly practices every Tuesday. \nDetails and updates will be posted on Teams. \n 
URL:https://872rcacs.ca/event/872-ceremonial-drill-and-flag-party-practice-10/2025-12-09/
LOCATION:Tony Graham Recreational Complex (Upper Hall A)\, 100 Charlie Rogers Place\, Kanata\, Ontario\, K2V1A2\, Canada
CATEGORIES:DRILL
END:VEVENT
BEGIN:VEVENT
DTSTART;TZID=America/Toronto:20251204T190000
DTEND;TZID=America/Toronto:20251204T210000
DTSTAMP:20260423T180617
CREATED:20260104T063114Z
LAST-MODIFIED:20260104T063114Z
UID:10000769-1764874800-1764882000@872rcacs.ca
SUMMARY:872 Band Practice
DESCRIPTION:  \nThe 872 Squadron Band is accepting new members! Our band includes both a Brass & Reed and a Pipe & Drum Band\, all cadets are invited to join. \nInterested cadets are encouraged to attend weekly practices and bring their instruments.  \nCheck Teams for news and updates from the Drum Major and Band Officers. \n 
URL:https://872rcacs.ca/event/872-band-practice-27/2025-12-04/
LOCATION:Glen Cairn Community Centre (Upper Hall)\, 190 Morrena Rd.\, Kanata\, Ontario\, K2L 1E1\, Canada
CATEGORIES:BAND
END:VEVENT
BEGIN:VEVENT
DTSTART;TZID=America/Toronto:20251203T183000
DTEND;TZID=America/Toronto:20251203T211500
DTSTAMP:20260423T180617
CREATED:20250710T194835Z
LAST-MODIFIED:20250810T024128Z
UID:10000266-1764786600-1764796500@872rcacs.ca
SUMMARY:872 Winter Social at the Kanata Legion
DESCRIPTION:  \nCadets will enjoy an evening of celebration\, laughter\, fun\, and music at our annual Winter Social. \nCadets are to wear civilian clothing (civvies). \n  \nPlease note: There will be no training at A.Y. Jackson this Wednesday (December\, 3\, 2025).
URL:https://872rcacs.ca/event/872-training-night-cos-parade-11/
LOCATION:A.Y. Jackson High School\, 150 Abbeyhill Dr\, Kanata\, Ontario\, K2L 1H7\, Canada
CATEGORIES:Cadet Special Activity
END:VEVENT
BEGIN:VEVENT
DTSTART;TZID=America/Toronto:20251202T190000
DTEND;TZID=America/Toronto:20251202T210000
DTSTAMP:20260423T180617
CREATED:20260104T062057Z
LAST-MODIFIED:20260104T062102Z
UID:10000754-1764702000-1764709200@872rcacs.ca
SUMMARY:872 Ceremonial Drill and Flag Party Practice
DESCRIPTION:  \nAll cadets interested in joining the Drill Team are invited to attend weekly practices every Tuesday. \nDetails and updates will be posted on Teams. \n 
URL:https://872rcacs.ca/event/872-ceremonial-drill-and-flag-party-practice-10-2/2025-12-02/
LOCATION:Tony Graham Recreational Complex (Upper Hall A)\, 100 Charlie Rogers Place\, Kanata\, Ontario\, K2V1A2\, Canada
CATEGORIES:DRILL
END:VEVENT
BEGIN:VEVENT
DTSTART;TZID=America/Toronto:20251202T190000
DTEND;TZID=America/Toronto:20251202T210000
DTSTAMP:20260423T180617
CREATED:20260104T060859Z
LAST-MODIFIED:20260104T060918Z
UID:10000668-1764702000-1764709200@872rcacs.ca
SUMMARY:872 Ceremonial Drill and Flag Party Practice
DESCRIPTION:  \nAll cadets interested in joining the Drill Team are invited to attend weekly practices every Tuesday. \nDetails and updates will be posted on Teams. \n 
URL:https://872rcacs.ca/event/872-ceremonial-drill-and-flag-party-practice-10/2025-12-02/
LOCATION:Tony Graham Recreational Complex (Upper Hall A)\, 100 Charlie Rogers Place\, Kanata\, Ontario\, K2V1A2\, Canada
CATEGORIES:DRILL
END:VEVENT
BEGIN:VEVENT
DTSTART;TZID=America/Toronto:20251127T190000
DTEND;TZID=America/Toronto:20251127T210000
DTSTAMP:20260423T180617
CREATED:20260104T063114Z
LAST-MODIFIED:20260104T063114Z
UID:10000768-1764270000-1764277200@872rcacs.ca
SUMMARY:872 Band Practice
DESCRIPTION:  \nThe 872 Squadron Band is accepting new members! Our band includes both a Brass & Reed and a Pipe & Drum Band\, all cadets are invited to join. \nInterested cadets are encouraged to attend weekly practices and bring their instruments.  \nCheck Teams for news and updates from the Drum Major and Band Officers. \n 
URL:https://872rcacs.ca/event/872-band-practice-27/2025-11-27/
LOCATION:Glen Cairn Community Centre (Upper Hall)\, 190 Morrena Rd.\, Kanata\, Ontario\, K2L 1E1\, Canada
CATEGORIES:BAND
END:VEVENT
BEGIN:VEVENT
DTSTART;TZID=America/Toronto:20251126T183000
DTEND;TZID=America/Toronto:20251126T211500
DTSTAMP:20260423T180617
CREATED:20250710T192552Z
LAST-MODIFIED:20250804T014022Z
UID:10000251-1764181800-1764191700@872rcacs.ca
SUMMARY:872 Training Night
DESCRIPTION:  \n\n  \nRegular training night for all cadets. \nDetails and updates will be posted on Teams. \n  \nOrder of Dress: C5 \n  \n\n\n\n\nOrder of Dress \n\n\nComposition \n\n\nAuthorized Clothing Accoutrements and Accessories \n\n\n\n\n\n\n\nC5 \n\n\n\nBeret / turban with Air Cadet headdress insignia\, toque or wide-brimmed tan summer hat.\nField shirt.\nRank slip-ons.\nEnvironmental (blue) / squadron / CTC t-shirt.\nField pants and belt.\nSocks.\nMulti-Purpose Boots (alternative footwear may be authorized when necessary based on the activity).\n\n\n\n\nAppointment or rank brassard.\nNametape optional.\nLanyard. May be worn to indicate nominations to particular positions at the corps / CTC.\n\nNote: \n\nMay be worn under the all-season jacket.\nShirt may be worn with sleeves extended or rolled above the elbows.
URL:https://872rcacs.ca/event/872-training-night-26/
LOCATION:A.Y. Jackson High School\, 150 Abbeyhill Dr\, Kanata\, Ontario\, K2L 1H7\, Canada
CATEGORIES:TRAINING NIGHT
END:VEVENT
BEGIN:VEVENT
DTSTART;TZID=America/Toronto:20251125T190000
DTEND;TZID=America/Toronto:20251125T210000
DTSTAMP:20260423T180617
CREATED:20260104T062057Z
LAST-MODIFIED:20260104T062102Z
UID:10000753-1764097200-1764104400@872rcacs.ca
SUMMARY:872 Ceremonial Drill and Flag Party Practice
DESCRIPTION:  \nAll cadets interested in joining the Drill Team are invited to attend weekly practices every Tuesday. \nDetails and updates will be posted on Teams. \n 
URL:https://872rcacs.ca/event/872-ceremonial-drill-and-flag-party-practice-10-2/2025-11-25/
LOCATION:Tony Graham Recreational Complex (Upper Hall A)\, 100 Charlie Rogers Place\, Kanata\, Ontario\, K2V1A2\, Canada
CATEGORIES:DRILL
END:VEVENT
BEGIN:VEVENT
DTSTART;TZID=America/Toronto:20251125T190000
DTEND;TZID=America/Toronto:20251125T210000
DTSTAMP:20260423T180617
CREATED:20260104T060859Z
LAST-MODIFIED:20260104T060918Z
UID:10000667-1764097200-1764104400@872rcacs.ca
SUMMARY:872 Ceremonial Drill and Flag Party Practice
DESCRIPTION:  \nAll cadets interested in joining the Drill Team are invited to attend weekly practices every Tuesday. \nDetails and updates will be posted on Teams. \n 
URL:https://872rcacs.ca/event/872-ceremonial-drill-and-flag-party-practice-10/2025-11-25/
LOCATION:Tony Graham Recreational Complex (Upper Hall A)\, 100 Charlie Rogers Place\, Kanata\, Ontario\, K2V1A2\, Canada
CATEGORIES:DRILL
END:VEVENT
BEGIN:VEVENT
DTSTART;TZID=America/Toronto:20251120T190000
DTEND;TZID=America/Toronto:20251120T210000
DTSTAMP:20260423T180617
CREATED:20260104T063114Z
LAST-MODIFIED:20260104T063114Z
UID:10000767-1763665200-1763672400@872rcacs.ca
SUMMARY:872 Band Practice
DESCRIPTION:  \nThe 872 Squadron Band is accepting new members! Our band includes both a Brass & Reed and a Pipe & Drum Band\, all cadets are invited to join. \nInterested cadets are encouraged to attend weekly practices and bring their instruments.  \nCheck Teams for news and updates from the Drum Major and Band Officers. \n 
URL:https://872rcacs.ca/event/872-band-practice-27/2025-11-20/
LOCATION:Glen Cairn Community Centre (Upper Hall)\, 190 Morrena Rd.\, Kanata\, Ontario\, K2L 1E1\, Canada
CATEGORIES:BAND
END:VEVENT
BEGIN:VEVENT
DTSTART;TZID=America/Toronto:20251119T183000
DTEND;TZID=America/Toronto:20251119T211500
DTSTAMP:20260423T180617
CREATED:20250710T192511Z
LAST-MODIFIED:20250804T013811Z
UID:10000250-1763577000-1763586900@872rcacs.ca
SUMMARY:872 Training Night
DESCRIPTION:  \nRegular training night for all cadets. \nDetails and updates will be posted on Teams. \n  \nOrder of Dress: C5 \n  \n\n\n\n\nOrder of Dress \n\n\nComposition \n\n\nAuthorized Clothing Accoutrements and Accessories \n\n\n\n\n\n\n\nC5 \n\n\n\nBeret / turban with Air Cadet headdress insignia\, toque or wide-brimmed tan summer hat.\nField shirt.\nRank slip-ons.\nEnvironmental (blue) / squadron / CTC t-shirt.\nField pants and belt.\nSocks.\nMulti-Purpose Boots (alternative footwear may be authorized when necessary based on the activity).\n\n\n\n\nAppointment or rank brassard.\nNametape optional.\nLanyard. May be worn to indicate nominations to particular positions at the corps / CTC.\n\nNote: \n\nMay be worn under the all-season jacket.\nShirt may be worn with sleeves extended or rolled above the elbows.
URL:https://872rcacs.ca/event/872-training-night-25/
LOCATION:A.Y. Jackson High School\, 150 Abbeyhill Dr\, Kanata\, Ontario\, K2L 1H7\, Canada
CATEGORIES:TRAINING NIGHT
END:VEVENT
BEGIN:VEVENT
DTSTART;TZID=America/Toronto:20251118T190000
DTEND;TZID=America/Toronto:20251118T210000
DTSTAMP:20260423T180617
CREATED:20260104T062057Z
LAST-MODIFIED:20260104T062102Z
UID:10000752-1763492400-1763499600@872rcacs.ca
SUMMARY:872 Ceremonial Drill and Flag Party Practice
DESCRIPTION:  \nAll cadets interested in joining the Drill Team are invited to attend weekly practices every Tuesday. \nDetails and updates will be posted on Teams. \n 
URL:https://872rcacs.ca/event/872-ceremonial-drill-and-flag-party-practice-10-2/2025-11-18/
LOCATION:Tony Graham Recreational Complex (Upper Hall A)\, 100 Charlie Rogers Place\, Kanata\, Ontario\, K2V1A2\, Canada
CATEGORIES:DRILL
END:VEVENT
BEGIN:VEVENT
DTSTART;TZID=America/Toronto:20251118T190000
DTEND;TZID=America/Toronto:20251118T210000
DTSTAMP:20260423T180617
CREATED:20260104T060859Z
LAST-MODIFIED:20260104T060918Z
UID:10000666-1763492400-1763499600@872rcacs.ca
SUMMARY:872 Ceremonial Drill and Flag Party Practice
DESCRIPTION:  \nAll cadets interested in joining the Drill Team are invited to attend weekly practices every Tuesday. \nDetails and updates will be posted on Teams. \n 
URL:https://872rcacs.ca/event/872-ceremonial-drill-and-flag-party-practice-10/2025-11-18/
LOCATION:Tony Graham Recreational Complex (Upper Hall A)\, 100 Charlie Rogers Place\, Kanata\, Ontario\, K2V1A2\, Canada
CATEGORIES:DRILL
END:VEVENT
BEGIN:VEVENT
DTSTART;TZID=America/Toronto:20251113T190000
DTEND;TZID=America/Toronto:20251113T210000
DTSTAMP:20260423T180617
CREATED:20260104T063114Z
LAST-MODIFIED:20260104T063114Z
UID:10000766-1763060400-1763067600@872rcacs.ca
SUMMARY:872 Band Practice
DESCRIPTION:  \nThe 872 Squadron Band is accepting new members! Our band includes both a Brass & Reed and a Pipe & Drum Band\, all cadets are invited to join. \nInterested cadets are encouraged to attend weekly practices and bring their instruments.  \nCheck Teams for news and updates from the Drum Major and Band Officers. \n 
URL:https://872rcacs.ca/event/872-band-practice-27/2025-11-13/
LOCATION:Glen Cairn Community Centre (Upper Hall)\, 190 Morrena Rd.\, Kanata\, Ontario\, K2L 1E1\, Canada
CATEGORIES:BAND
END:VEVENT
BEGIN:VEVENT
DTSTART;TZID=America/Toronto:20251112T190000
DTEND;TZID=America/Toronto:20251112T210000
DTSTAMP:20260423T180617
CREATED:20250710T183620Z
LAST-MODIFIED:20250804T225159Z
UID:10000239-1762974000-1762981200@872rcacs.ca
SUMMARY:SSC Meeting
DESCRIPTION:  \nJoin us at the Squadron Sponsoring Committee (SSC) meetings! These gatherings are an excellent way to connect with the cadet community\, hear important updates\, learn about financial planning\, and find out about upcoming events. Whether you simply want to listen in or discover how you can contribute to the program’s success\, this is a great way to stay informed and involved! \n  \nPlease check the whiteboard at the SCC table upon arrival for the meeting location.
URL:https://872rcacs.ca/event/ssc-meeting-2/
LOCATION:A.Y. Jackson High School\, 150 Abbeyhill Dr\, Kanata\, Ontario\, K2L 1H7\, Canada
CATEGORIES:SSC
ORGANIZER;CN="Susan Trimble%2C Vice Chairperson":MAILTO:872.chairperson@cadetsair.ca
END:VEVENT
END:VCALENDAR