BEGIN:VCALENDAR
VERSION:2.0
PRODID:-//872 Kiwanis Kanata Royal Canadian Air Cadet Squadron - ECPv6.15.20//NONSGML v1.0//EN
CALSCALE:GREGORIAN
METHOD:PUBLISH
X-ORIGINAL-URL:https://872rcacs.ca
X-WR-CALDESC:Events for 872 Kiwanis Kanata Royal Canadian Air Cadet Squadron
REFRESH-INTERVAL;VALUE=DURATION:PT1H
X-Robots-Tag:noindex
X-PUBLISHED-TTL:PT1H
BEGIN:VTIMEZONE
TZID:America/Toronto
BEGIN:DAYLIGHT
TZOFFSETFROM:-0500
TZOFFSETTO:-0400
TZNAME:EDT
DTSTART:20240310T070000
END:DAYLIGHT
BEGIN:STANDARD
TZOFFSETFROM:-0400
TZOFFSETTO:-0500
TZNAME:EST
DTSTART:20241103T060000
END:STANDARD
BEGIN:DAYLIGHT
TZOFFSETFROM:-0500
TZOFFSETTO:-0400
TZNAME:EDT
DTSTART:20250309T070000
END:DAYLIGHT
BEGIN:STANDARD
TZOFFSETFROM:-0400
TZOFFSETTO:-0500
TZNAME:EST
DTSTART:20251102T060000
END:STANDARD
BEGIN:DAYLIGHT
TZOFFSETFROM:-0500
TZOFFSETTO:-0400
TZNAME:EDT
DTSTART:20260308T070000
END:DAYLIGHT
BEGIN:STANDARD
TZOFFSETFROM:-0400
TZOFFSETTO:-0500
TZNAME:EST
DTSTART:20261101T060000
END:STANDARD
END:VTIMEZONE
BEGIN:VEVENT
DTSTART;TZID=America/Toronto:20251001T183000
DTEND;TZID=America/Toronto:20251001T211500
DTSTAMP:20260424T040037
CREATED:20250214T023141Z
LAST-MODIFIED:20250809T062057Z
UID:10000164-1759343400-1759353300@872rcacs.ca
SUMMARY:872 Training Night - CO's Parade
DESCRIPTION:  \nCO’s Parade for all cadets. \n  \nDetails and updates will be posted on Teams. \n  \nAttire: \nNew recruits: Blue Squadron T-Shirt \nReturning Cadets: Order of Dress C3 \n 
URL:https://872rcacs.ca/event/872-training-night-cos-parade-6/
LOCATION:A.Y. Jackson High School\, 150 Abbeyhill Dr\, Kanata\, Ontario\, K2L 1H7\, Canada
CATEGORIES:TRAINING NIGHT
END:VEVENT
BEGIN:VEVENT
DTSTART;TZID=America/Toronto:20250930T190000
DTEND;TZID=America/Toronto:20250930T210000
DTSTAMP:20260424T040037
CREATED:20260104T062057Z
LAST-MODIFIED:20260104T062102Z
UID:10000745-1759258800-1759266000@872rcacs.ca
SUMMARY:872 Ceremonial Drill and Flag Party Practice
DESCRIPTION:  \nAll cadets interested in joining the Drill Team are invited to attend weekly practices every Tuesday. \nDetails and updates will be posted on Teams. \n 
URL:https://872rcacs.ca/event/872-ceremonial-drill-and-flag-party-practice-10-2/2025-09-30/
LOCATION:Tony Graham Recreational Complex (Upper Hall A)\, 100 Charlie Rogers Place\, Kanata\, Ontario\, K2V1A2\, Canada
CATEGORIES:DRILL
END:VEVENT
BEGIN:VEVENT
DTSTART;TZID=America/Toronto:20250925T190000
DTEND;TZID=America/Toronto:20250925T210000
DTSTAMP:20260424T040037
CREATED:20260104T063114Z
LAST-MODIFIED:20260104T063114Z
UID:10000759-1758826800-1758834000@872rcacs.ca
SUMMARY:872 Band Practice
DESCRIPTION:  \nThe 872 Squadron Band is accepting new members! Our band includes both a Brass & Reed and a Pipe & Drum Band\, all cadets are invited to join. \nInterested cadets are encouraged to attend weekly practices and bring their instruments.  \nCheck Teams for news and updates from the Drum Major and Band Officers. \n 
URL:https://872rcacs.ca/event/872-band-practice-27/2025-09-25/
LOCATION:Glen Cairn Community Centre (Upper Hall)\, 190 Morrena Rd.\, Kanata\, Ontario\, K2L 1E1\, Canada
CATEGORIES:BAND
END:VEVENT
BEGIN:VEVENT
DTSTART;TZID=America/Toronto:20250924T183000
DTEND;TZID=America/Toronto:20250924T211500
DTSTAMP:20260424T040037
CREATED:20250710T174227Z
LAST-MODIFIED:20250804T011128Z
UID:10000235-1758738600-1758748500@872rcacs.ca
SUMMARY:872 Training Night
DESCRIPTION:  \nRegular training night for all cadets.  \nDetails and updates will be posted on Teams. \n  \nAttire: \nNew recruits: Blue Squadron T-Shirt \nReturning Cadet’s Order of Dress: C5 \n  \n\n\n\n\nOrder of Dress \n\n\nComposition \n\n\nAuthorized Clothing Accoutrements and Accessories \n\n\n\n\n\n\n\nC5 \n\n\n\nBeret / turban with Air Cadet headdress insignia\, toque or wide-brimmed tan summer hat.\nField shirt.\nRank slip-ons.\nEnvironmental (blue) / squadron / CTC t-shirt.\nField pants and belt.\nSocks.\nMulti-Purpose Boots (alternative footwear may be authorized when necessary based on the activity).\n\n\n\n\nAppointment or rank brassard.\nNametape optional.\nLanyard. May be worn to indicate nominations to particular positions at the corps / CTC.\n\nNote: \n\nMay be worn under the all-season jacket.\nShirt may be worn with sleeves extended or rolled above the elbows.
URL:https://872rcacs.ca/event/872-training-night-20/
LOCATION:A.Y. Jackson High School\, 150 Abbeyhill Dr\, Kanata\, Ontario\, K2L 1H7\, Canada
CATEGORIES:TRAINING NIGHT
END:VEVENT
BEGIN:VEVENT
DTSTART;TZID=America/Toronto:20250923T190000
DTEND;TZID=America/Toronto:20250923T210000
DTSTAMP:20260424T040037
CREATED:20260104T062057Z
LAST-MODIFIED:20260104T062102Z
UID:10000744-1758654000-1758661200@872rcacs.ca
SUMMARY:872 Ceremonial Drill and Flag Party Practice
DESCRIPTION:  \nAll cadets interested in joining the Drill Team are invited to attend weekly practices every Tuesday. \nDetails and updates will be posted on Teams. \n 
URL:https://872rcacs.ca/event/872-ceremonial-drill-and-flag-party-practice-10-2/2025-09-23/
LOCATION:Tony Graham Recreational Complex (Upper Hall A)\, 100 Charlie Rogers Place\, Kanata\, Ontario\, K2V1A2\, Canada
CATEGORIES:DRILL
END:VEVENT
BEGIN:VEVENT
DTSTART;TZID=America/Toronto:20250922T190000
DTEND;TZID=America/Toronto:20250922T190000
DTSTAMP:20260424T040037
CREATED:20250710T235631Z
LAST-MODIFIED:20250921T023550Z
UID:10000339-1758567600-1758567600@872rcacs.ca
SUMMARY:Parents Information Night
DESCRIPTION:  \n\n  \nThis information session provides parents and guardians with an overview of the cadet program\, an opportunity to meet our staff and volunteers\, and a chance to ask questions regarding training\, expectations and upcoming events. This is a great opportunity to get involved and stay informed about your cadet’s experience. \nPlease check back for details.
URL:https://872rcacs.ca/event/parents-night/
LOCATION:Maurice-Lapointe Elementary Public School\, 17 Bridgestone Dr\, Kanata\, ON\, K2M 0E9\, Canada
CATEGORIES:SSC
ORGANIZER;CN="Susan Trimble%2C Vice Chairperson":MAILTO:872.chairperson@cadetsair.ca
END:VEVENT
BEGIN:VEVENT
DTSTART;VALUE=DATE:20250921
DTEND;VALUE=DATE:20250922
DTSTAMP:20260424T040037
CREATED:20250803T053810Z
LAST-MODIFIED:20250829T225801Z
UID:10000349-1758412800-1758499199@872rcacs.ca
SUMMARY:Battle of Britain Parade
DESCRIPTION:  \nCadets are invited to participate in the annual Battle of Britain Parade to honour the contribution and sacrifices of those who served in the Royal Air Force during the Second World War. \nThis is an excellent opportunity for cadets to represent our squadron and participate in an important tradition. \nDetails and updates will be posted on Teams.
URL:https://872rcacs.ca/event/battle-of-britain-parade/
LOCATION:Ontario
END:VEVENT
BEGIN:VEVENT
DTSTART;TZID=America/Toronto:20250918T190000
DTEND;TZID=America/Toronto:20250918T210000
DTSTAMP:20260424T040037
CREATED:20260104T063114Z
LAST-MODIFIED:20260104T063114Z
UID:10000758-1758222000-1758229200@872rcacs.ca
SUMMARY:872 Band Practice
DESCRIPTION:  \nThe 872 Squadron Band is accepting new members! Our band includes both a Brass & Reed and a Pipe & Drum Band\, all cadets are invited to join. \nInterested cadets are encouraged to attend weekly practices and bring their instruments.  \nCheck Teams for news and updates from the Drum Major and Band Officers. \n 
URL:https://872rcacs.ca/event/872-band-practice-27/2025-09-18/
LOCATION:Glen Cairn Community Centre (Upper Hall)\, 190 Morrena Rd.\, Kanata\, Ontario\, K2L 1E1\, Canada
CATEGORIES:BAND
END:VEVENT
BEGIN:VEVENT
DTSTART;TZID=America/Toronto:20250917T183000
DTEND;TZID=America/Toronto:20250917T211500
DTSTAMP:20260424T040037
CREATED:20250903T052902Z
LAST-MODIFIED:20250903T053240Z
UID:10000362-1758133800-1758143700@872rcacs.ca
SUMMARY:872 Training Night
DESCRIPTION:  \nRegular training night for all cadets. \nDetails and updates will be posted on Teams. \n\nCadet’s Order of Dress: C5 \n 
URL:https://872rcacs.ca/event/872-training-night-44/
LOCATION:A.Y. Jackson High School\, 150 Abbeyhill Dr\, Kanata\, Ontario\, K2L 1H7\, Canada
CATEGORIES:TRAINING NIGHT
END:VEVENT
BEGIN:VEVENT
DTSTART;TZID=America/Toronto:20250917T183000
DTEND;TZID=America/Toronto:20250917T203000
DTSTAMP:20260424T040037
CREATED:20250710T173421Z
LAST-MODIFIED:20250901T231716Z
UID:10000234-1758133800-1758141000@872rcacs.ca
SUMMARY:New Recruit Registration Night (By Invitation Only)
DESCRIPTION:  \nDue to capacity limitations\, registration is NOT OPEN for general drop in this year. Families who completed the registration forms online and who have received a confirmation invitation email by squadron staff to attend on Wednesday September 17\, please bring all required documentation outlined in the email. A parent or legal guardian must accompany their cadet. \nApplicants who have not received a confirmation email\, your application is being held on a wait list and you will be contacted when the squadron has availability. Intakes can occur several times a year\, but we cannot guarantee when you will be contacted. Interested cadets are encouraged to check other squadrons in the area\, as well as the Army Cadets and Sea Cadets for open registrations. \nIf you would like to start the application process\, please follow the link below. \nJoin Us \n \nPlease see registration times based on last names below: \nLast Names A – M 6:30 – 7:30 \nLast Names N – Z 7:30 – 8:30 \nWe look forward to seeing everyone! \n  \nAll returning cadets (level 2 and up) are expected to attend the first training night starting at 6:30pm sharp. Order of dress is C5. \n 
URL:https://872rcacs.ca/event/open-registration-night-2/
LOCATION:A.Y. Jackson High School\, 150 Abbeyhill Dr\, Kanata\, Ontario\, K2L 1H7\, Canada
CATEGORIES:Registration
END:VEVENT
BEGIN:VEVENT
DTSTART;TZID=America/Toronto:20250916T190000
DTEND;TZID=America/Toronto:20250916T210000
DTSTAMP:20260424T040037
CREATED:20260104T062057Z
LAST-MODIFIED:20260104T062102Z
UID:10000671-1758049200-1758056400@872rcacs.ca
SUMMARY:872 Ceremonial Drill and Flag Party Practice
DESCRIPTION:  \nAll cadets interested in joining the Drill Team are invited to attend weekly practices every Tuesday. \nDetails and updates will be posted on Teams. \n 
URL:https://872rcacs.ca/event/872-ceremonial-drill-and-flag-party-practice-10-2/2025-09-16/
LOCATION:Tony Graham Recreational Complex (Upper Hall A)\, 100 Charlie Rogers Place\, Kanata\, Ontario\, K2V1A2\, Canada
CATEGORIES:DRILL
END:VEVENT
BEGIN:VEVENT
DTSTART;TZID=America/Toronto:20250910T183000
DTEND;TZID=America/Toronto:20250910T203000
DTSTAMP:20260424T040037
CREATED:20250710T172839Z
LAST-MODIFIED:20250827T192302Z
UID:10000233-1757529000-1757536200@872rcacs.ca
SUMMARY:Level 2/3 Registration Night
DESCRIPTION:  \nPlease ensure you bring all required documentation and are accompanied by a parent or legal guardian. \nDetails and updates will be posted on Teams.
URL:https://872rcacs.ca/event/level-2-3-registration-night-2/
LOCATION:Glen Cairn Community Centre (Upper Hall)\, 190 Morrena Rd.\, Kanata\, Ontario\, K2L 1E1\, Canada
CATEGORIES:Registration
END:VEVENT
BEGIN:VEVENT
DTSTART;VALUE=DATE:20250907
DTEND;VALUE=DATE:20250908
DTSTAMP:20260424T040037
CREATED:20250802T034145Z
LAST-MODIFIED:20250814T024444Z
UID:10000348-1757203200-1757289599@872rcacs.ca
SUMMARY:Canadian Fallen Firefighters Memorial Ceremony
DESCRIPTION:Cadets are invited to participate in the Fallen Firefighter Ceremony and help honour our fallen heroes. Located at the intersection of Lett St. and Wellington St.\, LeBreton Flats. \nDetails and updates will be posted on Teams.
URL:https://872rcacs.ca/event/canadian-fallen-firefighters-memorial-ceremony/
LOCATION:Ontario
END:VEVENT
BEGIN:VEVENT
DTSTART;TZID=America/Toronto:20250906T083000
DTEND;TZID=America/Toronto:20250907T170000
DTSTAMP:20260424T040037
CREATED:20250710T153931Z
LAST-MODIFIED:20250814T015109Z
UID:10000230-1757147400-1757264400@872rcacs.ca
SUMMARY:872 Seniors Weekend
DESCRIPTION:  \n\nSeniors Weekend is a dedicated training and planning event for senior-level cadets. It provides an opportunity to come together for advanced instruction\, leadership development\, and coordination of activities for the upcoming training year. \nAll senior/ALP cadets are expected to participate. \n\n\n\nDetails and updates will be posted on Teams.
URL:https://872rcacs.ca/event/seniors-weekend/
LOCATION:Ontario
END:VEVENT
BEGIN:VEVENT
DTSTART;TZID=America/Toronto:20250903T183000
DTEND;TZID=America/Toronto:20250903T203000
DTSTAMP:20260424T040038
CREATED:20250710T170249Z
LAST-MODIFIED:20250827T191141Z
UID:10000232-1756924200-1756931400@872rcacs.ca
SUMMARY:Level 4/5 Registration Night
DESCRIPTION:  \nPlease ensure you bring all required documentation and are accompanied by a parent or legal guardian. \nDetails and updates will be posted on Teams.
URL:https://872rcacs.ca/event/level-4-5-registration-night-2/
LOCATION:Glen Cairn Community Centre (Upper Hall)\, 190 Morrena Rd.\, Kanata\, Ontario\, K2L 1E1\, Canada
CATEGORIES:Registration
END:VEVENT
BEGIN:VEVENT
DTSTART;TZID=America/Toronto:20250814T193000
DTEND;TZID=America/Toronto:20250814T210000
DTSTAMP:20260424T040038
CREATED:20250810T044637Z
LAST-MODIFIED:20250810T044951Z
UID:10000359-1755199800-1755205200@872rcacs.ca
SUMMARY:SSC and Staff Social
DESCRIPTION:  \nSquadron Sponsoring Committee (SSC) and Staff Social Event
URL:https://872rcacs.ca/event/ssc-and-staff-social/
LOCATION:Splittsville\, 255 Kanata Ave\, Kanata\, Ontario\, K2T 1K5\, Canada
CATEGORIES:SSC
ORGANIZER;CN="Susan Trimble%2C Vice Chairperson":MAILTO:872.chairperson@cadetsair.ca
END:VEVENT
BEGIN:VEVENT
DTSTART;TZID=America/Toronto:20250813T183000
DTEND;TZID=America/Toronto:20250813T210000
DTSTAMP:20260424T040038
CREATED:20250710T155428Z
LAST-MODIFIED:20250810T055953Z
UID:10000231-1755109800-1755118800@872rcacs.ca
SUMMARY:SSC Budget Meeting
DESCRIPTION:  \nA focused session where the Sponsoring Committee reviews and approves the annual budget\, discusses funding priorities\, and plans financial support for squadron activities.
URL:https://872rcacs.ca/event/ssc-budget-meeting/
LOCATION:Buster’s Bar and Grill\, 420 Hazeldean Rd\, Kanata\, Ontario\, K2L 4B2\, Canada
CATEGORIES:SSC
ORGANIZER;CN="Susan Trimble%2C Vice Chairperson":MAILTO:872.chairperson@cadetsair.ca
END:VEVENT
BEGIN:VEVENT
DTSTART;TZID=America/Toronto:20250604T183000
DTEND;TZID=America/Toronto:20250604T211500
DTSTAMP:20260424T040038
CREATED:20250214T023708Z
LAST-MODIFIED:20250214T030443Z
UID:10000167-1749061800-1749071700@872rcacs.ca
SUMMARY:872 Training Night - COs Parade *Change in Venue
DESCRIPTION:Final CO’s parade (and promotions parade) will take place at the Jack Charron Arena. \n  \nOrder of Dress: C3
URL:https://872rcacs.ca/event/872-training-night-cos-parade-9/
LOCATION:Jack Charron Arena\, 10 McKitrick Dr\, Kanata\, Ontario\, K2L 1T7\, Canada
END:VEVENT
BEGIN:VEVENT
DTSTART;TZID=America/Toronto:20250531T080000
DTEND;TZID=America/Toronto:20250531T170000
DTSTAMP:20260424T040038
CREATED:20240928T015711Z
LAST-MODIFIED:20240928T015711Z
UID:10000075-1748678400-1748710800@872rcacs.ca
SUMMARY:872 Annual Ceremonial Review
DESCRIPTION:Annual Ceremonial Review. Details to be announced. \nSave the date for the most important parade of the year!
URL:https://872rcacs.ca/event/872-annual-ceremonial-review/
LOCATION:Johnny Leroux (Stittsville) Arena\, 10 Warner-Colpitts Lane\, Stittsville\, Ontario\, K2H 6N4\, Canada
END:VEVENT
BEGIN:VEVENT
DTSTART;TZID=America/Toronto:20250507T183000
DTEND;TZID=America/Toronto:20250507T211500
DTSTAMP:20260424T040038
CREATED:20250214T023608Z
LAST-MODIFIED:20250214T030256Z
UID:10000166-1746642600-1746652500@872rcacs.ca
SUMMARY:872 Training Night - COs Parade *Change In Venue
DESCRIPTION:*CHANGE IN VENUE* \nTo begin practicing for ACR\, the squadron will move locations to the Jack Charron arena for the month of May. \nOrder of Dress: C3
URL:https://872rcacs.ca/event/872-training-night-cos-parade-8/
LOCATION:Jack Charron Arena\, 10 McKitrick Dr\, Kanata\, Ontario\, K2L 1T7\, Canada
END:VEVENT
BEGIN:VEVENT
DTSTART;TZID=America/Toronto:20250425T183000
DTEND;TZID=America/Toronto:20250425T200000
DTSTAMP:20260424T040038
CREATED:20250410T003257Z
LAST-MODIFIED:20250410T003257Z
UID:10000187-1745605800-1745611200@872rcacs.ca
SUMMARY:872 Supply Night
DESCRIPTION:Supply Night is open to all cadets requiring help with their uniforms (upsizing\, parts\, etc.) \nDymon Storage Kanata\, 6:30pm to 8:00pm. \n  \n 
URL:https://872rcacs.ca/event/872-supply-night-25/
LOCATION:Connaught Cadet Training Centre\, 1 Lewis Gun Rd\, Nepean\, Ontario\, K2K 3K3\, Canada
ORGANIZER;CN="2Lt GINN":MAILTO:supply 872rcacs.ca
END:VEVENT
BEGIN:VEVENT
DTSTART;TZID=America/Toronto:20250423T183000
DTEND;TZID=America/Toronto:20250423T211500
DTSTAMP:20260424T040038
CREATED:20250214T031013Z
LAST-MODIFIED:20250214T031013Z
UID:10000180-1745433000-1745442900@872rcacs.ca
SUMMARY:872 Training Night
DESCRIPTION:Order of Dress: C5 \n\n\n\n\nOrder of Dress \n\n\nComposition \n\n\nAuthorized Clothing Accoutrements and Accessories \n\n\n\n\n\n\n\nC5 \n\n\n\nBeret / turban with Air Cadet headdress insignia\, toque or wide-brimmed tan summer hat.\nField shirt.\nRank slip-ons.\nEnvironmental (blue) / squadron / CTC t-shirt.\nField pants and belt.\nSocks.\nMulti-Purpose Boots (alternative footwear may be authorized when necessary based on the activity).\n\n\n\n\nAppointment or rank brassard.\nNametape optional.\nLanyard. May be worn to indicate nominations to particular positions at the corps / CTC.\n\nNote: \n\nMay be worn under the all-season jacket.\nShirt may be worn with sleeves extended or rolled above the elbows.
URL:https://872rcacs.ca/event/872-training-night-19/
LOCATION:A.Y. Jackson High School\, 150 Abbeyhill Dr\, Kanata\, Ontario\, K2L 1H7\, Canada
END:VEVENT
BEGIN:VEVENT
DTSTART;TZID=America/Toronto:20250418T080000
DTEND;TZID=America/Toronto:20250421T170000
DTSTAMP:20260424T040038
CREATED:20250124T002916Z
LAST-MODIFIED:20250124T002916Z
UID:10000133-1744963200-1745254800@872rcacs.ca
SUMMARY:SPRING HOLIDAY
DESCRIPTION:
URL:https://872rcacs.ca/event/spring-holiday/
LOCATION:Ontario
END:VEVENT
BEGIN:VEVENT
DTSTART;TZID=America/Toronto:20250417T190000
DTEND;TZID=America/Toronto:20250417T210000
DTSTAMP:20260424T040038
CREATED:20250410T004002Z
LAST-MODIFIED:20250410T004002Z
UID:10000190-1744916400-1744923600@872rcacs.ca
SUMMARY:872 Band Practice
DESCRIPTION:Regular band practice for all instruments. Check Teams for news and updates from the Drum Major and Band O.
URL:https://872rcacs.ca/event/872-band-practice-26/
LOCATION:Glen Cairn Community Centre (Upper Hall)\, 190 Morrena Rd.\, Kanata\, Ontario\, K2L 1E1\, Canada
END:VEVENT
BEGIN:VEVENT
DTSTART;TZID=America/Toronto:20250416T184500
DTEND;TZID=America/Toronto:20250416T204500
DTSTAMP:20260424T040038
CREATED:20250202T020642Z
LAST-MODIFIED:20250212T215332Z
UID:10000143-1744829100-1744836300@872rcacs.ca
SUMMARY:Drones 7
DESCRIPTION:The Drone Training Program introduces cadets to the fundamentals of drone flight\, safety protocols\, mission planning\, and hands-on piloting skills. Through engaging activities and practical experience\, cadets will explore the exciting world of drones and gain knowledge aligned with Transport Canada regulations.
URL:https://872rcacs.ca/event/drones-7/
LOCATION:Ontario
CATEGORIES:DRONES
END:VEVENT
BEGIN:VEVENT
DTSTART;TZID=America/Toronto:20250416T183000
DTEND;TZID=America/Toronto:20250416T211500
DTSTAMP:20260424T040038
CREATED:20250214T030911Z
LAST-MODIFIED:20250214T030911Z
UID:10000179-1744828200-1744838100@872rcacs.ca
SUMMARY:872 Training Night
DESCRIPTION:Order of Dress: C5 \n\n\n\n\nOrder of Dress \n\n\nComposition \n\n\nAuthorized Clothing Accoutrements and Accessories \n\n\n\n\n\n\n\nC5 \n\n\n\nBeret / turban with Air Cadet headdress insignia\, toque or wide-brimmed tan summer hat.\nField shirt.\nRank slip-ons.\nEnvironmental (blue) / squadron / CTC t-shirt.\nField pants and belt.\nSocks.\nMulti-Purpose Boots (alternative footwear may be authorized when necessary based on the activity).\n\n\n\n\nAppointment or rank brassard.\nNametape optional.\nLanyard. May be worn to indicate nominations to particular positions at the corps / CTC.\n\nNote: \n\nMay be worn under the all-season jacket.\nShirt may be worn with sleeves extended or rolled above the elbows.
URL:https://872rcacs.ca/event/872-training-night-18/
LOCATION:A.Y. Jackson High School\, 150 Abbeyhill Dr\, Kanata\, Ontario\, K2L 1H7\, Canada
END:VEVENT
BEGIN:VEVENT
DTSTART;VALUE=DATE:20250412
DTEND;VALUE=DATE:20250413
DTSTAMP:20260424T040038
CREATED:20250214T023812Z
LAST-MODIFIED:20250410T002433Z
UID:10000168-1744416000-1744502399@872rcacs.ca
SUMMARY:Eastern Region Ceremonial Drill Competition
DESCRIPTION:Regional Ceremonial Drill Competition. \n  \nSt. Jean\, Quebec \nBuses provided.
URL:https://872rcacs.ca/event/eastern-region-drill-competition/
LOCATION:Ontario
END:VEVENT
BEGIN:VEVENT
DTSTART;TZID=America/Toronto:20250411T183000
DTEND;TZID=America/Toronto:20250411T200000
DTSTAMP:20260424T040038
CREATED:20250410T003105Z
LAST-MODIFIED:20250410T003105Z
UID:10000186-1744396200-1744401600@872rcacs.ca
SUMMARY:872 Supply Night
DESCRIPTION:Supply Night is open to all cadets needing help with their uniforms (upsizing\, parts\, etc.) \nDymon Storage Kanata\, 6:30pm to 8:30pm \n 
URL:https://872rcacs.ca/event/872-supply-night-24/
LOCATION:DYMON Storage Kanata\, 110 Didsbury Rd.\, Kanata\, Ontario\, K2T 0C2\, Canada
ORGANIZER;CN="2Lt GINN":MAILTO:supply 872rcacs.ca
END:VEVENT
BEGIN:VEVENT
DTSTART;TZID=America/Toronto:20250410T190000
DTEND;TZID=America/Toronto:20250410T210000
DTSTAMP:20260424T040038
CREATED:20250410T003821Z
LAST-MODIFIED:20250410T003821Z
UID:10000189-1744311600-1744318800@872rcacs.ca
SUMMARY:872 Band Practice
DESCRIPTION:Regular band practice for all instruments. Check Teams for news and updates from the Drum Major and Band O.
URL:https://872rcacs.ca/event/872-band-practice-25/
LOCATION:Glen Cairn Community Centre (Upper Hall)\, 190 Morrena Rd.\, Kanata\, Ontario\, K2L 1E1\, Canada
END:VEVENT
BEGIN:VEVENT
DTSTART;TZID=America/Toronto:20250409T184500
DTEND;TZID=America/Toronto:20250409T204500
DTSTAMP:20260424T040038
CREATED:20250202T020411Z
LAST-MODIFIED:20250212T215324Z
UID:10000142-1744224300-1744231500@872rcacs.ca
SUMMARY:Drones 6
DESCRIPTION:The Drone Training Program introduces cadets to the fundamentals of drone flight\, safety protocols\, mission planning\, and hands-on piloting skills. Through engaging activities and practical experience\, cadets will explore the exciting world of drones and gain knowledge aligned with Transport Canada regulations.
URL:https://872rcacs.ca/event/drones-6/
LOCATION:A.Y. Jackson High School\, 150 Abbeyhill Dr\, Kanata\, Ontario\, K2L 1H7\, Canada
CATEGORIES:DRONES
END:VEVENT
END:VCALENDAR