BEGIN:VCALENDAR
VERSION:2.0
PRODID:-//872 Kiwanis Kanata Royal Canadian Air Cadet Squadron - ECPv6.15.20//NONSGML v1.0//EN
CALSCALE:GREGORIAN
METHOD:PUBLISH
X-WR-CALNAME:872 Kiwanis Kanata Royal Canadian Air Cadet Squadron
X-ORIGINAL-URL:https://872rcacs.ca
X-WR-CALDESC:Events for 872 Kiwanis Kanata Royal Canadian Air Cadet Squadron
REFRESH-INTERVAL;VALUE=DURATION:PT1H
X-Robots-Tag:noindex
X-PUBLISHED-TTL:PT1H
BEGIN:VTIMEZONE
TZID:America/Toronto
BEGIN:DAYLIGHT
TZOFFSETFROM:-0500
TZOFFSETTO:-0400
TZNAME:EDT
DTSTART:20250309T070000
END:DAYLIGHT
BEGIN:STANDARD
TZOFFSETFROM:-0400
TZOFFSETTO:-0500
TZNAME:EST
DTSTART:20251102T060000
END:STANDARD
BEGIN:DAYLIGHT
TZOFFSETFROM:-0500
TZOFFSETTO:-0400
TZNAME:EDT
DTSTART:20260308T070000
END:DAYLIGHT
BEGIN:STANDARD
TZOFFSETFROM:-0400
TZOFFSETTO:-0500
TZNAME:EST
DTSTART:20261101T060000
END:STANDARD
BEGIN:DAYLIGHT
TZOFFSETFROM:-0500
TZOFFSETTO:-0400
TZNAME:EDT
DTSTART:20270314T070000
END:DAYLIGHT
BEGIN:STANDARD
TZOFFSETFROM:-0400
TZOFFSETTO:-0500
TZNAME:EST
DTSTART:20271107T060000
END:STANDARD
END:VTIMEZONE
BEGIN:VEVENT
DTSTART;TZID=America/Toronto:20260521T190000
DTEND;TZID=America/Toronto:20260521T210000
DTSTAMP:20260423T194341
CREATED:20260324T040404Z
LAST-MODIFIED:20260324T041850Z
UID:10001528-1779390000-1779397200@872rcacs.ca
SUMMARY:872 Band Practice
DESCRIPTION:  \n\n  \nThe 872 Squadron Band is accepting new members! Our band includes both a Brass & Reed and a Pipe & Drum Band\, all cadets are invited to join. \nInterested cadets are encouraged to attend weekly practices and bring their instruments. \nCheck Teams for news and updates from the Drum Major and Band Officers.
URL:https://872rcacs.ca/event/24261/2026-05-21/
LOCATION:Maplewood Secondary School\, 700 Cope Dr\, Ottawa\, Ontario\, K2S 2P8
END:VEVENT
BEGIN:VEVENT
DTSTART;VALUE=DATE:20260524
DTEND;VALUE=DATE:20260525
DTSTAMP:20260423T194341
CREATED:20260125T004906Z
LAST-MODIFIED:20260125T005515Z
UID:10000967-1779580800-1779667199@872rcacs.ca
SUMMARY:872 Community Engagement Day
DESCRIPTION:  \n  \nThe 872 Kiwanis Kanata Royal Canadian Air Cadet Squadron will be holding two community engagement days on the weekend of May 23 and 24th.  \nMore details to follow. 
URL:https://872rcacs.ca/event/872-community-engagement-event/2026-05-24/
LOCATION:Ontario
CATEGORIES:SSC
END:VEVENT
BEGIN:VEVENT
DTSTART;VALUE=DATE:20260525
DTEND;VALUE=DATE:20260526
DTSTAMP:20260423T194341
CREATED:20260125T004906Z
LAST-MODIFIED:20260125T005515Z
UID:10000968-1779667200-1779753599@872rcacs.ca
SUMMARY:872 Community Engagement Day
DESCRIPTION:  \n  \nThe 872 Kiwanis Kanata Royal Canadian Air Cadet Squadron will be holding two community engagement days on the weekend of May 23 and 24th.  \nMore details to follow. 
URL:https://872rcacs.ca/event/872-community-engagement-event/2026-05-25/
LOCATION:Ontario
CATEGORIES:SSC
END:VEVENT
BEGIN:VEVENT
DTSTART;TZID=America/Toronto:20260526T190000
DTEND;TZID=America/Toronto:20260526T210000
DTSTAMP:20260423T194341
CREATED:20260324T035038Z
LAST-MODIFIED:20260324T041725Z
UID:10001473-1779822000-1779829200@872rcacs.ca
SUMMARY:872 Ceremonial Drill and Flag Party Practice
DESCRIPTION:  \n \n  \nAll cadets interested in joining the Drill Team are invited to attend weekly practices every Tuesday. \nDetails and updates will be posted on Teams. \n 
URL:https://872rcacs.ca/event/872-ceremonial-drill-and-flag-party-practice-7/2026-05-26/
LOCATION:Maplewood Secondary School\, 700 Cope Dr\, Ottawa\, Ontario\, K2S 2P8
CATEGORIES:DRILL
END:VEVENT
BEGIN:VEVENT
DTSTART;TZID=America/Toronto:20260527T183000
DTEND;TZID=America/Toronto:20260527T211500
DTSTAMP:20260423T194341
CREATED:20260125T001236Z
LAST-MODIFIED:20260125T010433Z
UID:10000911-1779906600-1779916500@872rcacs.ca
SUMMARY:872 Training Night
DESCRIPTION:  \nRegular training night for all cadets. \nDetails and updates will be posted on Teams. \nOrder of Dress: C5
URL:https://872rcacs.ca/event/872-training-night-36/2026-05-27/
LOCATION:Johnny Leroux (Stittsville) Arena\, 10 Warner-Colpitts Lane\, Stittsville\, Ontario\, K2H 6N4\, Canada
CATEGORIES:TRAINING NIGHT
END:VEVENT
BEGIN:VEVENT
DTSTART;TZID=America/Toronto:20260528T190000
DTEND;TZID=America/Toronto:20260528T210000
DTSTAMP:20260423T194341
CREATED:20260324T041318Z
LAST-MODIFIED:20260407T221146Z
UID:10001585-1779994800-1780002000@872rcacs.ca
SUMMARY:872 Band Practice
DESCRIPTION:  \nThe 872 Squadron Band Practice \nBrass & Reed Section: Large room \nPipe & Drum Section: Purple Room \nCheck Teams for news and updates from the Drum Major and Band Officers.
URL:https://872rcacs.ca/event/872-band-practice-29/2026-05-28/
LOCATION:Space and TIme Studios Inc.\, 5977 Hazeldean Rd (Suite 201)\, Stittsville\, ON\, K2S 1R4\, Canada
CATEGORIES:BAND
END:VEVENT
BEGIN:VEVENT
DTSTART;TZID=America/Toronto:20260529T183000
DTEND;TZID=America/Toronto:20260529T213000
DTSTAMP:20260423T194341
CREATED:20250710T152856Z
LAST-MODIFIED:20260125T010219Z
UID:10000229-1780079400-1780090200@872rcacs.ca
SUMMARY:872 Annual Ceremonial Review Preparation
DESCRIPTION:  \n\n\nAll cadets must attend this practice\nDetails and updates will be posted on Teams
URL:https://872rcacs.ca/event/872-annual-ceremonial-review-preparation/
LOCATION:Johnny Leroux (Stittsville) Arena\, 10 Warner-Colpitts Lane\, Stittsville\, Ontario\, K2H 6N4\, Canada
END:VEVENT
BEGIN:VEVENT
DTSTART;TZID=America/Toronto:20260530T130000
DTEND;TZID=America/Toronto:20260530T160000
DTSTAMP:20260423T194341
CREATED:20250710T152517Z
LAST-MODIFIED:20260125T013113Z
UID:10000228-1780146000-1780156800@872rcacs.ca
SUMMARY:872 Annual Ceremonial Review
DESCRIPTION:  \n\n\n\n\nJoin us for our Annual Ceremonial Review\, a special event that showcases the talents\, dedication\, and achievement of our Squadron members. This occasion features demonstrations\, performances\, and presentations\, highlighting the hard work and skills of our cadets. We are also honoured to welcome special guests who will join us in celebrating the Squadron’s accomplishments.\n\nParents\, guardians\, friends\, and community members are all welcome to attend.\n\nMore details to come!
URL:https://872rcacs.ca/event/872-annual-ceremonial-review-2/
LOCATION:Johnny Leroux (Stittsville) Arena\, 10 Warner-Colpitts Lane\, Stittsville\, Ontario\, K2H 6N4\, Canada
END:VEVENT
BEGIN:VEVENT
DTSTART;TZID=America/Toronto:20260603T183000
DTEND;TZID=America/Toronto:20260603T211500
DTSTAMP:20260423T194341
CREATED:20250710T195323Z
LAST-MODIFIED:20260324T013119Z
UID:10000272-1780511400-1780521300@872rcacs.ca
SUMMARY:872 Training Night - CO's Parade & Awards Night
DESCRIPTION:  \nCO’s Parade and Awards Night for all cadets \nParents\, guardians\, and friends are all welcome to attend ceremony \nDetails and updates will be posted on Teams \n  \nOrder of Dress: C3
URL:https://872rcacs.ca/event/872-training-night-cos-parade-17/
LOCATION:Johnny Leroux (Stittsville) Arena\, 10 Warner-Colpitts Lane\, Stittsville\, Ontario\, K2H 6N4\, Canada
END:VEVENT
BEGIN:VEVENT
DTSTART;TZID=America/Toronto:20260604T190000
DTEND;TZID=America/Toronto:20260604T210000
DTSTAMP:20260423T194341
CREATED:20260324T041318Z
LAST-MODIFIED:20260407T221146Z
UID:10001706-1780599600-1780606800@872rcacs.ca
SUMMARY:872 Band Practice
DESCRIPTION:  \nThe 872 Squadron Band Practice \nBrass & Reed Section: Large room \nPipe & Drum Section: Purple Room \nCheck Teams for news and updates from the Drum Major and Band Officers.
URL:https://872rcacs.ca/event/872-band-practice-29/2026-06-04/
LOCATION:Space and TIme Studios Inc.\, 5977 Hazeldean Rd (Suite 201)\, Stittsville\, ON\, K2S 1R4\, Canada
CATEGORIES:BAND
END:VEVENT
BEGIN:VEVENT
DTSTART;VALUE=DATE:20260701
DTEND;VALUE=DATE:20260702
DTSTAMP:20260423T194341
CREATED:20260125T013830Z
LAST-MODIFIED:20260125T014849Z
UID:10001334-1782864000-1782950399@872rcacs.ca
SUMMARY:Stittsville Car Show
DESCRIPTION:This sponsored event\, featuring classic cars on display\, is a volunteer opportunity for Cadets (Level 3+). \nDetails and updates will be posted on Teams
URL:https://872rcacs.ca/event/stittsville-car-show/
LOCATION:Ontario
END:VEVENT
BEGIN:VEVENT
DTSTART;VALUE=DATE:20260702
DTEND;VALUE=DATE:20260703
DTSTAMP:20260423T194341
CREATED:20260125T015310Z
LAST-MODIFIED:20260125T015310Z
UID:10001335-1782950400-1783036799@872rcacs.ca
SUMMARY:Kanata Cleanup - Tentative
DESCRIPTION:Kanata Cleanup is a volunteer opportunity for cadets to help clean up our community after Canada Day. More details to follow.
URL:https://872rcacs.ca/event/kanata-cleanup-tentative/
LOCATION:Ontario
END:VEVENT
END:VCALENDAR