BEGIN:VCALENDAR
VERSION:2.0
PRODID:-//872 Kiwanis Kanata Royal Canadian Air Cadet Squadron - ECPv6.15.20//NONSGML v1.0//EN
CALSCALE:GREGORIAN
METHOD:PUBLISH
X-WR-CALNAME:872 Kiwanis Kanata Royal Canadian Air Cadet Squadron
X-ORIGINAL-URL:https://872rcacs.ca
X-WR-CALDESC:Events for 872 Kiwanis Kanata Royal Canadian Air Cadet Squadron
REFRESH-INTERVAL;VALUE=DURATION:PT1H
X-Robots-Tag:noindex
X-PUBLISHED-TTL:PT1H
BEGIN:VTIMEZONE
TZID:America/Toronto
BEGIN:DAYLIGHT
TZOFFSETFROM:-0500
TZOFFSETTO:-0400
TZNAME:EDT
DTSTART:20230312T070000
END:DAYLIGHT
BEGIN:STANDARD
TZOFFSETFROM:-0400
TZOFFSETTO:-0500
TZNAME:EST
DTSTART:20231105T060000
END:STANDARD
BEGIN:DAYLIGHT
TZOFFSETFROM:-0500
TZOFFSETTO:-0400
TZNAME:EDT
DTSTART:20240310T070000
END:DAYLIGHT
BEGIN:STANDARD
TZOFFSETFROM:-0400
TZOFFSETTO:-0500
TZNAME:EST
DTSTART:20241103T060000
END:STANDARD
BEGIN:DAYLIGHT
TZOFFSETFROM:-0500
TZOFFSETTO:-0400
TZNAME:EDT
DTSTART:20250309T070000
END:DAYLIGHT
BEGIN:STANDARD
TZOFFSETFROM:-0400
TZOFFSETTO:-0500
TZNAME:EST
DTSTART:20251102T060000
END:STANDARD
END:VTIMEZONE
BEGIN:VEVENT
DTSTART;TZID=America/Toronto:20241020T093000
DTEND;TZID=America/Toronto:20241020T140000
DTSTAMP:20260423T180727
CREATED:20240928T002219Z
LAST-MODIFIED:20241015T124442Z
UID:10000040-1729416600-1729432800@872rcacs.ca
SUMMARY:Annual Ottawa Squadrons Walkathon
DESCRIPTION:Walk along fellow squadrons and raise funds to help cadets fly!  \nJoin fellow cadets from 51\, 75\, 211 and 706 squadrons for the 10K walk-a-thon taking place Sunday\, October 20 at the Terry Fox Training Facility at 2690 Riverside Dr. All proceeds help raise funds toward Air Cadet special activities\, such as power familiarization flights and so much more. \n9:30am check-in \n10:00am walk starts \nThere will be a BBQ afterwards\, all proceeds going towards our fundraiser. \nReach out to family and friends for pledges! Use the QR code or send them the url to help them pledge donations toward your goal. \nIf you have questions\, please email our chair\, Susan\, at: 872.chairperson@cadetsair.ca \nWe hope to see you there! \nSquadron Sponsoring Committee
URL:https://872rcacs.ca/event/annual-ottawa-squadrons-walkathon/
LOCATION:Terry Fox Athletic Facility\, 2960 Riverside Drive\, Ottawa\, Ontario\, K1V 8N4\, Canada
ATTACH;FMTTYPE=image/jpeg:https://872rcacs.ca/wp-content/uploads/2024/09/Walk-a-thon-Flyer.jpg
ORGANIZER;CN="Susan Trimble%2C Vice Chairperson":MAILTO:872.chairperson@cadetsair.ca
END:VEVENT
BEGIN:VEVENT
DTSTART;TZID=America/Toronto:20241022T190000
DTEND;TZID=America/Toronto:20241022T210000
DTSTAMP:20260423T180727
CREATED:20240927T223241Z
LAST-MODIFIED:20240927T233258Z
UID:10000027-1729623600-1729630800@872rcacs.ca
SUMMARY:872 Ceremonial Drill and Colour Party Practice
DESCRIPTION:Open to all levels\, drill practice is held every Tuesday* evening from 19h00 to 21h00 in the Glen Cairn Public School gymnasium. \n*check calendar and Teams before every week for updates on venue changes or cancellations.
URL:https://872rcacs.ca/event/872-band-practice-2/
LOCATION:Glen Cairn Public School Gymnasium\, 182 Morrena Rd\, Kanata\, Ontario\, K2L 1E1\, Canada
END:VEVENT
BEGIN:VEVENT
DTSTART;TZID=America/Toronto:20241023T183000
DTEND;TZID=America/Toronto:20241023T211500
DTSTAMP:20260423T180727
CREATED:20240927T201335Z
LAST-MODIFIED:20241002T211005Z
UID:10000024-1729708200-1729718100@872rcacs.ca
SUMMARY:872 Training Night
DESCRIPTION:Order of Dress: C5 \n\n\n\n\nOrder of Dress \n\n\nComposition \n\n\nAuthorized Clothing Accoutrements and Accessories \n\n\n\n\n\n\n\nC5 \n\n\n\nBeret / turban with Air Cadet headdress insigna\, toque or wide-brimmed tan summer hat.\nField shirt.\nRank slip-ons.\nEnvironmental (blue) / squadron / CTC t-shirt.\nField pants and belt.\nSocks.\nMulti-Purpose Boots (alternative footwear may be authorized when necessary based on the activity).\n\n\n\n\nAppointment or rank brassard.\nNametape optional.\nLanyard. May be worn to indicate nominations to particular positions at the corps / CTC.\n\nNote: \n\nMay be worn under the all-season jacket.\nShirt may be worn with sleeves extended or rolled above the elbows.
URL:https://872rcacs.ca/event/872-training-night-4/
LOCATION:A.Y. Jackson High School\, 150 Abbeyhill Dr\, Kanata\, Ontario\, K2L 1H7\, Canada
END:VEVENT
BEGIN:VEVENT
DTSTART;TZID=America/Toronto:20241024T190000
DTEND;TZID=America/Toronto:20241024T210000
DTSTAMP:20260423T180727
CREATED:20240927T233804Z
LAST-MODIFIED:20240927T233804Z
UID:10000034-1729796400-1729803600@872rcacs.ca
SUMMARY:872 Band Practice
DESCRIPTION:Regular band practice for all instruments. Check Teams for news and updates from the Drum Major and Band O. \n\n  \n  \n 
URL:https://872rcacs.ca/event/872-band-practice-6/
LOCATION:Glen Cairn Community Centre (Upper Hall)\, 190 Morrena Rd.\, Kanata\, Ontario\, K2L 1E1\, Canada
END:VEVENT
BEGIN:VEVENT
DTSTART;TZID=America/Toronto:20241025T173000
DTEND;TZID=America/Toronto:20241027T160000
DTSTAMP:20260423T180727
CREATED:20240927T190948Z
LAST-MODIFIED:20241024T173135Z
UID:10000017-1729877400-1730044800@872rcacs.ca
SUMMARY:872 FTX (Field Training Exercise)
DESCRIPTION:Overnight camp and air crew survival training weekend at Camp Smitty\, Eganville. \nCadets who submitted permission forms are to report to A.Y. Jackson for 17h45 (5:45pm) SHARP to board the busses. \nDetails and sign up forms will be communicated on Teams and in announcements ahead of the event. \n\n \n\n\n\n  \nThank you to the Squadron Sponsoring Committee volunteers who donate their time to help squadron staff make this event possible.
URL:https://872rcacs.ca/event/872-ftx-field-training-exercise/
LOCATION:Camp Smitty\, 95 Mink Lake Rd\, Eganville\, Ontario\, K0J 1T0\, Canada
END:VEVENT
BEGIN:VEVENT
DTSTART;TZID=America/Toronto:20241025T183000
DTEND;TZID=America/Toronto:20241025T200000
DTSTAMP:20260423T180727
CREATED:20240927T234304Z
LAST-MODIFIED:20240927T234409Z
UID:10000036-1729881000-1729886400@872rcacs.ca
SUMMARY:NO SUPPLY NIGHT
DESCRIPTION:Due to Fall FTX weekend\, there is NO SUPPLY night on Friday October 25.
URL:https://872rcacs.ca/event/no-supply/
END:VEVENT
BEGIN:VEVENT
DTSTART;TZID=America/Toronto:20241026T090000
DTEND;TZID=America/Toronto:20241026T180000
DTSTAMP:20260423T180727
CREATED:20241018T001527Z
LAST-MODIFIED:20241018T001527Z
UID:10000077-1729933200-1729965600@872rcacs.ca
SUMMARY:872 Community Engagement Day - Cabela's Kanata
DESCRIPTION:The 872 Kiwanis Kanata Royal Canadian Air Cadet Squadron is conducting a community engagement day on Saturday\, October 26\, 2024. Stationed at the Cabela’s in Kanata North\, cadets will accept donations in exchange for tulip bulbs. Funds raised will help offset costs for activities such as power flying days\, gliding days\, and cadet social activities. \nThere will be 3 shifts of 3 hours to choose form. Please check out the full post for details here and to find the sign up form.
URL:https://872rcacs.ca/event/872-community-engagement-day-cabelas-kanata/
LOCATION:Cabela’s Kanata\, 3065 Palladium Drive\, Kanata\, Ontario\, K2T ON2\, Canada
ORGANIZER;CN="Susan Trimble%2C Vice Chairperson":MAILTO:872.chairperson@cadetsair.ca
END:VEVENT
BEGIN:VEVENT
DTSTART;VALUE=DATE:20241029
DTEND;VALUE=DATE:20241111
DTSTAMP:20260423T180727
CREATED:20241109T185138Z
LAST-MODIFIED:20241109T185138Z
UID:10000087-1730160000-1731283199@872rcacs.ca
SUMMARY:Royal Canadian Poppy Sales Campaign
DESCRIPTION:Poppy Sales Campaign \nEach cadet is encouraged to support the Poppy Sales Campaign by signing up for a 3 hour shift at \n\n\n\none of the sales locations in Kanata. Please see Teams for the “Shifts” app to register. \n\nThese shifts count towards volunteer community service hours and will go a long way to showing our comrades in the Legion how much we appreciate their support\, and honour our veterans.
URL:https://872rcacs.ca/event/royal-canadian-poppy-sales-campaign/
END:VEVENT
BEGIN:VEVENT
DTSTART;TZID=America/Toronto:20241029T190000
DTEND;TZID=America/Toronto:20241029T210000
DTSTAMP:20260423T180727
CREATED:20240927T224444Z
LAST-MODIFIED:20240927T233138Z
UID:10000029-1730228400-1730235600@872rcacs.ca
SUMMARY:872 Ceremonial Drill and Colour Party Practice
DESCRIPTION:Open to all levels\, drill practice is held every Tuesday* evening from 19h00 to 21h00 in the Glen Cairn Public School gymnasium. \n*check calendar and Teams before every week for updates on venue changes or cancellations. \n \n\n\n\n  \n  \n  \n  \n  \n 
URL:https://872rcacs.ca/event/872-ceremonial-drill-and-colour-parade-practice-2/
LOCATION:Glen Cairn Public School Gymnasium\, 182 Morrena Rd\, Kanata\, Ontario\, K2L 1E1\, Canada
END:VEVENT
BEGIN:VEVENT
DTSTART;TZID=America/Toronto:20241030T183000
DTEND;TZID=America/Toronto:20241030T211500
DTSTAMP:20260423T180727
CREATED:20240927T201439Z
LAST-MODIFIED:20241024T172253Z
UID:10000025-1730313000-1730322900@872rcacs.ca
SUMMARY:872 Halloween Party
DESCRIPTION:872 Halloween Party! \nNext Wednesday is the squadron Halloween party. Cadets are encouraged to wear their best costume for a chance to win prizes! (if not wearing a costume\, civvies (casual clothes) are allowed). \nThere will be games\, snacks\, and lots of fun! \n\n  \nMade possible with the generous support of our Squadron Sponsoring Committee.
URL:https://872rcacs.ca/event/872-training-night-5/
LOCATION:A.Y. Jackson High School\, 150 Abbeyhill Dr\, Kanata\, Ontario\, K2L 1H7\, Canada
END:VEVENT
BEGIN:VEVENT
DTSTART;TZID=America/Toronto:20241031T190000
DTEND;TZID=America/Toronto:20241031T210000
DTSTAMP:20260423T180727
CREATED:20240927T233904Z
LAST-MODIFIED:20241024T170923Z
UID:10000035-1730401200-1730408400@872rcacs.ca
SUMMARY:872 Band Practice - CANCELLED!
DESCRIPTION:Due to Halloween activities\, this week’s practice is cancelled. \nBand will have a special practice on Tuesday\, November 5 at the Glen Cairn Public School Gymnasium. \n  \nRegular band practice for all instruments. Check Teams for news and updates from the Drum Major and Band O. \n\n  \n  \n 
URL:https://872rcacs.ca/event/872-band-practice-7/
LOCATION:Glen Cairn Community Centre (Upper Hall)\, 190 Morrena Rd.\, Kanata\, Ontario\, K2L 1E1\, Canada
END:VEVENT
BEGIN:VEVENT
DTSTART;TZID=America/Toronto:20241101T183000
DTEND;TZID=America/Toronto:20241101T200000
DTSTAMP:20260423T180727
CREATED:20240927T234744Z
LAST-MODIFIED:20240927T234744Z
UID:10000037-1730485800-1730491200@872rcacs.ca
SUMMARY:872 Supply Night
DESCRIPTION:Questions or comments\, please contact Supply on Teams or via email. \nPlease remember to return your unused uniform items. The next cadet thanks you! \n 
URL:https://872rcacs.ca/event/872-supply-night-6/
LOCATION:DYMON Storage Kanata\, 110 Didsbury Rd.\, Kanata\, Ontario\, K2T 0C2\, Canada
ORGANIZER;CN="2Lt GINN":MAILTO:supply 872rcacs.ca
END:VEVENT
BEGIN:VEVENT
DTSTART;TZID=America/Toronto:20241102T080000
DTEND;TZID=America/Toronto:20241102T120000
DTSTAMP:20260423T180727
CREATED:20241109T181747Z
LAST-MODIFIED:20241109T192330Z
UID:10000083-1730534400-1730548800@872rcacs.ca
SUMMARY:872 Marksmanship - Call Up for "Cadet" and "LAC" Ranks Only
DESCRIPTION:Marksmanship – Call Up for “Cadet” and “LAC” Ranks Only\n\nThis Saturday\, the Marksmanship shoot is scheduled for all cadets in rank “Cadet” or “LAC” who have not yet completed their Rifle Safe Handling Course and first shoot. Please come to the Kanata Legion (70 Hines Rd. Kanata) this Saturday\, November 2\, between 8:30am and 12:00pm.
URL:https://872rcacs.ca/event/marksmanship-call-up-for-cadet-and-lac-ranks-only/
LOCATION:Royal Canadian Legion Branch 638\, 70 Hines Rd\, Kanata\, Ontario\, K2K 2M5\, Canada
END:VEVENT
BEGIN:VEVENT
DTSTART;TZID=America/Toronto:20241102T083000
DTEND;TZID=America/Toronto:20241102T113000
DTSTAMP:20260423T180727
CREATED:20241109T181953Z
LAST-MODIFIED:20241109T192240Z
UID:10000084-1730536200-1730547000@872rcacs.ca
SUMMARY:872 Biathlon Practice
DESCRIPTION:Biathlon Practice \n\nBiathlon practice will resume this Saturday\, November 2 at \nConnaught Ranges (Shirley’s Bay entrance). \nSaturday’s practice is open to returning biathletes. Meet at the cadet ranges by 5 Brouillette. (See map below) \nOpen try outs will be announced in the coming weeks for new athletes. If you’ve been on the team before and want to join again\, please notify the Team Captain on Teams. \nQuestions should be directed to the Team Captain.
URL:https://872rcacs.ca/event/biathlon-practice-2/
LOCATION:Connaught Cadet Training Centre\, 1 Lewis Gun Rd\, Nepean\, Ontario\, K2K 3K3\, Canada
END:VEVENT
BEGIN:VEVENT
DTSTART;TZID=America/Toronto:20241105T190000
DTEND;TZID=America/Toronto:20241105T210000
DTSTAMP:20260423T180727
CREATED:20240928T005658Z
LAST-MODIFIED:20241109T185442Z
UID:10000048-1730833200-1730840400@872rcacs.ca
SUMMARY:CXLD - 872 Ceremonial Drill and Colour Party Practice - SPECIAL BAND PRACTICE
DESCRIPTION:Due to illness\, the supervisor for this event is unavailable. We will reschedule. \n  \nThe band will attend practice to learn some marching drill with their instruments. Regular drill practice will continue. \n  \nOpen to all levels\, drill practice is held every Tuesday* evening from 19h00 to 21h00 in the Glen Cairn Public School gymnasium. \n*check calendar and Teams before every week for updates on venue changes or cancellations.
URL:https://872rcacs.ca/event/872-ceremonial-drill-and-colour-party-practice/
LOCATION:Glen Cairn Public School Gymnasium\, 182 Morrena Rd\, Kanata\, Ontario\, K2L 1E1\, Canada
END:VEVENT
BEGIN:VEVENT
DTSTART;TZID=America/Toronto:20241106T183000
DTEND;TZID=America/Toronto:20241106T211500
DTSTAMP:20260423T180727
CREATED:20240927T195149Z
LAST-MODIFIED:20241002T211147Z
UID:10000020-1730917800-1730927700@872rcacs.ca
SUMMARY:872 Training Night - CO's Parade
DESCRIPTION:Order of Dress: C3 \n\n\n\n\nOrder of Dress \n\n\nComposition \n\n\nAuthorized Clothing Accoutrements and Accessories \n\n\n\n\n\n \nC1 \n\n\n\nWedge / turban with Air Cadet headdress insigna\nCloth cap badge.\nElemental dress shirt.\nNecktie.\nJacket with belt.\nTrousers.\nBelt.\nBoots.\nSocks.\nMedals.\nPins.\nCloth glider / power pilot badge.\n\n\n\n\nName tag.\nLanyard.\nWhite webbing and gloves.\n\n\n\n\n \nC1H \n\n\n\nGlengarry Headdress with cadet metal headdress insignia / turban.\nElemental dress shirt.\nNecktie.\nElemental cadet jacket (cut-away).\nBelt – white or black.\nKilt.\nKilt Pin.\nHair sporran.\nHosetops.\nFlashes\, garter.\nSpats\, white\nBoots / Oxford shoes / brogues.\nMedals.\nPinned insignia.\n\n\n\n\nName tag.\nSgian Dubh.\nLeopard Skin (bass / tenor drummers).\nDrum Major’s Sash.
URL:https://872rcacs.ca/event/872-training-night-cos-parade-2/
LOCATION:A.Y. Jackson High School\, 150 Abbeyhill Dr\, Kanata\, Ontario\, K2L 1H7\, Canada
END:VEVENT
BEGIN:VEVENT
DTSTART;TZID=America/Toronto:20241107T190000
DTEND;TZID=America/Toronto:20241107T210000
DTSTAMP:20260423T180727
CREATED:20240928T010600Z
LAST-MODIFIED:20240928T010923Z
UID:10000052-1731006000-1731013200@872rcacs.ca
SUMMARY:872 Band Practice
DESCRIPTION:Regular band practice for all instruments. Check Teams for news and updates from the Drum Major and Band O.
URL:https://872rcacs.ca/event/872-band-practice-8/
LOCATION:Glen Cairn Community Centre (Upper Hall)\, 190 Morrena Rd.\, Kanata\, Ontario\, K2L 1E1\, Canada
END:VEVENT
BEGIN:VEVENT
DTSTART;TZID=America/Toronto:20241108T183000
DTEND;TZID=America/Toronto:20241108T200000
DTSTAMP:20260423T180727
CREATED:20240928T013636Z
LAST-MODIFIED:20240928T013636Z
UID:10000066-1731090600-1731096000@872rcacs.ca
SUMMARY:872 Supply Night
DESCRIPTION:Questions or comments\, please contact Supply on Teams or via email. \nPlease remember to return your unused uniform items. The next cadet thanks you!
URL:https://872rcacs.ca/event/872-supply-night-7/
LOCATION:DYMON Storage Kanata\, 110 Didsbury Rd.\, Kanata\, Ontario\, K2T 0C2\, Canada
ORGANIZER;CN="2Lt GINN":MAILTO:supply 872rcacs.ca
END:VEVENT
BEGIN:VEVENT
DTSTART;TZID=America/Toronto:20241109T080000
DTEND;TZID=America/Toronto:20241109T120000
DTSTAMP:20260423T180727
CREATED:20241109T181439Z
LAST-MODIFIED:20241109T192509Z
UID:10000082-1731139200-1731153600@872rcacs.ca
SUMMARY:872 Marksmanship Competitive TRYOUTS Level 3 and Up
DESCRIPTION:Level 3\, 4 and 5 Marksmanship Competitive Team Tryouts This Saturday \n  \nThe Level 3 and up Marksmanship Competitive Team tryouts will take place this Saturday from 8am to 12pm at the Kanata Legion. \nAnyone interested in trying out for this level of the team\, this will be the only opportunity\, so don’t miss out!
URL:https://872rcacs.ca/event/marksmanship-competitive-tryouts-level-3-and-up/
LOCATION:Royal Canadian Legion Branch 638\, 70 Hines Rd\, Kanata\, Ontario\, K2K 2M5\, Canada
END:VEVENT
BEGIN:VEVENT
DTSTART;TZID=America/Toronto:20241109T083000
DTEND;TZID=America/Toronto:20241109T113000
DTSTAMP:20260423T180727
CREATED:20241109T181302Z
LAST-MODIFIED:20241109T192422Z
UID:10000081-1731141000-1731151800@872rcacs.ca
SUMMARY:872 Biathlon Practice - Level 2 and UP TRYOUTS
DESCRIPTION:Biathlon Tryouts for Level 2 and Up This Saturday \nThe Angry Unicorns Biathlon Team will hold open tryouts for any cadet\, level 2 and up who wish to try out for the remaining spots on the team. Spaces are limited. Cross-country skiing experience is an asset! \nIf you plan to attend\, please sign up on Teams to reserve your place. \n  \nTry outs will be at Connaught Ranges from 9am to 1030am\, see below for the map. (Drive in from the Shirley’s Bay access road). \n  \nSenior Biathlon athletes: if you will be coming to practice this Saturday\, please let us know by signing up in the Biathlon Channel. Remember to dress appropriately to be outside\, and bring your water!
URL:https://872rcacs.ca/event/biathlon-practice-level-2-and-up-tryouts/
LOCATION:Connaught Cadet Training Centre\, 1 Lewis Gun Rd\, Nepean\, Ontario\, K2K 3K3\, Canada
END:VEVENT
BEGIN:VEVENT
DTSTART;TZID=America/Toronto:20241111T080000
DTEND;TZID=America/Toronto:20241111T120000
DTSTAMP:20260423T180727
CREATED:20240927T235514Z
LAST-MODIFIED:20241108T235429Z
UID:10000038-1731312000-1731326400@872rcacs.ca
SUMMARY:Remembrance Day Ceremonies
DESCRIPTION:REMEMBRANCE DAY CEREMONIES—11 NOVEMBER 2024 \n\nAs part of our Canadian Armed Forces engagement\, and our partnership with Royal Canadian Legion Branch 638\, which generously donates funds and training facilities to our squadron every year\, along with the Royal Canadian Legion Cadet Medal of Excellence\, I would like to ask you to commit to attending a Remembrance Day ceremony this Monday. Attendance at either the Carp or Kanata ceremony will count towards your requirement to participate in a formal parade—a requirement to complete your level training. It will also go a long way to showing our comrades in the Legion how much we appreciate their support\, and how we honour our veterans. Family members are also welcome and encouraged to attend. \n \n  \nYou can use the Shifts app in Teams to select whether you plan to attend the Remembrance Day Ceremony at Kanata\, Carp\, or at your school.  For instructions on how to sign up\, please see the end of this message. \n  \nDress of the day will be C1 for all cadets who have been issued the blue Distinct Environmental Uniform (DEU). Cadets who have not been issued DEU should wear C5 (Field Training Uniform/FTU). If you have not been issued either uniform\, a special Supply Night is happening tonight for those who need to be issued. \n  \nIf you cannot make the Supply Night today\, please wear clean\, smart casual/semi formal pants and shirt with a coat or sweater and hat/mitts/gloves as needed. All cadets who have been issued the cadet parka and toque should wear it\, in accordance with weather predictions\, along with plain black gloves or mittens. Any cadet who has not been issued a parka may wear a civilian coat overtop of their uniform\, according to the weather conditions. \n\n  \nStaff should wear 1A (with gabardine)\, or business attire for civilians. \n  \nAll personnel shall wear a poppy\, in accordance with the dress instructions. \n  \nFor the Carp ceremony\, cadets should meet at the West Carleton War Memorial (462 Donald B Munro Dr) at 10:00 am. Parking is available at the Carp Agricultural Society Fairgrounds. \n\n  \nFor the Kanata ceremony\, cadets should meet on Colchester Square Road\, next to the Russian Orthodox Church\, at 10:15 am. \n  \nTo sign up using the Teams Shift App: \nGo to ‘View More Apps’ in the left-hand tool bar (in browser/Teams app on a computer) in both the browser and on a mobile device. It will look like three dots. Select ‘Shifts’\, and view ‘Open Shifts’ to sign up to attend either Carp\, Kanata\, or a school ceremony. In case of difficulty\, please send a message to your flight sergeant to advise them of which ceremony you plan to attend. \n  \nThank you! \n  \nCapt E. Ching \n(She/Elle) \n  \nCommanding Officer\, 872 Kiwanis Kanata Royal Canadian Air Cadet Squadron / Cadets and Junior Canadian Rangers Group \nVice Chief of the Defence Staff / Canadian Armed Forces \n  \nCommandante\, 872 Escadron des cadets de l’aviation royale canadienne Kiwanis Kanata / Groupe des cadets et rangers juniors canadiens \nVice-Chef d’état-major de la Défense / Forces armées canadiennes \n  \n  \nPositive Space Ambassador | Ambassadrice de l’Espace positif  \nBook time with Ching Capt ES 
URL:https://872rcacs.ca/event/remembrance-day-ceremonies/
END:VEVENT
BEGIN:VEVENT
DTSTART;TZID=America/Toronto:20241112T190000
DTEND;TZID=America/Toronto:20241112T210000
DTSTAMP:20260423T180727
CREATED:20240928T010204Z
LAST-MODIFIED:20240928T010204Z
UID:10000050-1731438000-1731445200@872rcacs.ca
SUMMARY:872 Ceremonial Drill and Colour Party Practice
DESCRIPTION:Open to all levels\, drill practice is held every Tuesday* evening from 19h00 to 21h00 in the Glen Cairn Public School gymnasium. \n*check calendar and Teams before every week for updates on venue changes or cancellations.
URL:https://872rcacs.ca/event/872-ceremonial-drill-and-colour-party-practice-3/
LOCATION:Glen Cairn Public School Gymnasium\, 182 Morrena Rd\, Kanata\, Ontario\, K2L 1E1\, Canada
END:VEVENT
BEGIN:VEVENT
DTSTART;TZID=America/Toronto:20241113T183000
DTEND;TZID=America/Toronto:20241113T211500
DTSTAMP:20260423T180727
CREATED:20240928T004750Z
LAST-MODIFIED:20241002T211231Z
UID:10000045-1731522600-1731532500@872rcacs.ca
SUMMARY:872 Training Night
DESCRIPTION:Order of Dress: C5 \n\n\n\n\nOrder of Dress \n\n\nComposition \n\n\nAuthorized Clothing Accoutrements and Accessories \n\n\n\n\n\n\n\nC5 \n\n\n\nBeret / turban with Air Cadet headdress insignia\, toque or wide-brimmed tan summer hat.\nField shirt.\nRank slip-ons.\nEnvironmental (blue) / squadron / CTC t-shirt.\nField pants and belt.\nSocks.\nMulti-Purpose Boots (alternative footwear may be authorized when necessary based on the activity).\n\n\n\n\nAppointment or rank brassard.\nNametape optional.\nLanyard. May be worn to indicate nominations to particular positions at the corps / CTC.\n\nNote: \n\nMay be worn under the all-season jacket.\nShirt may be worn with sleeves extended or rolled above the elbows.
URL:https://872rcacs.ca/event/872-training-night-6/
LOCATION:A.Y. Jackson High School\, 150 Abbeyhill Dr\, Kanata\, Ontario\, K2L 1H7\, Canada
END:VEVENT
BEGIN:VEVENT
DTSTART;TZID=America/Toronto:20241113T184500
DTEND;TZID=America/Toronto:20241113T200000
DTSTAMP:20260423T180727
CREATED:20240928T003550Z
LAST-MODIFIED:20240928T003550Z
UID:10000043-1731523500-1731528000@872rcacs.ca
SUMMARY:872 Sponsoring Committee Monthly Meeting
DESCRIPTION:Monthly Sponsoring Committee Meeting. All parents are welcome! \nRoom to be announced the night of. Please check the white board for directions upon arrival.
URL:https://872rcacs.ca/event/872-sponsoring-committee-monthly-meeting-2/
LOCATION:A.Y. Jackson High School\, 150 Abbeyhill Dr\, Kanata\, Ontario\, K2L 1H7\, Canada
ORGANIZER;CN="Susan Trimble%2C Vice Chairperson":MAILTO:872.chairperson@cadetsair.ca
END:VEVENT
BEGIN:VEVENT
DTSTART;TZID=America/Toronto:20241114T190000
DTEND;TZID=America/Toronto:20241114T210000
DTSTAMP:20260423T180727
CREATED:20240928T010656Z
LAST-MODIFIED:20240928T010656Z
UID:10000053-1731610800-1731618000@872rcacs.ca
SUMMARY:872 Band Practice
DESCRIPTION:Regular band practice for all instruments. Check Teams for news and updates from the Drum Major and Band O.
URL:https://872rcacs.ca/event/872-band-practice-9/
LOCATION:Glen Cairn Community Centre (Upper Hall)\, 190 Morrena Rd.\, Kanata\, Ontario\, K2L 1E1\, Canada
END:VEVENT
BEGIN:VEVENT
DTSTART;TZID=America/Toronto:20241115T183000
DTEND;TZID=America/Toronto:20241115T200000
DTSTAMP:20260423T180727
CREATED:20240928T013722Z
LAST-MODIFIED:20241115T004156Z
UID:10000067-1731695400-1731700800@872rcacs.ca
SUMMARY:872 Supply Night - Recruit Make UP and Open Supply
DESCRIPTION:Supply Night – Recruit Make Up and Open Supply \nAny recruit that missed their original supply night call up is asked to report to Supply this Friday. \nAny cadet requiring assistance\, sizing or missing parts is invited to visit Supply this Friday. \nIf you are waiting for boots\, DO NOT come to Supply unless the Supply Officer has been in contact with you. \nQuestions\, please contact Supply on Teams. \nPlease remember to return your unused uniform items. The next cadet thanks you!
URL:https://872rcacs.ca/event/872-supply-night-8/
LOCATION:DYMON Storage Kanata\, 110 Didsbury Rd.\, Kanata\, Ontario\, K2T 0C2\, Canada
ORGANIZER;CN="2Lt GINN":MAILTO:supply 872rcacs.ca
END:VEVENT
BEGIN:VEVENT
DTSTART;TZID=America/Toronto:20241116T083000
DTEND;TZID=America/Toronto:20241116T113000
DTSTAMP:20260423T180727
CREATED:20241109T184523Z
LAST-MODIFIED:20241115T004035Z
UID:10000086-1731745800-1731756600@872rcacs.ca
SUMMARY:872 Biathlon Team Practice
DESCRIPTION:Angry Unicorns Biathlon team practice takes place every Saturday morning from 8:30am to 11.30am at the Whitty Ranges (A2 – open ranges) at Connaught Training Centre. \nDetails are communicated on Teams and every Wednesday\,  on the News and Announcements section of the website. \n  \nOPIs: CI Schmidt\, CI de Mahy.
URL:https://872rcacs.ca/event/biathlon-team-practice/
LOCATION:Connaught Cadet Training Centre\, 1 Lewis Gun Rd\, Nepean\, Ontario\, K2K 3K3\, Canada
END:VEVENT
BEGIN:VEVENT
DTSTART;TZID=America/Toronto:20241116T083000
DTEND;TZID=America/Toronto:20241116T120000
DTSTAMP:20260423T180727
CREATED:20241109T184259Z
LAST-MODIFIED:20241116T025817Z
UID:10000085-1731745800-1731758400@872rcacs.ca
SUMMARY:872 Marksmanship Practice - New Location Final Tryout
DESCRIPTION:This Saturday\, the Marksmanship Team will have its final tryout at Connaught Ranges from 830am to 12pm. Visit the Marksmanship Channel on Teams to verify your name is on the list. If it is\, report to the indoor range at 5 Brouillette\, Connaught Ranges at 9am. \n\nQuestions\, please contact the Marksmanship coach on Teams. \n  \nOPI: Lt. Espinosa-Padilla
URL:https://872rcacs.ca/event/marksmanship-practice-tba/
LOCATION:Connaught Cadet Training Centre\, 1 Lewis Gun Rd\, Nepean\, Ontario\, K2K 3K3\, Canada
END:VEVENT
BEGIN:VEVENT
DTSTART;TZID=America/Toronto:20241119T190000
DTEND;TZID=America/Toronto:20241119T210000
DTSTAMP:20260423T180727
CREATED:20240928T005907Z
LAST-MODIFIED:20241023T234414Z
UID:10000049-1732042800-1732050000@872rcacs.ca
SUMMARY:872 Ceremonial Drill and Colour Party Practice *CHANGE IN VENUE
DESCRIPTION:PLEASE NOTE THE CHANGE IN VENUE FOR THIS EVENING! \nOpen to all levels\, drill practice is held every Tuesday* evening from 19h00 to 21h00 in the Glen Cairn Public School gymnasium. \n*check calendar and Teams before every week for updates on venue changes or cancellations.
URL:https://872rcacs.ca/event/872-ceremonial-drill-and-colour-party-practice-2/
LOCATION:Tony Graham Recreational Complex (Upper Hall A)\, 100 Charlie Rogers Place\, Kanata\, Ontario\, K2V1A2\, Canada
END:VEVENT
BEGIN:VEVENT
DTSTART;TZID=America/Toronto:20241120T183000
DTEND;TZID=America/Toronto:20241120T211500
DTSTAMP:20260423T180727
CREATED:20240928T005007Z
LAST-MODIFIED:20241002T211304Z
UID:10000046-1732127400-1732137300@872rcacs.ca
SUMMARY:872 Training Night
DESCRIPTION:Order of Dress \n\n\nComposition \n\n\nAuthorized Clothing Accoutrements and Accessories \n\n\n\n\n\n\n\nC5 \n\n\n\nBeret / turban with Air Cadet headdress insignia\, toque or wide-brimmed tan summer hat.\nField shirt.\nRank slip-ons.\nEnvironmental (blue) / squadron / CTC t-shirt.\nField pants and belt.\nSocks.\nMulti-Purpose Boots (alternative footwear may be authorized when necessary based on the activity).\n\n\n\n\nAppointment or rank brassard.\nNametape optional.\nLanyard. May be worn to indicate nominations to particular positions at the corps / CTC.\n\nNote: \n\nMay be worn under the all-season jacket.\nShirt may be worn with sleeves extended or rolled above the elbows.
URL:https://872rcacs.ca/event/872-training-night-7/
LOCATION:A.Y. Jackson High School\, 150 Abbeyhill Dr\, Kanata\, Ontario\, K2L 1H7\, Canada
END:VEVENT
END:VCALENDAR