BEGIN:VCALENDAR
VERSION:2.0
PRODID:-//872 Kiwanis Kanata Royal Canadian Air Cadet Squadron - ECPv6.15.20//NONSGML v1.0//EN
CALSCALE:GREGORIAN
METHOD:PUBLISH
X-ORIGINAL-URL:https://872rcacs.ca
X-WR-CALDESC:Events for 872 Kiwanis Kanata Royal Canadian Air Cadet Squadron
REFRESH-INTERVAL;VALUE=DURATION:PT1H
X-Robots-Tag:noindex
X-PUBLISHED-TTL:PT1H
BEGIN:VTIMEZONE
TZID:America/Toronto
BEGIN:DAYLIGHT
TZOFFSETFROM:-0500
TZOFFSETTO:-0400
TZNAME:EDT
DTSTART:20230312T070000
END:DAYLIGHT
BEGIN:STANDARD
TZOFFSETFROM:-0400
TZOFFSETTO:-0500
TZNAME:EST
DTSTART:20231105T060000
END:STANDARD
BEGIN:DAYLIGHT
TZOFFSETFROM:-0500
TZOFFSETTO:-0400
TZNAME:EDT
DTSTART:20240310T070000
END:DAYLIGHT
BEGIN:STANDARD
TZOFFSETFROM:-0400
TZOFFSETTO:-0500
TZNAME:EST
DTSTART:20241103T060000
END:STANDARD
BEGIN:DAYLIGHT
TZOFFSETFROM:-0500
TZOFFSETTO:-0400
TZNAME:EDT
DTSTART:20250309T070000
END:DAYLIGHT
BEGIN:STANDARD
TZOFFSETFROM:-0400
TZOFFSETTO:-0500
TZNAME:EST
DTSTART:20251102T060000
END:STANDARD
END:VTIMEZONE
BEGIN:VEVENT
DTSTART;TZID=America/Toronto:20240904T183000
DTEND;TZID=America/Toronto:20240904T210000
DTSTAMP:20260423T121124
CREATED:20240829T015516Z
LAST-MODIFIED:20240829T023807Z
UID:10000006-1725474600-1725483600@872rcacs.ca
SUMMARY:Level 4/5 Registration Night
DESCRIPTION:Level 4/5 registration. Please bring all required documentation and a parent or legal guardian.
URL:https://872rcacs.ca/event/level-4-5-registration-night/
LOCATION:John G. Mlacak Community Centre\, 2500 Campeau Dr\, Kanata\, Ontario\, K2K 2W3\, Canada
END:VEVENT
BEGIN:VEVENT
DTSTART;TZID=America/Toronto:20240906T183000
DTEND;TZID=America/Toronto:20240906T203000
DTSTAMP:20260423T121124
CREATED:20240903T124414Z
LAST-MODIFIED:20240903T124608Z
UID:10000010-1725647400-1725654600@872rcacs.ca
SUMMARY:Supply Night
DESCRIPTION:The week of September 6 will be open to level 4 and 5 cadets. If you require new sizes\, exchange of your old uniform items are required. Please email Supply with any questions.
URL:https://872rcacs.ca/event/supply-night/
LOCATION:DYMON Storage Kanata\, 110 Didsbury Rd.\, Kanata\, Ontario\, K2T 0C2\, Canada
ORGANIZER;CN="2Lt GINN":MAILTO:supply 872rcacs.ca
END:VEVENT
BEGIN:VEVENT
DTSTART;TZID=America/Toronto:20240911T183000
DTEND;TZID=America/Toronto:20240911T213000
DTSTAMP:20260423T121124
CREATED:20240829T020103Z
LAST-MODIFIED:20240829T023700Z
UID:10000007-1726079400-1726090200@872rcacs.ca
SUMMARY:Level 2/3 Registration Night
DESCRIPTION:Level 2/3 registration night. Please bring all required information. A parent or legal guardian must accompany their cadet.
URL:https://872rcacs.ca/event/level-2-3-registration-night/
LOCATION:John G. Mlacak Community Centre\, 2500 Campeau Dr\, Kanata\, Ontario\, K2K 2W3\, Canada
END:VEVENT
BEGIN:VEVENT
DTSTART;TZID=America/Toronto:20240913T183000
DTEND;TZID=America/Toronto:20240913T203000
DTSTAMP:20260423T121124
CREATED:20240903T125035Z
LAST-MODIFIED:20240903T125035Z
UID:10000011-1726252200-1726259400@872rcacs.ca
SUMMARY:Supply Night
DESCRIPTION:The week of September 13 is open to level 2 and 3 cadets. Any upgrades in size require exchange of your old uniform items. If you have questions\, please email Supply.
URL:https://872rcacs.ca/event/supply-night-2/
LOCATION:DYMON Storage Kanata\, 110 Didsbury Rd.\, Kanata\, Ontario\, K2T 0C2\, Canada
ORGANIZER;CN="2Lt GINN":MAILTO:supply 872rcacs.ca
END:VEVENT
BEGIN:VEVENT
DTSTART;TZID=America/Toronto:20240918T183000
DTEND;TZID=America/Toronto:20240918T203000
DTSTAMP:20260423T121124
CREATED:20240829T020703Z
LAST-MODIFIED:20250831T162745Z
UID:10000008-1726684200-1726691400@872rcacs.ca
SUMMARY:New Recruit Registration Night (By Invitation Only)
DESCRIPTION:Due to capacity limitations\, registration is NOT OPEN for general drop in this year. Families who completed the registration forms online and who have received a confirmation invitation email to attend on Wednesday September 17\, please bring all required documentation outlined in the email. A parent or legal guardian must accompany their cadet. \nAnyone who has not received a confirmation email\, your application is being held on a wait list and you will be contacted when the squadron has availability. \nAll returning cadets (level 2 and up) are expected to attend the first training night. Order of dress is C5. \n  \n  \n 
URL:https://872rcacs.ca/event/open-registration-night/
LOCATION:A.Y. Jackson High School\, 150 Abbeyhill Dr\, Kanata\, Ontario\, K2L 1H7\, Canada
END:VEVENT
BEGIN:VEVENT
DTSTART;TZID=America/Toronto:20240918T183000
DTEND;TZID=America/Toronto:20240918T213000
DTSTAMP:20260423T121124
CREATED:20240829T020957Z
LAST-MODIFIED:20240829T023734Z
UID:10000009-1726684200-1726695000@872rcacs.ca
SUMMARY:Training Night
DESCRIPTION:First training night for all levels.
URL:https://872rcacs.ca/event/training-night/
LOCATION:A.Y. Jackson High School\, 150 Abbeyhill Dr\, Kanata\, Ontario\, K2L 1H7\, Canada
END:VEVENT
BEGIN:VEVENT
DTSTART;TZID=America/Toronto:20240920T183000
DTEND;TZID=America/Toronto:20240920T200000
DTSTAMP:20260423T121124
CREATED:20240927T202217Z
LAST-MODIFIED:20240927T202217Z
UID:10000026-1726857000-1726862400@872rcacs.ca
SUMMARY:872 Supply Night
DESCRIPTION:Questions or comments\, message Supply on Teams or send an email. \nPlease only one parent and cadet per visit. (Space is limited!) \nRemember to return your unused uniform items. The next cadet to use them thanks you! \n 
URL:https://872rcacs.ca/event/872-supply-night-3/
LOCATION:DYMON Storage Kanata\, 110 Didsbury Rd.\, Kanata\, Ontario\, K2T 0C2\, Canada
ORGANIZER;CN="2Lt GINN":MAILTO:supply 872rcacs.ca
END:VEVENT
BEGIN:VEVENT
DTSTART;TZID=America/Toronto:20240925T183000
DTEND;TZID=America/Toronto:20240925T213000
DTSTAMP:20260423T121124
CREATED:20240925T230840Z
LAST-MODIFIED:20240925T230933Z
UID:10000013-1727289000-1727299800@872rcacs.ca
SUMMARY:872 Training Night
DESCRIPTION:Sports Night!\nCasual/athletic wear.
URL:https://872rcacs.ca/event/872-training-night/
LOCATION:A.Y. Jackson High School\, 150 Abbeyhill Dr\, Kanata\, Ontario\, K2L 1H7\, Canada
END:VEVENT
BEGIN:VEVENT
DTSTART;TZID=America/Toronto:20240927T183000
DTEND;TZID=America/Toronto:20240927T200000
DTSTAMP:20260423T121124
CREATED:20240927T195852Z
LAST-MODIFIED:20240927T195852Z
UID:10000021-1727461800-1727467200@872rcacs.ca
SUMMARY:872 Supply Night
DESCRIPTION:Questions or comments\, please contact Supply through Teams or the Supply email address. Please remember to return any uniform parts you are no longer using. Thank you!
URL:https://872rcacs.ca/event/872-supply-night/
LOCATION:DYMON Storage Kanata\, 110 Didsbury Rd.\, Kanata\, Ontario\, K2T 0C2\, Canada
ORGANIZER;CN="2Lt GINN":MAILTO:supply 872rcacs.ca
END:VEVENT
BEGIN:VEVENT
DTSTART;TZID=America/Toronto:20240928T080000
DTEND;TZID=America/Toronto:20240928T160000
DTSTAMP:20260423T121124
CREATED:20240927T184420Z
LAST-MODIFIED:20240927T195626Z
UID:10000016-1727510400-1727539200@872rcacs.ca
SUMMARY:Marksmanship Day
DESCRIPTION:Marksmanship will take place at Connaught Ranges\, in Kanata this Saturday at the outdoor range behind 1 Brouilette Blvd.\n\nOnly show up for the timing that you have signed up for\, as we cannot accommodate additional cadets in the full shifts.\n\nBe sure to enter Connaught Range using Rifle Road via Shirley’s Bay. Some GPS systems will try to direct you to take March Valley Road\, but that gate is typically locked and unmanned.\n\nThank you!\n\nCaptain / capitaine Johanna Graham\nBasic Officer Training Course\, e-Learning Facilitator\nCanadian Armed Forces
URL:https://872rcacs.ca/event/marksmanship-day/
LOCATION:Connaught Cadet Training Centre\, 1 Lewis Gun Rd\, Nepean\, Ontario\, K2K 3K3\, Canada
END:VEVENT
BEGIN:VEVENT
DTSTART;TZID=America/Toronto:20241002T183000
DTEND;TZID=America/Toronto:20241002T211500
DTSTAMP:20260423T121124
CREATED:20240925T232006Z
LAST-MODIFIED:20241002T210722Z
UID:10000014-1727893800-1727903700@872rcacs.ca
SUMMARY:872 Training Night CO's Parade
DESCRIPTION:Order of Dress: UPDATED! Please wear C3b \n\n\n\n\n\nC3B \n\n\n\nWedge / turban with Air Cadet headdress insignia.\nCloth cap badge.\nElemental dress shirt.\nTrousers.\nBelt.\nBoots.\nSocks.\nRibbons.\nCloth or metal glider / power pilot badge\n\n\n\n\nName tag.\nSlip–ons on dress shirt.\n\n\n\n\n\n 
URL:https://872rcacs.ca/event/872-training-night-cos-parade/
LOCATION:A.Y. Jackson High School\, 150 Abbeyhill Dr\, Kanata\, Ontario\, K2L 1H7\, Canada
END:VEVENT
BEGIN:VEVENT
DTSTART;TZID=America/Toronto:20241003T190000
DTEND;TZID=America/Toronto:20241003T210000
DTSTAMP:20260423T121124
CREATED:20240925T225941Z
LAST-MODIFIED:20240926T005521Z
UID:10000012-1727982000-1727989200@872rcacs.ca
SUMMARY:872 Band Practice
DESCRIPTION:Regular practice nights for all instruments. \nOPI: Maj. Johnston
URL:https://872rcacs.ca/event/872-band-practice/
LOCATION:Glen Cairn Community Centre (Upper Hall)\, 190 Morrena Rd.\, Kanata\, Ontario\, K2L 1E1\, Canada
CATEGORIES:BAND
END:VEVENT
BEGIN:VEVENT
DTSTART;TZID=America/Toronto:20241004T183000
DTEND;TZID=America/Toronto:20241004T200000
DTSTAMP:20260423T121124
CREATED:20240927T200121Z
LAST-MODIFIED:20240927T200121Z
UID:10000022-1728066600-1728072000@872rcacs.ca
SUMMARY:872 Supply Night
DESCRIPTION:Questions or comments\, please contact Supply through Teams or via the Supply email address. Please remember to return any uniform parts you are no longer using! The next cadet to use them thanks you! \n 
URL:https://872rcacs.ca/event/872-supply-night-2/
LOCATION:DYMON Storage Kanata\, 110 Didsbury Rd.\, Kanata\, Ontario\, K2T 0C2\, Canada
ORGANIZER;CN="2Lt GINN":MAILTO:supply 872rcacs.ca
END:VEVENT
BEGIN:VEVENT
DTSTART;TZID=America/Toronto:20241008T190000
DTEND;TZID=America/Toronto:20241008T210000
DTSTAMP:20260423T121124
CREATED:20240927T192441Z
LAST-MODIFIED:20240927T233508Z
UID:10000018-1728414000-1728421200@872rcacs.ca
SUMMARY:872 Ceremonial Drill and Colour Party Practice
DESCRIPTION:Open to all levels\, drill practice is held every Tuesday* evening from 19h00 to 21h00 in the Glen Cairn Public School gymnasium. \n*check calendar and Teams before every week for updates on venue changes or cancellations.
URL:https://872rcacs.ca/event/872-ceremonial-drill-and-colour-parade-practice/
LOCATION:Glen Cairn Public School Gymnasium\, 182 Morrena Rd\, Kanata\, Ontario\, K2L 1E1\, Canada
END:VEVENT
BEGIN:VEVENT
DTSTART;TZID=America/Toronto:20241009T183000
DTEND;TZID=America/Toronto:20241009T211500
DTSTAMP:20260423T121124
CREATED:20240927T200513Z
LAST-MODIFIED:20241002T210811Z
UID:10000023-1728498600-1728508500@872rcacs.ca
SUMMARY:872 Training Night
DESCRIPTION:Order of Dress: C5 \n\n\n\n\nOrder of Dress \n\n\nComposition \n\n\nAuthorized Clothing Accoutrements and Accessories \n\n\n\n\n\n\n\nC5 \n\n\n\nBeret / turban  with Air Cadet headdress insigna\, toque or wide-brimmed tan summer hat.\nField shirt.\nRank slip-ons.\nEnvironmental (blue) / squadron / CTC t-shirt.\nField pants and belt.\nSocks.\nMulti-Purpose Boots (alternative footwear may be authorized when necessary based on the activity).\n\n\n\n\nAppointment or rank brassard.\nNametape optional.\nLanyard. May be worn to indicate nominations to particular positions at the corps / CTC.\n\nNote: \n\nMay be worn under the all-season jacket.\nShirt may be worn with sleeves extended or rolled above the elbows.
URL:https://872rcacs.ca/event/872-training-night-3/
LOCATION:A.Y. Jackson High School\, 150 Abbeyhill Dr\, Kanata\, Ontario\, K2L 1H7\, Canada
END:VEVENT
BEGIN:VEVENT
DTSTART;TZID=America/Toronto:20241009T184500
DTEND;TZID=America/Toronto:20241009T200000
DTSTAMP:20260423T121124
CREATED:20240928T003422Z
LAST-MODIFIED:20240928T003422Z
UID:10000042-1728499500-1728504000@872rcacs.ca
SUMMARY:872 Sponsoring Committee Monthly Meeting
DESCRIPTION:Monthly Committee Meeting. All parents are welcome! \nRoom to be announced\, please check the white board at arrival.
URL:https://872rcacs.ca/event/872-sponsoring-committee-monthly-meeting/
LOCATION:A.Y. Jackson High School\, 150 Abbeyhill Dr\, Kanata\, Ontario\, K2L 1H7\, Canada
ORGANIZER;CN="Susan Trimble%2C Vice Chairperson":MAILTO:872.chairperson@cadetsair.ca
END:VEVENT
BEGIN:VEVENT
DTSTART;TZID=America/Toronto:20241010T190000
DTEND;TZID=America/Toronto:20241010T210000
DTSTAMP:20260423T121124
CREATED:20240927T224833Z
LAST-MODIFIED:20240927T231741Z
UID:10000030-1728586800-1728594000@872rcacs.ca
SUMMARY:872 Band Practice
DESCRIPTION:Regular band practice for all instruments. Check Teams for news and updates from the Drum Major and Band O. \n\n  \n  \n 
URL:https://872rcacs.ca/event/872-band-practice-4/
LOCATION:Glen Cairn Community Centre (Upper Hall)\, 190 Morrena Rd.\, Kanata\, Ontario\, K2L 1E1\, Canada
END:VEVENT
BEGIN:VEVENT
DTSTART;TZID=America/Toronto:20241011T183000
DTEND;TZID=America/Toronto:20241011T200000
DTSTAMP:20260423T121124
CREATED:20240927T232320Z
LAST-MODIFIED:20240927T232614Z
UID:10000031-1728671400-1728676800@872rcacs.ca
SUMMARY:872 Supply Night
DESCRIPTION:Questions or comments\, please contact the Supply team on Teams or by email. \nPlease remember to return any unused uniform items. The next cadet to use them thanks you! \n  \n 
URL:https://872rcacs.ca/event/872-supply-night-4/
LOCATION:DYMON Storage Kanata\, 110 Didsbury Rd.\, Kanata\, Ontario\, K2T 0C2\, Canada
ORGANIZER;CN="2Lt GINN":MAILTO:supply 872rcacs.ca
END:VEVENT
BEGIN:VEVENT
DTSTART;TZID=America/Toronto:20241015T190000
DTEND;TZID=America/Toronto:20241015T210000
DTSTAMP:20260423T121124
CREATED:20240927T223339Z
LAST-MODIFIED:20240927T233407Z
UID:10000028-1729018800-1729026000@872rcacs.ca
SUMMARY:872 Ceremonial Drill and Colour Party Practice
DESCRIPTION:Open to all levels\, drill practice is held every Tuesday* evening from 19h00 to 21h00 in the Glen Cairn Public School gymnasium. \n*check calendar and Teams before every week for updates on venue changes or cancellations.
URL:https://872rcacs.ca/event/872-band-practice-3/
LOCATION:Glen Cairn Public School Gymnasium\, 182 Morrena Rd\, Kanata\, Ontario\, K2L 1E1\, Canada
END:VEVENT
BEGIN:VEVENT
DTSTART;TZID=America/Toronto:20241016T183000
DTEND;TZID=America/Toronto:20241016T211500
DTSTAMP:20260423T121124
CREATED:20240927T194435Z
LAST-MODIFIED:20241002T210906Z
UID:10000019-1729103400-1729113300@872rcacs.ca
SUMMARY:872 Training Night
DESCRIPTION:Order of Dress: C5 \n\n\n\n\nOrder of Dress \n\n\nComposition \n\n\nAuthorized Clothing Accoutrements and Accessories \n\n\n\n\n\nC5 \n \n\n\n\nBeret / turban with Air Cadet headdress insigna\, toque or wide-brimmed tan summer hat.\nField shirt.\nRank slip-ons.\nEnvironmental (blue) / squadron / CTC t-shirt.\nField pants and belt.\nSocks.\nMulti-Purpose Boots (alternative footwear may be authorized when necessary based on the activity).\n\n\n\n\nAppointment or rank brassard.\nNametape optional.\nLanyard. May be worn to indicate nominations to particular positions at the corps / CTC.\n\nNote: \n\nMay be worn under the all-season jacket.\nShirt may be worn with sleeves extended or rolled above the elbows.\n\n\n\n\n\n  \n 
URL:https://872rcacs.ca/event/872-training-night-2/
LOCATION:A.Y. Jackson High School\, 150 Abbeyhill Dr\, Kanata\, Ontario\, K2L 1H7\, Canada
END:VEVENT
BEGIN:VEVENT
DTSTART;TZID=America/Toronto:20241017T190000
DTEND;TZID=America/Toronto:20241017T210000
DTSTAMP:20260423T121124
CREATED:20240927T233703Z
LAST-MODIFIED:20240927T233703Z
UID:10000033-1729191600-1729198800@872rcacs.ca
SUMMARY:872 Band Practice
DESCRIPTION:Regular band practice for all instruments. Check Teams for news and updates from the Drum Major and Band O. \n\n  \n  \n 
URL:https://872rcacs.ca/event/872-band-practice-5/
LOCATION:Glen Cairn Community Centre (Upper Hall)\, 190 Morrena Rd.\, Kanata\, Ontario\, K2L 1E1\, Canada
END:VEVENT
BEGIN:VEVENT
DTSTART;TZID=America/Toronto:20241018T183000
DTEND;TZID=America/Toronto:20241018T200000
DTSTAMP:20260423T121124
CREATED:20240927T232443Z
LAST-MODIFIED:20240927T232443Z
UID:10000032-1729276200-1729281600@872rcacs.ca
SUMMARY:872 Supply Night
DESCRIPTION:Question or comments\, please contact Supply on Teams of by email. \nRemember to return your unused uniform items. The next cadet thanks you!
URL:https://872rcacs.ca/event/872-supply-night-5/
LOCATION:DYMON Storage Kanata\, 110 Didsbury Rd.\, Kanata\, Ontario\, K2T 0C2\, Canada
ORGANIZER;CN="2Lt GINN":MAILTO:supply 872rcacs.ca
END:VEVENT
BEGIN:VEVENT
DTSTART;TZID=America/Toronto:20241019T080000
DTEND;TZID=America/Toronto:20241019T170000
DTSTAMP:20260423T121124
CREATED:20240928T001654Z
LAST-MODIFIED:20240928T001654Z
UID:10000039-1729324800-1729357200@872rcacs.ca
SUMMARY:872 Gliding Day - Rescheduled
DESCRIPTION:Gliding Day is tentatively rescheduled for Saturday\, October 19. This event is strictly weather dependant. Please check Teams for sign up details and on the evening and morning of the event\, for last-minute cancellations.
URL:https://872rcacs.ca/event/872-gliding-day-rescheduled/
LOCATION:Montague Airport\, 100 Van Exan Rd\, Smith Falls\, Ontario\, K7A 4S6\, Canada
END:VEVENT
BEGIN:VEVENT
DTSTART;TZID=America/Toronto:20241019T090000
DTEND;TZID=America/Toronto:20241019T120000
DTSTAMP:20260423T121124
CREATED:20241018T000559Z
LAST-MODIFIED:20241018T012757Z
UID:10000076-1729328400-1729339200@872rcacs.ca
SUMMARY:Biathlon Practice
DESCRIPTION:This first practice is for returning biathlon athletes only. Dress for the weather\, bring water and snacks. \nConnaught Ranges (Rifle Rd. via Shirley’s Bay entrance)\, meet at the cadet ranges near 5 Brouillette (see map below) 9am to 12pm. \nTry-outs to fill the remaining spots will be held at a later date. Announcements with details to be communicated soon. \nQuestions or comments\, please contact Team Captain on Teams.
URL:https://872rcacs.ca/event/biathlon-practice/
LOCATION:Connaught Cadet Training Centre\, 1 Lewis Gun Rd\, Nepean\, Ontario\, K2K 3K3\, Canada
ORGANIZER;CN="CI de Mahy":MAILTO:genevieve.demahy@cadets.gc.ca
END:VEVENT
BEGIN:VEVENT
DTSTART;TZID=America/Toronto:20241020T093000
DTEND;TZID=America/Toronto:20241020T140000
DTSTAMP:20260423T121124
CREATED:20240928T002219Z
LAST-MODIFIED:20241015T124442Z
UID:10000040-1729416600-1729432800@872rcacs.ca
SUMMARY:Annual Ottawa Squadrons Walkathon
DESCRIPTION:Walk along fellow squadrons and raise funds to help cadets fly!  \nJoin fellow cadets from 51\, 75\, 211 and 706 squadrons for the 10K walk-a-thon taking place Sunday\, October 20 at the Terry Fox Training Facility at 2690 Riverside Dr. All proceeds help raise funds toward Air Cadet special activities\, such as power familiarization flights and so much more. \n9:30am check-in \n10:00am walk starts \nThere will be a BBQ afterwards\, all proceeds going towards our fundraiser. \nReach out to family and friends for pledges! Use the QR code or send them the url to help them pledge donations toward your goal. \nIf you have questions\, please email our chair\, Susan\, at: 872.chairperson@cadetsair.ca \nWe hope to see you there! \nSquadron Sponsoring Committee
URL:https://872rcacs.ca/event/annual-ottawa-squadrons-walkathon/
LOCATION:Terry Fox Athletic Facility\, 2960 Riverside Drive\, Ottawa\, Ontario\, K1V 8N4\, Canada
ATTACH;FMTTYPE=image/jpeg:https://872rcacs.ca/wp-content/uploads/2024/09/Walk-a-thon-Flyer.jpg
ORGANIZER;CN="Susan Trimble%2C Vice Chairperson":MAILTO:872.chairperson@cadetsair.ca
END:VEVENT
BEGIN:VEVENT
DTSTART;TZID=America/Toronto:20241022T190000
DTEND;TZID=America/Toronto:20241022T210000
DTSTAMP:20260423T121124
CREATED:20240927T223241Z
LAST-MODIFIED:20240927T233258Z
UID:10000027-1729623600-1729630800@872rcacs.ca
SUMMARY:872 Ceremonial Drill and Colour Party Practice
DESCRIPTION:Open to all levels\, drill practice is held every Tuesday* evening from 19h00 to 21h00 in the Glen Cairn Public School gymnasium. \n*check calendar and Teams before every week for updates on venue changes or cancellations.
URL:https://872rcacs.ca/event/872-band-practice-2/
LOCATION:Glen Cairn Public School Gymnasium\, 182 Morrena Rd\, Kanata\, Ontario\, K2L 1E1\, Canada
END:VEVENT
BEGIN:VEVENT
DTSTART;TZID=America/Toronto:20241023T183000
DTEND;TZID=America/Toronto:20241023T211500
DTSTAMP:20260423T121124
CREATED:20240927T201335Z
LAST-MODIFIED:20241002T211005Z
UID:10000024-1729708200-1729718100@872rcacs.ca
SUMMARY:872 Training Night
DESCRIPTION:Order of Dress: C5 \n\n\n\n\nOrder of Dress \n\n\nComposition \n\n\nAuthorized Clothing Accoutrements and Accessories \n\n\n\n\n\n\n\nC5 \n\n\n\nBeret / turban with Air Cadet headdress insigna\, toque or wide-brimmed tan summer hat.\nField shirt.\nRank slip-ons.\nEnvironmental (blue) / squadron / CTC t-shirt.\nField pants and belt.\nSocks.\nMulti-Purpose Boots (alternative footwear may be authorized when necessary based on the activity).\n\n\n\n\nAppointment or rank brassard.\nNametape optional.\nLanyard. May be worn to indicate nominations to particular positions at the corps / CTC.\n\nNote: \n\nMay be worn under the all-season jacket.\nShirt may be worn with sleeves extended or rolled above the elbows.
URL:https://872rcacs.ca/event/872-training-night-4/
LOCATION:A.Y. Jackson High School\, 150 Abbeyhill Dr\, Kanata\, Ontario\, K2L 1H7\, Canada
END:VEVENT
BEGIN:VEVENT
DTSTART;TZID=America/Toronto:20241024T190000
DTEND;TZID=America/Toronto:20241024T210000
DTSTAMP:20260423T121124
CREATED:20240927T233804Z
LAST-MODIFIED:20240927T233804Z
UID:10000034-1729796400-1729803600@872rcacs.ca
SUMMARY:872 Band Practice
DESCRIPTION:Regular band practice for all instruments. Check Teams for news and updates from the Drum Major and Band O. \n\n  \n  \n 
URL:https://872rcacs.ca/event/872-band-practice-6/
LOCATION:Glen Cairn Community Centre (Upper Hall)\, 190 Morrena Rd.\, Kanata\, Ontario\, K2L 1E1\, Canada
END:VEVENT
BEGIN:VEVENT
DTSTART;TZID=America/Toronto:20241025T173000
DTEND;TZID=America/Toronto:20241027T160000
DTSTAMP:20260423T121124
CREATED:20240927T190948Z
LAST-MODIFIED:20241024T173135Z
UID:10000017-1729877400-1730044800@872rcacs.ca
SUMMARY:872 FTX (Field Training Exercise)
DESCRIPTION:Overnight camp and air crew survival training weekend at Camp Smitty\, Eganville. \nCadets who submitted permission forms are to report to A.Y. Jackson for 17h45 (5:45pm) SHARP to board the busses. \nDetails and sign up forms will be communicated on Teams and in announcements ahead of the event. \n\n \n\n\n\n  \nThank you to the Squadron Sponsoring Committee volunteers who donate their time to help squadron staff make this event possible.
URL:https://872rcacs.ca/event/872-ftx-field-training-exercise/
LOCATION:Camp Smitty\, 95 Mink Lake Rd\, Eganville\, Ontario\, K0J 1T0\, Canada
END:VEVENT
BEGIN:VEVENT
DTSTART;TZID=America/Toronto:20241025T183000
DTEND;TZID=America/Toronto:20241025T200000
DTSTAMP:20260423T121125
CREATED:20240927T234304Z
LAST-MODIFIED:20240927T234409Z
UID:10000036-1729881000-1729886400@872rcacs.ca
SUMMARY:NO SUPPLY NIGHT
DESCRIPTION:Due to Fall FTX weekend\, there is NO SUPPLY night on Friday October 25.
URL:https://872rcacs.ca/event/no-supply/
LOCATION:ON
END:VEVENT
END:VCALENDAR