BEGIN:VCALENDAR
VERSION:2.0
PRODID:-//872 Kiwanis Kanata Royal Canadian Air Cadet Squadron - ECPv6.15.20//NONSGML v1.0//EN
CALSCALE:GREGORIAN
METHOD:PUBLISH
X-WR-CALNAME:872 Kiwanis Kanata Royal Canadian Air Cadet Squadron
X-ORIGINAL-URL:https://872rcacs.ca
X-WR-CALDESC:Events for 872 Kiwanis Kanata Royal Canadian Air Cadet Squadron
REFRESH-INTERVAL;VALUE=DURATION:PT1H
X-Robots-Tag:noindex
X-PUBLISHED-TTL:PT1H
BEGIN:VTIMEZONE
TZID:America/Toronto
BEGIN:DAYLIGHT
TZOFFSETFROM:-0500
TZOFFSETTO:-0400
TZNAME:EDT
DTSTART:20230312T070000
END:DAYLIGHT
BEGIN:STANDARD
TZOFFSETFROM:-0400
TZOFFSETTO:-0500
TZNAME:EST
DTSTART:20231105T060000
END:STANDARD
BEGIN:DAYLIGHT
TZOFFSETFROM:-0500
TZOFFSETTO:-0400
TZNAME:EDT
DTSTART:20240310T070000
END:DAYLIGHT
BEGIN:STANDARD
TZOFFSETFROM:-0400
TZOFFSETTO:-0500
TZNAME:EST
DTSTART:20241103T060000
END:STANDARD
BEGIN:DAYLIGHT
TZOFFSETFROM:-0500
TZOFFSETTO:-0400
TZNAME:EDT
DTSTART:20250309T070000
END:DAYLIGHT
BEGIN:STANDARD
TZOFFSETFROM:-0400
TZOFFSETTO:-0500
TZNAME:EST
DTSTART:20251102T060000
END:STANDARD
BEGIN:DAYLIGHT
TZOFFSETFROM:-0500
TZOFFSETTO:-0400
TZNAME:EDT
DTSTART:20260308T070000
END:DAYLIGHT
BEGIN:STANDARD
TZOFFSETFROM:-0400
TZOFFSETTO:-0500
TZNAME:EST
DTSTART:20261101T060000
END:STANDARD
END:VTIMEZONE
BEGIN:VEVENT
DTSTART;TZID=America/Toronto:20250130T070000
DTEND;TZID=America/Toronto:20250130T210000
DTSTAMP:20260425T104150
CREATED:20250124T001744Z
LAST-MODIFIED:20250124T001744Z
UID:10000131-1738220400-1738270800@872rcacs.ca
SUMMARY:872 Band Practice
DESCRIPTION:Regular band practice for all instruments. Check Teams for news and updates from the Drum Major and Band O.
URL:https://872rcacs.ca/event/872-band-practice-17/
LOCATION:Glen Cairn Community Centre (Upper Hall)\, 190 Morrena Rd.\, Kanata\, Ontario\, K2L 1E1\, Canada
END:VEVENT
BEGIN:VEVENT
DTSTART;TZID=America/Toronto:20250128T190000
DTEND;TZID=America/Toronto:20250128T210000
DTSTAMP:20260425T104151
CREATED:20241219T195421Z
LAST-MODIFIED:20241219T195421Z
UID:10000109-1738090800-1738098000@872rcacs.ca
SUMMARY:872 Ceremonial Drill Team and Flag Party Practice
DESCRIPTION:Open to all levels\, drill practice is held every Tuesday* evening from 19h00 to 21h00 in the Glen Cairn Public School gymnasium. \n*check calendar and Teams before every week for updates on venue changes or cancellations.
URL:https://872rcacs.ca/event/872-ceremonial-drill-team-and-flag-party-practice-3/
LOCATION:Glen Cairn Public School Gymnasium\, 182 Morrena Rd\, Kanata\, Ontario\, K2L 1E1\, Canada
END:VEVENT
BEGIN:VEVENT
DTSTART;TZID=America/Toronto:20250127T183000
DTEND;TZID=America/Toronto:20250127T213000
DTSTAMP:20260425T104151
CREATED:20250123T222538Z
LAST-MODIFIED:20250123T222538Z
UID:10000121-1738002600-1738013400@872rcacs.ca
SUMMARY:872 Marksmanship Practice
DESCRIPTION:Marksmanship Practice at the Kanata Legion \n\n 
URL:https://872rcacs.ca/event/872-marksmanship-practice-5/
LOCATION:Royal Canadian Legion Branch 638\, 70 Hines Rd\, Kanata\, Ontario\, K2K 2M5\, Canada
END:VEVENT
BEGIN:VEVENT
DTSTART;TZID=America/Toronto:20250126T080000
DTEND;TZID=America/Toronto:20250126T170000
DTSTAMP:20260425T104151
CREATED:20250123T223124Z
LAST-MODIFIED:20250123T223200Z
UID:10000122-1737878400-1737910800@872rcacs.ca
SUMMARY:Eastern Region Biathlon Competitive Race
DESCRIPTION:The final race! Biathlon athletes be sure to pack your lunch\, water and warm clothes. Parking is restricted to P11\, parents may drop cadets off at the trail with equipment\, but must park at P11 and take the shuttle to the site if staying to watch. \nCheck Teams for all race timings and details. Good Luck\, Angry Unicorns! SKI FAST! SHOOT STRAIGHT!
URL:https://872rcacs.ca/event/eastern-region-biathlon-competitive-race/
LOCATION:Camp Fortune\, 300 Dunlop Rd\, Chelsea\, QC\, J9B 2N3\, Canada
END:VEVENT
BEGIN:VEVENT
DTSTART;TZID=America/Toronto:20250125T084500
DTEND;TZID=America/Toronto:20250125T120000
DTSTAMP:20260425T104151
CREATED:20250123T222340Z
LAST-MODIFIED:20250123T222340Z
UID:10000120-1737794700-1737806400@872rcacs.ca
SUMMARY:872 Marksmanship Practice
DESCRIPTION:Marksmanship Practice at 5 Brouillette (Connaught Ranges)
URL:https://872rcacs.ca/event/872-marksmanship-practice-4/
LOCATION:Connaught Cadet Training Centre\, 1 Lewis Gun Rd\, Nepean\, Ontario\, K2K 3K3\, Canada
END:VEVENT
BEGIN:VEVENT
DTSTART;TZID=America/Toronto:20250124T183000
DTEND;TZID=America/Toronto:20250124T200000
DTSTAMP:20260425T104151
CREATED:20250123T222108Z
LAST-MODIFIED:20250123T222130Z
UID:10000119-1737743400-1737748800@872rcacs.ca
SUMMARY:872 Supply Night
DESCRIPTION:This Friday we invite DELTA AND CHALLENGER FLIGHT first years to receive their DEUs (blue uniforms). Report to Dymon Storage Kanata at between 6:30pm to 8:00pm. \n  \nAny cadet who has been contacted for special orders can come to Dymon to pick it up\, no appointment required.
URL:https://872rcacs.ca/event/8021/
LOCATION:DYMON Storage Kanata\, 110 Didsbury Rd.\, Kanata\, Ontario\, K2T 0C2\, Canada
ORGANIZER;CN="2Lt GINN":MAILTO:supply 872rcacs.ca
END:VEVENT
BEGIN:VEVENT
DTSTART;TZID=America/Toronto:20250123T190000
DTEND;TZID=America/Toronto:20250123T210000
DTSTAMP:20260425T104151
CREATED:20250124T004152Z
LAST-MODIFIED:20250124T004152Z
UID:10000135-1737658800-1737666000@872rcacs.ca
SUMMARY:872 Band Practice - CXLD
DESCRIPTION:Band practice is cancelled for tonight due to exams. Study well and good luck! \nWe will resume next week.
URL:https://872rcacs.ca/event/872-band-practice-cxld/
LOCATION:Glen Cairn Community Centre (Upper Hall)\, 190 Morrena Rd.\, Kanata\, Ontario\, K2L 1E1\, Canada
END:VEVENT
BEGIN:VEVENT
DTSTART;TZID=America/Toronto:20250122T183000
DTEND;TZID=America/Toronto:20250122T213000
DTSTAMP:20260425T104151
CREATED:20241219T201001Z
LAST-MODIFIED:20241219T201001Z
UID:10000114-1737570600-1737581400@872rcacs.ca
SUMMARY:872 Training Night
DESCRIPTION:Order of Dress: C5 \n\n\n\n\nOrder of Dress \n\n\nComposition \n\n\nAuthorized Clothing Accoutrements and Accessories \n\n\n\n\n\n\n\nC5 \n\n\n\nBeret / turban with Air Cadet headdress insignia\, toque or wide-brimmed tan summer hat.\nField shirt.\nRank slip-ons.\nEnvironmental (blue) / squadron / CTC t-shirt.\nField pants and belt.\nSocks.\nMulti-Purpose Boots (alternative footwear may be authorized when necessary based on the activity).\n\n\n\n\nAppointment or rank brassard.\nNametape optional.\nLanyard. May be worn to indicate nominations to particular positions at the corps / CTC.\n\nNote: \n\nMay be worn under the all-season jacket.\nShirt may be worn with sleeves extended or rolled above the elbows.
URL:https://872rcacs.ca/event/872-training-night-11/
LOCATION:A.Y. Jackson High School\, 150 Abbeyhill Dr\, Kanata\, Ontario\, K2L 1H7\, Canada
END:VEVENT
BEGIN:VEVENT
DTSTART;TZID=America/Toronto:20250121T190000
DTEND;TZID=America/Toronto:20250121T210000
DTSTAMP:20260425T104151
CREATED:20241219T195322Z
LAST-MODIFIED:20241219T195322Z
UID:10000108-1737486000-1737493200@872rcacs.ca
SUMMARY:872 Ceremonial Drill Team and Flag Party Practice
DESCRIPTION:Open to all levels\, drill practice is held every Tuesday* evening from 19h00 to 21h00 in the Glen Cairn Public School gymnasium. \n*check calendar and Teams before every week for updates on venue changes or cancellations.
URL:https://872rcacs.ca/event/872-ceremonial-drill-team-and-flag-party-practice-2/
LOCATION:Glen Cairn Public School Gymnasium\, 182 Morrena Rd\, Kanata\, Ontario\, K2L 1E1\, Canada
END:VEVENT
BEGIN:VEVENT
DTSTART;TZID=America/Toronto:20250120T183000
DTEND;TZID=America/Toronto:20250120T203000
DTSTAMP:20260425T104151
CREATED:20250116T022222Z
LAST-MODIFIED:20250116T022222Z
UID:10000116-1737397800-1737405000@872rcacs.ca
SUMMARY:872 Marksmanship Practice
DESCRIPTION:Second Marksmanship Practice at the Kanata Legion
URL:https://872rcacs.ca/event/872-marksmanship-practice-3/
LOCATION:Royal Canadian Legion Branch 638\, 70 Hines Rd\, Kanata\, Ontario\, K2K 2M5\, Canada
END:VEVENT
BEGIN:VEVENT
DTSTART;TZID=America/Toronto:20250118T084500
DTEND;TZID=America/Toronto:20250118T113000
DTSTAMP:20260425T104151
CREATED:20250116T022050Z
LAST-MODIFIED:20250116T022050Z
UID:10000115-1737189900-1737199800@872rcacs.ca
SUMMARY:872 Marksmanship Practice
DESCRIPTION:Marksmanship Practice at 5 Brouillette (Connaught Ranges)
URL:https://872rcacs.ca/event/872-marksmanship-practice-2/
LOCATION:Connaught Cadet Training Centre\, 1 Lewis Gun Rd\, Nepean\, Ontario\, K2K 3K3\, Canada
END:VEVENT
BEGIN:VEVENT
DTSTART;TZID=America/Toronto:20250118T080000
DTEND;TZID=America/Toronto:20250118T143000
DTSTAMP:20260425T104151
CREATED:20241212T170801Z
LAST-MODIFIED:20241212T170801Z
UID:10000099-1737187200-1737210600@872rcacs.ca
SUMMARY:872 Biathlon Team - Live Fire Practice
DESCRIPTION:This week’s practice will be at Camp Fortune’s\, Chelsea Nordiq venue for a live fire practice\, using the facilities ski trails and range. Bring a lunch\, water\, change of mitts/gloves and ALL equipment. Remember to dress for the forest! \nMeet at the entrance to the trails (parking lot at the back) at 8:00am sharp – as we have to walk in as a team. \nOPIs: CI Schmidt\, CI de Mahy \n\n 
URL:https://872rcacs.ca/event/872-biathlon-team-live-fire-practice-3/
LOCATION:Camp Fortune\, 300 Dunlop Rd\, Chelsea\, QC\, J9B 2N3\, Canada
END:VEVENT
BEGIN:VEVENT
DTSTART;TZID=America/Toronto:20250117T183000
DTEND;TZID=America/Toronto:20250117T200000
DTSTAMP:20260425T104151
CREATED:20250116T022457Z
LAST-MODIFIED:20250116T022457Z
UID:10000117-1737138600-1737144000@872rcacs.ca
SUMMARY:872 Supply Night
DESCRIPTION:This Friday we invite BRISTOL FLIGHT first years to receive their DEUs (blue uniforms). Report to Dymon Storage Kanata at between 6:30pm to 8:00pm. \n  \nAny cadet who has been contacted for special orders can come to Dymon to pick it up\, no appointment required.
URL:https://872rcacs.ca/event/872-supply-night-14/
LOCATION:DYMON Storage Kanata\, 110 Didsbury Rd.\, Kanata\, Ontario\, K2T 0C2\, Canada
ORGANIZER;CN="2Lt GINN":MAILTO:supply 872rcacs.ca
END:VEVENT
BEGIN:VEVENT
DTSTART;TZID=America/Toronto:20250116T190000
DTEND;TZID=America/Toronto:20250116T210000
DTSTAMP:20260425T104151
CREATED:20250116T022716Z
LAST-MODIFIED:20250116T022716Z
UID:10000118-1737054000-1737061200@872rcacs.ca
SUMMARY:872 Band Practice
DESCRIPTION:Regular band practice for all instruments. Check Teams for news and updates from the Drum Major and Band O.
URL:https://872rcacs.ca/event/872-band-practice-16/
LOCATION:Glen Cairn Community Centre (Upper Hall)\, 190 Morrena Rd.\, Kanata\, Ontario\, K2L 1E1\, Canada
END:VEVENT
BEGIN:VEVENT
DTSTART;TZID=America/Toronto:20250115T183000
DTEND;TZID=America/Toronto:20250115T213000
DTSTAMP:20260425T104151
CREATED:20241219T200240Z
LAST-MODIFIED:20250202T010929Z
UID:10000113-1736965800-1736976600@872rcacs.ca
SUMMARY:872 Training Night
DESCRIPTION:Order of Dress: C5 \n\n\n\n\nOrder of Dress \n\n\nComposition \n\n\nAuthorized Clothing Accoutrements and Accessories \n\n\n\n\n\n\n\nC5 \n\n\n\nBeret / turban with Air Cadet headdress insignia\, toque or wide-brimmed tan summer hat.\nField shirt.\nRank slip-ons.\nEnvironmental (blue) / squadron / CTC t-shirt.\nField pants and belt.\nSocks.\nMulti-Purpose Boots (alternative footwear may be authorized when necessary based on the activity).\n\n\n\n\nAppointment or rank brassard.\nNametape optional.\nLanyard. May be worn to indicate nominations to particular positions at the corps / CTC.\n\nNote: \n\nMay be worn under the all-season jacket.\nShirt may be worn with sleeves extended or rolled above the elbows.
URL:https://872rcacs.ca/event/872-training-night-10/
LOCATION:A.Y. Jackson High School\, 150 Abbeyhill Dr\, Kanata\, Ontario\, K2L 1H7\, Canada
END:VEVENT
BEGIN:VEVENT
DTSTART;TZID=America/Toronto:20250114T190000
DTEND;TZID=America/Toronto:20250114T210000
DTSTAMP:20260425T104151
CREATED:20241219T195233Z
LAST-MODIFIED:20241219T195233Z
UID:10000107-1736881200-1736888400@872rcacs.ca
SUMMARY:872 Ceremonial Drill Team and Flag Practice Party
DESCRIPTION:Open to all levels\, drill practice is held every Tuesday* evening from 19h00 to 21h00 in the Glen Cairn Public School gymnasium. \n*check calendar and Teams before every week for updates on venue changes or cancellations.
URL:https://872rcacs.ca/event/872-ceremonial-drill-team-and-flag-practice-party/
LOCATION:Glen Cairn Public School Gymnasium\, 182 Morrena Rd\, Kanata\, Ontario\, K2L 1E1\, Canada
END:VEVENT
BEGIN:VEVENT
DTSTART;TZID=America/Toronto:20250111T080000
DTEND;TZID=America/Toronto:20250111T143000
DTSTAMP:20260425T104151
CREATED:20241212T170959Z
LAST-MODIFIED:20241212T170959Z
UID:10000100-1736582400-1736605800@872rcacs.ca
SUMMARY:872 Biathlon - Live Fire Practice
DESCRIPTION:This week’s practice will be at Camp Fortune’s\, Chelsea Nordiq venue for a live fire practice\, using the facilities ski trails and range. Bring a lunch\, water\, change of mitts/gloves and ALL equipment. Remember to dress for the forest! \nMeet at the entrance to the trails (parking lot at the back) at 8:00am sharp – as we have to walk in as a team. \nOPIs: CI Schmidt\, CI de Mahy \n\n 
URL:https://872rcacs.ca/event/872-biathlon-live-fire-practice/
LOCATION:Camp Fortune\, 300 Dunlop Rd\, Chelsea\, QC\, J9B 2N3\, Canada
END:VEVENT
BEGIN:VEVENT
DTSTART;TZID=America/Toronto:20250111T080000
DTEND;TZID=America/Toronto:20250111T120000
DTSTAMP:20260425T104151
CREATED:20241219T194907Z
LAST-MODIFIED:20241219T194907Z
UID:10000106-1736582400-1736596800@872rcacs.ca
SUMMARY:872 Competitive Marksmanship Team Practice
DESCRIPTION:Marksmanship team practice will resume at Connaught Ranges from 845am to 1200pm.
URL:https://872rcacs.ca/event/872-competitive-marksmanship-team-practice/
LOCATION:Connaught Cadet Training Centre\, 1 Lewis Gun Rd\, Nepean\, Ontario\, K2K 3K3\, Canada
END:VEVENT
BEGIN:VEVENT
DTSTART;TZID=America/Toronto:20250110T183000
DTEND;TZID=America/Toronto:20250110T200000
DTSTAMP:20260425T104151
CREATED:20241219T194624Z
LAST-MODIFIED:20241219T194647Z
UID:10000105-1736533800-1736539200@872rcacs.ca
SUMMARY:872 Supply Night
DESCRIPTION:Supply night for all cadets who require assistance with their uniforms. 6:30pm to 8:00pm. \nIf you’ve ordered boots\, do NOT come to Dymon unless you’ve been contacted by the Supply O. (special order takes a while) \nQuestions should be directed to the Supply Crew on Teams. \n\n  \n 
URL:https://872rcacs.ca/event/872-supply-night-13/
LOCATION:DYMON Storage Kanata\, 110 Didsbury Rd.\, Kanata\, Ontario\, K2T 0C2\, Canada
ORGANIZER;CN="2Lt GINN":MAILTO:supply 872rcacs.ca
END:VEVENT
BEGIN:VEVENT
DTSTART;TZID=America/Toronto:20250109T190000
DTEND;TZID=America/Toronto:20250109T210000
DTSTAMP:20260425T104151
CREATED:20241219T194208Z
LAST-MODIFIED:20241219T194208Z
UID:10000104-1736449200-1736456400@872rcacs.ca
SUMMARY:872 Band Practice
DESCRIPTION:Regular band practice for all instruments. Check Teams for news and updates from the Drum Major and Band O.
URL:https://872rcacs.ca/event/872-band-practice-15/
LOCATION:Glen Cairn Community Centre (Upper Hall)\, 190 Morrena Rd.\, Kanata\, Ontario\, K2L 1E1\, Canada
END:VEVENT
BEGIN:VEVENT
DTSTART;TZID=America/Toronto:20250107T190000
DTEND;TZID=America/Toronto:20250107T210000
DTSTAMP:20260425T104151
CREATED:20241219T193451Z
LAST-MODIFIED:20241219T193451Z
UID:10000102-1736276400-1736283600@872rcacs.ca
SUMMARY:872 Ceremonial Drill Team and Flag Party Practice
DESCRIPTION:Open to all levels\, drill practice is held every Tuesday* evening from 19h00 to 21h00 in the Glen Cairn Public School gymnasium. \n*check calendar and Teams before every week for updates on venue changes or cancellations.
URL:https://872rcacs.ca/event/872-ceremonial-drill-team-and-flag-party-practice/
LOCATION:Glen Cairn Public School Gymnasium\, 182 Morrena Rd\, Kanata\, Ontario\, K2L 1E1\, Canada
END:VEVENT
BEGIN:VEVENT
DTSTART;VALUE=DATE:20241223
DTEND;VALUE=DATE:20250105
DTSTAMP:20260425T104151
CREATED:20240928T012023Z
LAST-MODIFIED:20240928T012023Z
UID:10000059-1734912000-1736035199@872rcacs.ca
SUMMARY:Winter Break - No Events
DESCRIPTION:872 Squadron will stand down between December 23 to January 4\, inclusively. There is no training or special activities planned over this period. \nWe wish all cadets and their families a safe\, joyful and peaceful winter break. We look froward to welcoming cadets back in January for another great year of activities and events in 2025!
URL:https://872rcacs.ca/event/winter-break-no-events/
LOCATION:Ontario
END:VEVENT
BEGIN:VEVENT
DTSTART;TZID=America/Toronto:20241221T080000
DTEND;TZID=America/Toronto:20241221T120000
DTSTAMP:20260425T104151
CREATED:20241219T193032Z
LAST-MODIFIED:20241219T193032Z
UID:10000101-1734768000-1734782400@872rcacs.ca
SUMMARY:872 Marksmanship Team Practice - Kanata Legion
DESCRIPTION:Marksmanship Practice This Saturday\, December 21 \nFor the same cadets invited the last two weeks\, Marksmanship practice will continue this week at the Kanata Legion\, 70 Hines Rd\, from 8am to 12pm. \nPlease direct questions to the Marksmanship channel on Teams.
URL:https://872rcacs.ca/event/872-marksmanship-team-practice-kanata-legion/
LOCATION:Royal Canadian Legion Branch 638\, 70 Hines Rd\, Kanata\, Ontario\, K2K 2M5\, Canada
END:VEVENT
BEGIN:VEVENT
DTSTART;TZID=America/Toronto:20241219T190000
DTEND;TZID=America/Toronto:20241219T210000
DTSTAMP:20260425T104151
CREATED:20240928T011411Z
LAST-MODIFIED:20241218T211026Z
UID:10000058-1734634800-1734642000@872rcacs.ca
SUMMARY:CXLD - 872 Band Practice Cancelled!
DESCRIPTION:Band practice for this Thursday\, December 19 is cancelled. We will see everyone in the new year! \nBand O. Maj. Johnston \n  \nRegular band practice for all instruments. Check Teams for news and updates from the Drum Major and Band O.
URL:https://872rcacs.ca/event/872-band-practice-14/
LOCATION:Glen Cairn Community Centre (Upper Hall)\, 190 Morrena Rd.\, Kanata\, Ontario\, K2L 1E1\, Canada
END:VEVENT
BEGIN:VEVENT
DTSTART;TZID=America/Toronto:20241218T183000
DTEND;TZID=America/Toronto:20241218T210000
DTSTAMP:20260425T104151
CREATED:20240928T013210Z
LAST-MODIFIED:20241218T213520Z
UID:10000065-1734546600-1734555600@872rcacs.ca
SUMMARY:872 Winter Social at the Kanata Legion
DESCRIPTION:There is no training at AY Jackson for Wednesday\, December 18. Please join us at the Kanata Legion\, 70 Hines Rd. for a festive party!
URL:https://872rcacs.ca/event/872-winter-social-tbc/
LOCATION:Royal Canadian Legion Branch 638\, 70 Hines Rd\, Kanata\, Ontario\, K2K 2M5\, Canada
END:VEVENT
BEGIN:VEVENT
DTSTART;TZID=America/Toronto:20241217T190000
DTEND;TZID=America/Toronto:20241217T210000
DTSTAMP:20260425T104151
CREATED:20240928T012925Z
LAST-MODIFIED:20241109T192018Z
UID:10000064-1734462000-1734469200@872rcacs.ca
SUMMARY:872 Ceremonial Drill and Colour Party Practice
DESCRIPTION:Open to all levels\, drill practice is held every Tuesday* evening from 19h00 to 21h00 in the Glen Cairn Public School gymnasium. \n*check calendar and Teams before every week for updates on venue changes or cancellations.
URL:https://872rcacs.ca/event/872-ceremonial-drill-and-colour-party-pracitce/
LOCATION:Glen Cairn Public School Gymnasium\, 182 Morrena Rd\, Kanata\, Ontario\, K2L 1E1\, Canada
END:VEVENT
BEGIN:VEVENT
DTSTART;TZID=America/Toronto:20241214T140000
DTEND;TZID=America/Toronto:20241214T170000
DTSTAMP:20260425T104151
CREATED:20241210T210305Z
LAST-MODIFIED:20241210T210305Z
UID:10000097-1734184800-1734195600@872rcacs.ca
SUMMARY:872 Baking Day!
DESCRIPTION:Join us for baking fun at the Stittsville Lions Club (1339 Stittsville Main) from 14:00 to 17:00 for baking activities. \nCheck Teams to sign up for this event so we know how many to plan for in supplies.
URL:https://872rcacs.ca/event/872-baking-day/
LOCATION:Stittsville District Lions Club\, 1339 Stittsville Main Street\, Stittsville\, Ontario\, K2S 1C6\, Canada
END:VEVENT
BEGIN:VEVENT
DTSTART;TZID=America/Toronto:20241214T084500
DTEND;TZID=America/Toronto:20241214T120000
DTSTAMP:20260425T104151
CREATED:20241210T194206Z
LAST-MODIFIED:20241210T194310Z
UID:10000095-1734165900-1734177600@872rcacs.ca
SUMMARY:872 Marksmanship Practice
DESCRIPTION:Competitive Marksmanship Practice this Saturday\, 8:45am to 12:00pm at Connaught Ranges\, (5 Brouillette building). \nAny questions\, contact Lt. Espinosa-Padilla on Teams. \n\n 
URL:https://872rcacs.ca/event/872-marksmanship-practice/
LOCATION:Connaught Cadet Training Centre\, 1 Lewis Gun Rd\, Nepean\, Ontario\, K2K 3K3\, Canada
END:VEVENT
BEGIN:VEVENT
DTSTART;TZID=America/Toronto:20241214T080000
DTEND;TZID=America/Toronto:20241214T143000
DTSTAMP:20260425T104151
CREATED:20241109T190815Z
LAST-MODIFIED:20241212T165952Z
UID:10000088-1734163200-1734186600@872rcacs.ca
SUMMARY:872 Biathlon Team - Live Fire Practice
DESCRIPTION:This week’s practice will be at Camp Fortune’s\, Chelsea Nordiq venue for a live fire practice\, using the facilities ski trails and range. Bring a lunch\, water\, change of mitts/gloves and ALL equipment. Remember to dress for the forest! \nMeet at the entrance to the trails (parking lot at the back) at 8:00am sharp – as we have to walk in as a team. \nOPIs: CI Schmidt\, CI de Mahy \n  \n\n\n 
URL:https://872rcacs.ca/event/872-biathlon-team-live-fire-practice/
LOCATION:Camp Fortune\, 300 Dunlop Rd\, Chelsea\, QC\, J9B 2N3\, Canada
END:VEVENT
BEGIN:VEVENT
DTSTART;TZID=America/Toronto:20241213T183000
DTEND;TZID=America/Toronto:20241213T200000
DTSTAMP:20260425T104151
CREATED:20240928T014105Z
LAST-MODIFIED:20241212T164911Z
UID:10000071-1734114600-1734120000@872rcacs.ca
SUMMARY:872 Supply Night - Final Before Break
DESCRIPTION:This will be the final Supply Night before the Winter Break. \n  \nIf you are waiting for boots\, DO NOT come to supply unless Supply O has been in touch with you. (Special order items take longer). \n  \nQuestions or comments\, please contact Supply on Teams or via email. \nPlease remember to return your unused uniform items. The next cadet thanks you!
URL:https://872rcacs.ca/event/872-supply-night-12/
LOCATION:DYMON Storage Kanata\, 110 Didsbury Rd.\, Kanata\, Ontario\, K2T 0C2\, Canada
ORGANIZER;CN="2Lt GINN":MAILTO:supply 872rcacs.ca
END:VEVENT
END:VCALENDAR