BEGIN:VCALENDAR
VERSION:2.0
PRODID:-//872 Kiwanis Kanata Royal Canadian Air Cadet Squadron - ECPv6.15.20//NONSGML v1.0//EN
CALSCALE:GREGORIAN
METHOD:PUBLISH
X-ORIGINAL-URL:https://872rcacs.ca
X-WR-CALDESC:Events for 872 Kiwanis Kanata Royal Canadian Air Cadet Squadron
REFRESH-INTERVAL;VALUE=DURATION:PT1H
X-Robots-Tag:noindex
X-PUBLISHED-TTL:PT1H
BEGIN:VTIMEZONE
TZID:America/Toronto
BEGIN:DAYLIGHT
TZOFFSETFROM:-0500
TZOFFSETTO:-0400
TZNAME:EDT
DTSTART:20240310T070000
END:DAYLIGHT
BEGIN:STANDARD
TZOFFSETFROM:-0400
TZOFFSETTO:-0500
TZNAME:EST
DTSTART:20241103T060000
END:STANDARD
BEGIN:DAYLIGHT
TZOFFSETFROM:-0500
TZOFFSETTO:-0400
TZNAME:EDT
DTSTART:20250309T070000
END:DAYLIGHT
BEGIN:STANDARD
TZOFFSETFROM:-0400
TZOFFSETTO:-0500
TZNAME:EST
DTSTART:20251102T060000
END:STANDARD
BEGIN:DAYLIGHT
TZOFFSETFROM:-0500
TZOFFSETTO:-0400
TZNAME:EDT
DTSTART:20260308T070000
END:DAYLIGHT
BEGIN:STANDARD
TZOFFSETFROM:-0400
TZOFFSETTO:-0500
TZNAME:EST
DTSTART:20261101T060000
END:STANDARD
BEGIN:DAYLIGHT
TZOFFSETFROM:-0500
TZOFFSETTO:-0400
TZNAME:EDT
DTSTART:20270314T070000
END:DAYLIGHT
BEGIN:STANDARD
TZOFFSETFROM:-0400
TZOFFSETTO:-0500
TZNAME:EST
DTSTART:20271107T060000
END:STANDARD
END:VTIMEZONE
BEGIN:VEVENT
DTSTART;TZID=America/Toronto:20250813T183000
DTEND;TZID=America/Toronto:20250813T210000
DTSTAMP:20260423T145749
CREATED:20250710T155428Z
LAST-MODIFIED:20250810T055953Z
UID:10000231-1755109800-1755118800@872rcacs.ca
SUMMARY:SSC Budget Meeting
DESCRIPTION:  \nA focused session where the Sponsoring Committee reviews and approves the annual budget\, discusses funding priorities\, and plans financial support for squadron activities.
URL:https://872rcacs.ca/event/ssc-budget-meeting/
LOCATION:Buster’s Bar and Grill\, 420 Hazeldean Rd\, Kanata\, Ontario\, K2L 4B2\, Canada
CATEGORIES:SSC
ORGANIZER;CN="Susan Trimble%2C Vice Chairperson":MAILTO:872.chairperson@cadetsair.ca
END:VEVENT
BEGIN:VEVENT
DTSTART;TZID=America/Toronto:20250814T193000
DTEND;TZID=America/Toronto:20250814T210000
DTSTAMP:20260423T145749
CREATED:20250810T044637Z
LAST-MODIFIED:20250810T044951Z
UID:10000359-1755199800-1755205200@872rcacs.ca
SUMMARY:SSC and Staff Social
DESCRIPTION:  \nSquadron Sponsoring Committee (SSC) and Staff Social Event
URL:https://872rcacs.ca/event/ssc-and-staff-social/
LOCATION:Splittsville\, 255 Kanata Ave\, Kanata\, Ontario\, K2T 1K5\, Canada
CATEGORIES:SSC
ORGANIZER;CN="Susan Trimble%2C Vice Chairperson":MAILTO:872.chairperson@cadetsair.ca
END:VEVENT
BEGIN:VEVENT
DTSTART;TZID=America/Toronto:20250922T190000
DTEND;TZID=America/Toronto:20250922T190000
DTSTAMP:20260423T145749
CREATED:20250710T235631Z
LAST-MODIFIED:20250921T023550Z
UID:10000339-1758567600-1758567600@872rcacs.ca
SUMMARY:Parents Information Night
DESCRIPTION:  \n\n  \nThis information session provides parents and guardians with an overview of the cadet program\, an opportunity to meet our staff and volunteers\, and a chance to ask questions regarding training\, expectations and upcoming events. This is a great opportunity to get involved and stay informed about your cadet’s experience. \nPlease check back for details.
URL:https://872rcacs.ca/event/parents-night/
LOCATION:Maurice-Lapointe Elementary Public School\, 17 Bridgestone Dr\, Kanata\, ON\, K2M 0E9\, Canada
CATEGORIES:SSC
ORGANIZER;CN="Susan Trimble%2C Vice Chairperson":MAILTO:872.chairperson@cadetsair.ca
END:VEVENT
BEGIN:VEVENT
DTSTART;TZID=America/Toronto:20251001T190000
DTEND;TZID=America/Toronto:20251001T210000
DTSTAMP:20260423T145749
CREATED:20250710T183330Z
LAST-MODIFIED:20250912T032210Z
UID:10000238-1759345200-1759352400@872rcacs.ca
SUMMARY:SSC Meeting
DESCRIPTION:  \nJoin us at the Squadron Sponsoring Committee (SSC) meetings! These gatherings are an excellent way to connect with the cadet community\, hear important updates\, learn about financial planning\, and find out about upcoming events. Whether you simply want to listen in or discover how you can contribute to the program’s success\, this is a great way to stay informed and involved! \n  \nPlease check the whiteboard at the SCC table upon arrival for the meeting location.
URL:https://872rcacs.ca/event/ssc-meeting/
LOCATION:A.Y. Jackson High School\, 150 Abbeyhill Dr\, Kanata\, Ontario\, K2L 1H7\, Canada
CATEGORIES:SSC
ORGANIZER;CN="Susan Trimble%2C Vice Chairperson":MAILTO:872.chairperson@cadetsair.ca
END:VEVENT
BEGIN:VEVENT
DTSTART;TZID=America/Toronto:20251112T190000
DTEND;TZID=America/Toronto:20251112T210000
DTSTAMP:20260423T145749
CREATED:20250710T183620Z
LAST-MODIFIED:20250804T225159Z
UID:10000239-1762974000-1762981200@872rcacs.ca
SUMMARY:SSC Meeting
DESCRIPTION:  \nJoin us at the Squadron Sponsoring Committee (SSC) meetings! These gatherings are an excellent way to connect with the cadet community\, hear important updates\, learn about financial planning\, and find out about upcoming events. Whether you simply want to listen in or discover how you can contribute to the program’s success\, this is a great way to stay informed and involved! \n  \nPlease check the whiteboard at the SCC table upon arrival for the meeting location.
URL:https://872rcacs.ca/event/ssc-meeting-2/
LOCATION:A.Y. Jackson High School\, 150 Abbeyhill Dr\, Kanata\, Ontario\, K2L 1H7\, Canada
CATEGORIES:SSC
ORGANIZER;CN="Susan Trimble%2C Vice Chairperson":MAILTO:872.chairperson@cadetsair.ca
END:VEVENT
BEGIN:VEVENT
DTSTART;TZID=America/Toronto:20251210T190000
DTEND;TZID=America/Toronto:20251210T210000
DTSTAMP:20260423T145749
CREATED:20250710T183817Z
LAST-MODIFIED:20250804T231845Z
UID:10000240-1765393200-1765400400@872rcacs.ca
SUMMARY:SSC Meeting
DESCRIPTION:  \nJoin us at the Squadron Sponsoring Committee (SSC) meetings! These gatherings are an excellent way to connect with the cadet community\, hear important updates\, learn about financial planning\, and find out about upcoming events. Whether you simply want to listen in or discover how you can contribute to the program’s success\, this is a great way to stay informed and involved! \n  \nPlease check the whiteboard at the SCC table upon arrival for the meeting location.
URL:https://872rcacs.ca/event/ssc-meeting-3/
LOCATION:A.Y. Jackson High School\, 150 Abbeyhill Dr\, Kanata\, Ontario\, K2L 1H7\, Canada
CATEGORIES:SSC
ORGANIZER;CN="Susan Trimble%2C Vice Chairperson":MAILTO:872.chairperson@cadetsair.ca
END:VEVENT
BEGIN:VEVENT
DTSTART;TZID=America/Toronto:20260114T190000
DTEND;TZID=America/Toronto:20260114T210000
DTSTAMP:20260423T145749
CREATED:20250710T183901Z
LAST-MODIFIED:20250804T232354Z
UID:10000241-1768417200-1768424400@872rcacs.ca
SUMMARY:SSC Meeting
DESCRIPTION:  \nJoin us at the Squadron Sponsoring Committee (SSC) meetings! These gatherings are an excellent way to connect with the cadet community\, hear important updates\, learn about financial planning\, and find out about upcoming events. Whether you simply want to listen in or discover how you can contribute to the program’s success\, this is a great way to stay informed and involved! \n  \nPlease check the whiteboard at the SCC table upon arrival for the meeting location.
URL:https://872rcacs.ca/event/ssc-meeting-4/
LOCATION:A.Y. Jackson High School\, 150 Abbeyhill Dr\, Kanata\, Ontario\, K2L 1H7\, Canada
CATEGORIES:SSC
ORGANIZER;CN="Susan Trimble%2C Vice Chairperson":MAILTO:872.chairperson@cadetsair.ca
END:VEVENT
BEGIN:VEVENT
DTSTART;TZID=America/Toronto:20260128T183000
DTEND;TZID=America/Toronto:20260128T210000
DTSTAMP:20260423T145749
CREATED:20260124T183547Z
LAST-MODIFIED:20260124T183547Z
UID:10000848-1769625000-1769634000@872rcacs.ca
SUMMARY:872 Food Drive
DESCRIPTION:  \nPlease drop off non-perishable food items on Wednesday\, January 28th at AY Jackson Secondary School. Your donation will make a meaningful difference in our community. Thank you for your support!
URL:https://872rcacs.ca/event/872-food-drive/
LOCATION:A.Y. Jackson High School\, 150 Abbeyhill Dr\, Kanata\, Ontario\, K2L 1H7\, Canada
CATEGORIES:SSC
END:VEVENT
BEGIN:VEVENT
DTSTART;TZID=America/Toronto:20260211T190000
DTEND;TZID=America/Toronto:20260211T210000
DTSTAMP:20260423T145749
CREATED:20250710T183949Z
LAST-MODIFIED:20260124T234438Z
UID:10000242-1770836400-1770843600@872rcacs.ca
SUMMARY:SSC Meeting
DESCRIPTION:  \nJoin us at the Squadron Sponsoring Committee (SSC) meetings! These gatherings are an excellent way to connect with the cadet community\, hear important updates\, learn about financial planning\, and find out about upcoming events. All parents\, guardians and community members are welcome. Whether you simply want to listen in or discover how you can contribute to the program’s success\, this is a great way to stay informed and involved! \nPlease check the whiteboard at the SCC table upon arrival for the meeting location.
URL:https://872rcacs.ca/event/ssc-meeting-5/
LOCATION:A.Y. Jackson High School\, 150 Abbeyhill Dr\, Kanata\, Ontario\, K2L 1H7\, Canada
CATEGORIES:SSC
END:VEVENT
BEGIN:VEVENT
DTSTART;TZID=America/Toronto:20260307T173000
DTEND;TZID=America/Toronto:20260307T203000
DTSTAMP:20260423T145749
CREATED:20251019T030515Z
LAST-MODIFIED:20251019T032809Z
UID:10000364-1772904600-1772915400@872rcacs.ca
SUMMARY:Trivia Night for Parents and Guardians and Community Members
DESCRIPTION:Trivia Night 2026 \nJoin the  872 Squadron Sponsoring Committee for a Night of Fun~ \nParents\, guardians\, and community members are all invited to an evening of laughs\, friendly competition\, and great company at our 872 Trivia Night! Meet new people and support our squadron in a relaxed social setting.  \nPlease note: Cadets are not permitted to attend this event. Please bring your friends\, family and join the fun! \n\nContact SSC for details and to register for this great event!
URL:https://872rcacs.ca/event/trivia-night-for-parents-and-guardians-and-community-members/
LOCATION:Buster’s Bar and Grill\, 420 Hazeldean Rd\, Kanata\, Ontario\, K2L 4B2\, Canada
CATEGORIES:SSC
END:VEVENT
BEGIN:VEVENT
DTSTART;TZID=America/Toronto:20260311T184500
DTEND;TZID=America/Toronto:20260311T210000
DTSTAMP:20260423T145749
CREATED:20250710T184027Z
LAST-MODIFIED:20260124T235000Z
UID:10000243-1773254700-1773262800@872rcacs.ca
SUMMARY:SSC Meeting
DESCRIPTION:  \nJoin us at the Squadron Sponsoring Committee (SSC) meetings! These gatherings are an excellent way to connect with the cadet community\, hear important updates\, learn about financial planning\, and find out about upcoming events. All parents\, guardians and community members are welcome. Whether you simply want to listen in or discover how you can contribute to the program’s success\, this is a great way to stay informed and involved! \nPlease check the whiteboard at the SCC table upon arrival for the meeting location.
URL:https://872rcacs.ca/event/ssc-meeting-6/
LOCATION:A.Y. Jackson High School\, 150 Abbeyhill Dr\, Kanata\, Ontario\, K2L 1H7\, Canada
CATEGORIES:SSC
END:VEVENT
BEGIN:VEVENT
DTSTART;TZID=America/Toronto:20260415T184500
DTEND;TZID=America/Toronto:20260415T210000
DTSTAMP:20260423T145749
CREATED:20250710T190655Z
LAST-MODIFIED:20260407T215438Z
UID:10000245-1776278700-1776286800@872rcacs.ca
SUMMARY:SSC Meeting
DESCRIPTION:  \nJoin us at the Squadron Sponsoring Committee (SSC) meetings! These gatherings are an excellent way to connect with the cadet community\, hear important updates\, learn about financial planning\, and find out about upcoming events. All parents\, guardians and community members are welcome. Whether you simply want to listen in or discover how you can contribute to the program’s success\, this is a great way to stay informed and involved! \nPlease check the whiteboard at the SCC table upon arrival for the meeting location.
URL:https://872rcacs.ca/event/ssc-meeting-7/
LOCATION:A.Y. Jackson High School\, 150 Abbeyhill Dr\, Kanata\, Ontario\, K2L 1H7\, Canada
CATEGORIES:SSC
END:VEVENT
END:VCALENDAR