BEGIN:VCALENDAR
VERSION:2.0
PRODID:-//872 Kiwanis Kanata Royal Canadian Air Cadet Squadron - ECPv6.15.20//NONSGML v1.0//EN
CALSCALE:GREGORIAN
METHOD:PUBLISH
X-ORIGINAL-URL:https://872rcacs.ca
X-WR-CALDESC:Events for 872 Kiwanis Kanata Royal Canadian Air Cadet Squadron
REFRESH-INTERVAL;VALUE=DURATION:PT1H
X-Robots-Tag:noindex
X-PUBLISHED-TTL:PT1H
BEGIN:VTIMEZONE
TZID:America/Toronto
BEGIN:DAYLIGHT
TZOFFSETFROM:-0500
TZOFFSETTO:-0400
TZNAME:EDT
DTSTART:20250309T070000
END:DAYLIGHT
BEGIN:STANDARD
TZOFFSETFROM:-0400
TZOFFSETTO:-0500
TZNAME:EST
DTSTART:20251102T060000
END:STANDARD
BEGIN:DAYLIGHT
TZOFFSETFROM:-0500
TZOFFSETTO:-0400
TZNAME:EDT
DTSTART:20260308T070000
END:DAYLIGHT
BEGIN:STANDARD
TZOFFSETFROM:-0400
TZOFFSETTO:-0500
TZNAME:EST
DTSTART:20261101T060000
END:STANDARD
BEGIN:DAYLIGHT
TZOFFSETFROM:-0500
TZOFFSETTO:-0400
TZNAME:EDT
DTSTART:20270314T070000
END:DAYLIGHT
BEGIN:STANDARD
TZOFFSETFROM:-0400
TZOFFSETTO:-0500
TZNAME:EST
DTSTART:20271107T060000
END:STANDARD
END:VTIMEZONE
BEGIN:VEVENT
DTSTART;TZID=America/Toronto:20260407T190000
DTEND;TZID=America/Toronto:20260407T210000
DTSTAMP:20260423T195641
CREATED:20260324T035038Z
LAST-MODIFIED:20260324T041725Z
UID:10001466-1775588400-1775595600@872rcacs.ca
SUMMARY:872 Ceremonial Drill and Flag Party Practice
DESCRIPTION:  \n \n  \nAll cadets interested in joining the Drill Team are invited to attend weekly practices every Tuesday. \nDetails and updates will be posted on Teams. \n 
URL:https://872rcacs.ca/event/872-ceremonial-drill-and-flag-party-practice-7/2026-04-07/
LOCATION:Maplewood Secondary School\, 700 Cope Dr\, Ottawa\, Ontario\, K2S 2P8
CATEGORIES:DRILL
END:VEVENT
END:VCALENDAR