BEGIN:VCALENDAR
VERSION:2.0
PRODID:-//872 Kiwanis Kanata Royal Canadian Air Cadet Squadron - ECPv6.15.20//NONSGML v1.0//EN
CALSCALE:GREGORIAN
METHOD:PUBLISH
X-ORIGINAL-URL:https://872rcacs.ca
X-WR-CALDESC:Events for 872 Kiwanis Kanata Royal Canadian Air Cadet Squadron
REFRESH-INTERVAL;VALUE=DURATION:PT1H
X-Robots-Tag:noindex
X-PUBLISHED-TTL:PT1H
BEGIN:VTIMEZONE
TZID:America/Toronto
BEGIN:DAYLIGHT
TZOFFSETFROM:-0500
TZOFFSETTO:-0400
TZNAME:EDT
DTSTART:20240310T070000
END:DAYLIGHT
BEGIN:STANDARD
TZOFFSETFROM:-0400
TZOFFSETTO:-0500
TZNAME:EST
DTSTART:20241103T060000
END:STANDARD
BEGIN:DAYLIGHT
TZOFFSETFROM:-0500
TZOFFSETTO:-0400
TZNAME:EDT
DTSTART:20250309T070000
END:DAYLIGHT
BEGIN:STANDARD
TZOFFSETFROM:-0400
TZOFFSETTO:-0500
TZNAME:EST
DTSTART:20251102T060000
END:STANDARD
BEGIN:DAYLIGHT
TZOFFSETFROM:-0500
TZOFFSETTO:-0400
TZNAME:EDT
DTSTART:20260308T070000
END:DAYLIGHT
BEGIN:STANDARD
TZOFFSETFROM:-0400
TZOFFSETTO:-0500
TZNAME:EST
DTSTART:20261101T060000
END:STANDARD
END:VTIMEZONE
BEGIN:VEVENT
DTSTART;TZID=America/Toronto:20251017T173000
DTEND;TZID=America/Toronto:20251019T170000
DTSTAMP:20260423T203441
CREATED:20250810T101605Z
LAST-MODIFIED:20251003T034043Z
UID:10000360-1760722200-1760893200@872rcacs.ca
SUMMARY:872 FTX (Field Training Exercise)
DESCRIPTION:  \n872 Overnight camp and air crew survival training weekend \nPlease submit signed FTX permission forms and the $5 deposit to the SSC by Wednesday\, October 8\, 2025. \nSpace is limited! \nCadets with questions should be directed to contact their Flight Commanders on Teams\, and a reminder to all cadets to check the General chat regularly for updates and news! \n 
URL:https://872rcacs.ca/event/872-ftx-field-training-exercise-3/
LOCATION:ON
END:VEVENT
END:VCALENDAR