BEGIN:VCALENDAR
VERSION:2.0
PRODID:-//872 Kiwanis Kanata Royal Canadian Air Cadet Squadron - ECPv6.15.20//NONSGML v1.0//EN
CALSCALE:GREGORIAN
METHOD:PUBLISH
X-ORIGINAL-URL:https://872rcacs.ca
X-WR-CALDESC:Events for 872 Kiwanis Kanata Royal Canadian Air Cadet Squadron
REFRESH-INTERVAL;VALUE=DURATION:PT1H
X-Robots-Tag:noindex
X-PUBLISHED-TTL:PT1H
BEGIN:VTIMEZONE
TZID:America/Toronto
BEGIN:DAYLIGHT
TZOFFSETFROM:-0500
TZOFFSETTO:-0400
TZNAME:EDT
DTSTART:20240310T070000
END:DAYLIGHT
BEGIN:STANDARD
TZOFFSETFROM:-0400
TZOFFSETTO:-0500
TZNAME:EST
DTSTART:20241103T060000
END:STANDARD
BEGIN:DAYLIGHT
TZOFFSETFROM:-0500
TZOFFSETTO:-0400
TZNAME:EDT
DTSTART:20250309T070000
END:DAYLIGHT
BEGIN:STANDARD
TZOFFSETFROM:-0400
TZOFFSETTO:-0500
TZNAME:EST
DTSTART:20251102T060000
END:STANDARD
BEGIN:DAYLIGHT
TZOFFSETFROM:-0500
TZOFFSETTO:-0400
TZNAME:EDT
DTSTART:20260308T070000
END:DAYLIGHT
BEGIN:STANDARD
TZOFFSETFROM:-0400
TZOFFSETTO:-0500
TZNAME:EST
DTSTART:20261101T060000
END:STANDARD
END:VTIMEZONE
BEGIN:VEVENT
DTSTART;TZID=America/Toronto:20250425T183000
DTEND;TZID=America/Toronto:20250425T200000
DTSTAMP:20260425T093518
CREATED:20250410T003257Z
LAST-MODIFIED:20250410T003257Z
UID:10000187-1745605800-1745611200@872rcacs.ca
SUMMARY:872 Supply Night
DESCRIPTION:Supply Night is open to all cadets requiring help with their uniforms (upsizing\, parts\, etc.) \nDymon Storage Kanata\, 6:30pm to 8:00pm. \n  \n 
URL:https://872rcacs.ca/event/872-supply-night-25/
LOCATION:Connaught Cadet Training Centre\, 1 Lewis Gun Rd\, Nepean\, Ontario\, K2K 3K3\, Canada
ORGANIZER;CN="2Lt GINN":MAILTO:supply 872rcacs.ca
END:VEVENT
END:VCALENDAR