BEGIN:VCALENDAR
VERSION:2.0
PRODID:-//872 Kiwanis Kanata Royal Canadian Air Cadet Squadron - ECPv6.15.20//NONSGML v1.0//EN
CALSCALE:GREGORIAN
METHOD:PUBLISH
X-ORIGINAL-URL:https://872rcacs.ca
X-WR-CALDESC:Events for 872 Kiwanis Kanata Royal Canadian Air Cadet Squadron
REFRESH-INTERVAL;VALUE=DURATION:PT1H
X-Robots-Tag:noindex
X-PUBLISHED-TTL:PT1H
BEGIN:VTIMEZONE
TZID:America/Toronto
BEGIN:DAYLIGHT
TZOFFSETFROM:-0500
TZOFFSETTO:-0400
TZNAME:EDT
DTSTART:20240310T070000
END:DAYLIGHT
BEGIN:STANDARD
TZOFFSETFROM:-0400
TZOFFSETTO:-0500
TZNAME:EST
DTSTART:20241103T060000
END:STANDARD
BEGIN:DAYLIGHT
TZOFFSETFROM:-0500
TZOFFSETTO:-0400
TZNAME:EDT
DTSTART:20250309T070000
END:DAYLIGHT
BEGIN:STANDARD
TZOFFSETFROM:-0400
TZOFFSETTO:-0500
TZNAME:EST
DTSTART:20251102T060000
END:STANDARD
BEGIN:DAYLIGHT
TZOFFSETFROM:-0500
TZOFFSETTO:-0400
TZNAME:EDT
DTSTART:20260308T070000
END:DAYLIGHT
BEGIN:STANDARD
TZOFFSETFROM:-0400
TZOFFSETTO:-0500
TZNAME:EST
DTSTART:20261101T060000
END:STANDARD
END:VTIMEZONE
BEGIN:VEVENT
DTSTART;TZID=America/Toronto:20250305T190000
DTEND;TZID=America/Toronto:20250305T200000
DTSTAMP:20260425T224525
CREATED:20250202T012648Z
LAST-MODIFIED:20250212T215257Z
UID:10000140-1741201200-1741204800@872rcacs.ca
SUMMARY:Drones 3
DESCRIPTION:The Drone Training Program introduces cadets to the fundamentals of drone flight\, safety protocols\, mission planning\, and hands-on piloting skills. Through engaging activities and practical experience\, cadets will explore the exciting world of drones and gain knowledge aligned with Transport Canada regulations.
URL:https://872rcacs.ca/event/drones-3/
LOCATION:ON
CATEGORIES:DRONES
END:VEVENT
END:VCALENDAR