BEGIN:VCALENDAR
VERSION:2.0
PRODID:-//872 Kiwanis Kanata Royal Canadian Air Cadet Squadron - ECPv6.15.20//NONSGML v1.0//EN
CALSCALE:GREGORIAN
METHOD:PUBLISH
X-WR-CALNAME:872 Kiwanis Kanata Royal Canadian Air Cadet Squadron
X-ORIGINAL-URL:https://872rcacs.ca
X-WR-CALDESC:Events for 872 Kiwanis Kanata Royal Canadian Air Cadet Squadron
REFRESH-INTERVAL;VALUE=DURATION:PT1H
X-Robots-Tag:noindex
X-PUBLISHED-TTL:PT1H
BEGIN:VTIMEZONE
TZID:America/Toronto
BEGIN:DAYLIGHT
TZOFFSETFROM:-0500
TZOFFSETTO:-0400
TZNAME:EDT
DTSTART:20240310T070000
END:DAYLIGHT
BEGIN:STANDARD
TZOFFSETFROM:-0400
TZOFFSETTO:-0500
TZNAME:EST
DTSTART:20241103T060000
END:STANDARD
BEGIN:DAYLIGHT
TZOFFSETFROM:-0500
TZOFFSETTO:-0400
TZNAME:EDT
DTSTART:20250309T070000
END:DAYLIGHT
BEGIN:STANDARD
TZOFFSETFROM:-0400
TZOFFSETTO:-0500
TZNAME:EST
DTSTART:20251102T060000
END:STANDARD
BEGIN:DAYLIGHT
TZOFFSETFROM:-0500
TZOFFSETTO:-0400
TZNAME:EDT
DTSTART:20260308T070000
END:DAYLIGHT
BEGIN:STANDARD
TZOFFSETFROM:-0400
TZOFFSETTO:-0500
TZNAME:EST
DTSTART:20261101T060000
END:STANDARD
END:VTIMEZONE
BEGIN:VEVENT
DTSTART;TZID=America/Toronto:20250205T183000
DTEND;TZID=America/Toronto:20250205T211500
DTSTAMP:20260425T194406
CREATED:20250123T224040Z
LAST-MODIFIED:20260104T040334Z
UID:10000124-1738780200-1738790100@872rcacs.ca
SUMMARY:872 Training Night - CO's Parade
DESCRIPTION:  \nCO’s Parade for all cadets \n\nDetails and updates will be posted on Teams. \nOrder of Dress: C3
URL:https://872rcacs.ca/event/872-training-night-cos-parade-5/
LOCATION:A.Y. Jackson High School\, 150 Abbeyhill Dr\, Kanata\, Ontario\, K2L 1H7\, Canada
END:VEVENT
BEGIN:VEVENT
DTSTART;TZID=America/Toronto:20250205T190000
DTEND;TZID=America/Toronto:20250205T200000
DTSTAMP:20260425T194406
CREATED:20250202T005031Z
LAST-MODIFIED:20250212T215246Z
UID:10000136-1738782000-1738785600@872rcacs.ca
SUMMARY:Drones 1
DESCRIPTION:The Drone Training Program introduces cadets to the fundamentals of drone flight\, safety protocols\, mission planning\, and hands-on piloting skills. Through engaging activities and practical experience\, cadets will explore the exciting world of drones and gain knowledge aligned with Transport Canada regulations. \nFebruary 5 (1 Hour): Safety\, Rules\, and First Practice \nObjective: Introduce cadets to drone safety and rules\, then engage them with a hands-on flight experience to spark interest. \nContent: \n\nOverview of Canadian drone laws and safety regulations.\nA brief introduction to pre-flight checklists and preparation.\n\nActivity: \n\nHands-on drone practice: basic controls and simple maneuvers.\nDemonstration of a basic drone in flight.\nHomework: research and list three ways drones are used in different industries.
URL:https://872rcacs.ca/event/drones-1/
LOCATION:A.Y. Jackson High School\, 150 Abbeyhill Dr\, Kanata\, Ontario\, K2L 1H7\, Canada
CATEGORIES:DRONES
END:VEVENT
END:VCALENDAR